Workbook

Sheet GENERAL
D2: H9:H340
E3: OFFSHORE | S3: BASE
C4: NAME | D4: POSITION | E4: TOTAL | F4: JAN | G4: FEB | H4: MAR | I4: APR | J4: MAY | K4: JUNE | L4: JULY | M4: AUG | N4: SEPT | O4: OCT | P4: NOV | Q4: DEC | S4: TOTAL | T4: JAN | U4: FEB | V4: MAR | W4: APR | X4: MAY | Y4: JUNE | Z4: JULY | AA4: AUG | AB4: SEPT | AC4: OCT | AD4: NOV | AE4: DEC
B5: 1 | C5: Abdul Rahman B Kamal | D5: WMO Field Service Manager | E5: =SUM(F5:Q5) -> #REF! | F5: =COUNTIF(#REF!,Parameters!B4) -> #REF! | G5: =COUNTIF(#REF!,Parameters!B4) -> #REF! | H5: =COUNTIF(#REF!,Parameters!B4) -> #REF! | I5: =COUNTIF(#REF!,Parameters!B4) -> #REF! | J5: =COUNTIF(#REF!,Parameters!B4) -> #REF! | K5: =COUNTIF(#REF!,Parameters!B4) -> #REF! | L5: =COUNTIF(#REF!,Parameters!B4) -> #REF! | M5: =COUNTIF(#REF!,Parameters!B4) -> #REF! | N5: =COUNTIF(#REF!,Parameters!B4) -> #REF! | O5: =COUNTIF(#REF!,Parameters!B4) -> #REF! | S5: =SUM(T5:AE5) -> #REF! | T5: =COUNTIF(#REF!,Parameters!B4) -> #REF! | U5: =COUNTIF(#REF!,Parameters!B4) -> #REF! | V5: =COUNTIF(#REF!,Parameters!B4) -> #REF! | W5: =COUNTIF(#REF!,Parameters!B4) -> #REF! | X5: =COUNTIF(#REF!,Parameters!B4) -> #REF! | Y5: =COUNTIF(#REF!,Parameters!B4) -> #REF! | Z5: =COUNTIF(#REF!,Parameters!B4) -> #REF! | AA5: =COUNTIF(#REF!,Parameters!B4) -> #REF! | AB5: =COUNTIF(#REF!,Parameters!B4) -> #REF! | AC5: =COUNTIF(#REF!,Parameters!B4) -> #REF! | AD5: =COUNTIF(#REF!,Parameters!B4) -> #REF! | AE5: =COUNTIF(#REF!,Parameters!B4) -> #REF!
B6: 2 | C6: Mohd Ismady B Ismail | D6: Head of Perforation | E6: =SUM(F6:Q6) -> #REF! | F6: =COUNTIF(#REF!,Parameters!B5) -> #REF! | G6: =COUNTIF(#REF!,Parameters!B5) -> #REF! | H6: =COUNTIF(#REF!,Parameters!B5) -> #REF! | I6: =COUNTIF(#REF!,Parameters!B5) -> #REF! | J6: =COUNTIF(#REF!,Parameters!B5) -> #REF! | K6: =COUNTIF(#REF!,Parameters!B5) -> #REF! | L6: =COUNTIF(#REF!,Parameters!B5) -> #REF! | M6: =COUNTIF(#REF!,Parameters!B5) -> #REF! | N6: =COUNTIF(#REF!,Parameters!B5) -> #REF! | O6: =COUNTIF(#REF!,Parameters!B5) -> #REF! | S6: =SUM(T6:AE6) -> #REF! | T6: =COUNTIF(#REF!,Parameters!B5) -> #REF! | U6: =COUNTIF(#REF!,Parameters!B5) -> #REF! | V6: =COUNTIF(#REF!,Parameters!B5) -> #REF! | W6: =COUNTIF(#REF!,Parameters!B5) -> #REF! | X6: =COUNTIF(#REF!,Parameters!B5) -> #REF! | Y6: =COUNTIF(#REF!,Parameters!B5) -> #REF! | Z6: =COUNTIF(#REF!,Parameters!B5) -> #REF! | AA6: =COUNTIF(#REF!,Parameters!B5) -> #REF! | AB6: =COUNTIF(#REF!,Parameters!B5) -> #REF! | AC6: =COUNTIF(#REF!,Parameters!B5) -> #REF! | AD6: =COUNTIF(#REF!,Parameters!B5) -> #REF! | AE6: =COUNTIF(#REF!,Parameters!B5) -> #REF!
B7: 3 | C7: Mohd Aminul Fahmi B Ahmad Jalalin | D7: Operation Engineer | E7: =SUM(F7:Q7) -> #REF! | F7: =COUNTIF(#REF!,Parameters!#REF!) -> #REF! | G7: =COUNTIF(#REF!,Parameters!#REF!) -> #REF! | H7: =COUNTIF(#REF!,Parameters!#REF!) -> #REF! | I7: =COUNTIF(#REF!,Parameters!#REF!) -> #REF! | J7: =COUNTIF(#REF!,Parameters!#REF!) -> #REF! | K7: =COUNTIF(#REF!,Parameters!#REF!) -> #REF! | L7: =COUNTIF(#REF!,Parameters!#REF!) -> #REF! | M7: =COUNTIF(#REF!,Parameters!#REF!) -> #REF! | ... O7: =COUNTIF(#REF!,Parameters!#REF!) -> #REF! | S7: =SUM(T7:AE7) -> #REF! | T7: =COUNTIF(#REF!,Parameters!#REF!) -> #REF! | U7: =COUNTIF(#REF!,Parameters!#REF!) -> #REF! | V7: =COUNTIF(#REF!,Parameters!#REF!) -> #REF! | W7: =COUNTIF(#REF!,Parameters!#REF!) -> #REF! | X7: =COUNTIF(#REF!,Parameters!#REF!) -> #REF! | Y7: =COUNTIF(#REF!,Parameters!#REF!) -> #REF! | Z7: =COUNTIF(#REF!,Parameters!#REF!) -> #REF! | AA7: =COUNTIF(#REF!,Parameters!#REF!) -> #REF! | ... AE7: =COUNTIF(#REF!,Parameters!#REF!) -> #REF!
B8: 4 | C8: Mohd Ismail Shazli B Mohamad | D8: Snr. Field Engineer I | E8: =SUM(F8:Q8) -> #REF! | F8: =COUNTIF(#REF!,Parameters!B6) -> #REF! | G8: =COUNTIF(#REF!,Parameters!B6) -> #REF! | H8: =COUNTIF(#REF!,Parameters!B6) -> #REF! | I8: =COUNTIF(#REF!,Parameters!B7) -> #REF! | J8: =COUNTIF(#REF!,Parameters!B7) -> #REF! | K8: =COUNTIF(#REF!,Parameters!B7) -> #REF! | L8: =COUNTIF(#REF!,Parameters!B7) -> #REF! | M8: =COUNTIF(#REF!,Parameters!B7) -> #REF! | N8: =COUNTIF(#REF!,Parameters!B7) -> #REF! | O8: =COUNTIF(#REF!,Parameters!B7) -> #REF! | P8: =COUNTIF(#REF!,Parameters!B7) -> #REF! | Q8: =COUNTIF(#REF!,Parameters!B7) -> #REF! | S8: =SUM(T8:AE8) -> #REF! | T8: =COUNTIF(#REF!,Parameters!B6) -> #REF! | U8: =COUNTIF(#REF!,Parameters!B6) -> #REF! | V8: =COUNTIF(#REF!,Parameters!B6) -> #REF! | W8: =COUNTIF(#REF!,Parameters!B6) -> #REF! | X8: =COUNTIF(#REF!,Parameters!B6) -> #REF! | Y8: =COUNTIF(#REF!,Parameters!B6) -> #REF! | Z8: =COUNTIF(#REF!,Parameters!B6) -> #REF! | AA8: =COUNTIF(#REF!,Parameters!B6) -> #REF! | AB8: =COUNTIF(#REF!,Parameters!B6) -> #REF! | AC8: =COUNTIF(#REF!,Parameters!B6) -> #REF! | AD8: =COUNTIF(#REF!,Parameters!B6) -> #REF! | AE8: =COUNTIF(#REF!,Parameters!B6) -> #REF!
B9: 5 | C9: Mohd Azmi B Ahmad | D9: Snr. Field Engineer I | E9: =SUM(F9:Q9) -> #REF! | F9: =COUNTIF(#REF!,Parameters!B7) -> #REF! | G9: =COUNTIF(#REF!,Parameters!B7) -> #REF! | H9: =COUNTIF(#REF!,Parameters!B7) -> #REF! | I9: =COUNTIF(#REF!,Parameters!B8) -> #REF! | J9: =COUNTIF(#REF!,Parameters!B8) -> #REF! | K9: =COUNTIF(#REF!,Parameters!B8) -> #REF! | L9: =COUNTIF(#REF!,Parameters!B8) -> #REF! | M9: =COUNTIF(#REF!,Parameters!B8) -> #REF! | N9: =COUNTIF(#REF!,Parameters!B8) -> #REF! | O9: =COUNTIF(#REF!,Parameters!B8) -> #REF! | P9: =COUNTIF(#REF!,Parameters!B8) -> #REF! | Q9: =COUNTIF(#REF!,Parameters!B8) -> #REF! | S9: =SUM(T9:AE9) -> #REF! | T9: =COUNTIF(#REF!,Parameters!B7) -> #REF! | U9: =COUNTIF(#REF!,Parameters!B7) -> #REF! | V9: =COUNTIF(#REF!,Parameters!B7) -> #REF! | W9: =COUNTIF(#REF!,Parameters!B7) -> #REF! | X9: =COUNTIF(#REF!,Parameters!B7) -> #REF! | Y9: =COUNTIF(#REF!,Parameters!B7) -> #REF! | Z9: =COUNTIF(#REF!,Parameters!B7) -> #REF! | AA9: =COUNTIF(#REF!,Parameters!B7) -> #REF! | AB9: =COUNTIF(#REF!,Parameters!B7) -> #REF! | AC9: =COUNTIF(#REF!,Parameters!B7) -> #REF! | AD9: =COUNTIF(#REF!,Parameters!B7) -> #REF! | AE9: =COUNTIF(#REF!,Parameters!B7) -> #REF!
B10: 6 | C10: Muhammad Azriq Afif B Azhari | D10: Snr. Field Engineer I | E10: =SUM(F10:Q10) -> #REF! | F10: =COUNTIF(#REF!,Parameters!B8) -> #REF! | G10: =COUNTIF(#REF!,Parameters!B8) -> #REF! | H10: =COUNTIF(#REF!,Parameters!B8) -> #REF! | I10: =COUNTIF(#REF!,Parameters!B9) -> #REF! | J10: =COUNTIF(#REF!,Parameters!B9) -> #REF! | K10: =COUNTIF(#REF!,Parameters!B9) -> #REF! | L10: =COUNTIF(#REF!,Parameters!B9) -> #REF! | M10: =COUNTIF(#REF!,Parameters!B9) -> #REF! | N10: =COUNTIF(#REF!,Parameters!B9) -> #REF! | O10: =COUNTIF(#REF!,Parameters!B9) -> #REF! | P10: =COUNTIF(#REF!,Parameters!B9) -> #REF! | Q10: =COUNTIF(#REF!,Parameters!B9) -> #REF! | S10: =SUM(T10:AE10) -> #REF! | T10: =COUNTIF(#REF!,Parameters!B8) -> #REF! | U10: =COUNTIF(#REF!,Parameters!B8) -> #REF! | V10: =COUNTIF(#REF!,Parameters!B8) -> #REF! | W10: =COUNTIF(#REF!,Parameters!B8) -> #REF! | X10: =COUNTIF(#REF!,Parameters!B8) -> #REF! | Y10: =COUNTIF(#REF!,Parameters!B8) -> #REF! | Z10: =COUNTIF(#REF!,Parameters!B8) -> #REF! | AA10: =COUNTIF(#REF!,Parameters!B8) -> #REF! | AB10: =COUNTIF(#REF!,Parameters!B8) -> #REF! | AC10: =COUNTIF(#REF!,Parameters!B8) -> #REF! | AD10: =COUNTIF(#REF!,Parameters!B8) -> #REF! | AE10: =COUNTIF(#REF!,Parameters!B8) -> #REF!
B11: 7 | C11: Kamel Faizeen Bin Abdullah @ Mohd Nor | D11: Snr.Field Engineer I | E11: =SUM(F11:Q11) -> #REF! | F11: =COUNTIF(#REF!,Parameters!B9) -> #REF! | G11: =COUNTIF(#REF!,Parameters!B9) -> #REF! | H11: =COUNTIF(#REF!,Parameters!B9) -> #REF! | I11: =COUNTIF(#REF!,Parameters!B10) -> #REF! | J11: =COUNTIF(#REF!,Parameters!B10) -> #REF! | K11: =COUNTIF(#REF!,Parameters!B10) -> #REF! | L11: =COUNTIF(#REF!,Parameters!B10) -> #REF! | M11: =COUNTIF(#REF!,Parameters!B10) -> #REF! | N11: =COUNTIF(#REF!,Parameters!B10) -> #REF! | O11: =COUNTIF(#REF!,Parameters!B10) -> #REF! | P11: =COUNTIF(#REF!,Parameters!B10) -> #REF! | Q11: =COUNTIF(#REF!,Parameters!B10) -> #REF! | S11: =SUM(T11:AE11) -> #REF! | T11: =COUNTIF(#REF!,Parameters!B9) -> #REF! | U11: =COUNTIF(#REF!,Parameters!B9) -> #REF! | V11: =COUNTIF(#REF!,Parameters!B9) -> #REF! | W11: =COUNTIF(#REF!,Parameters!B9) -> #REF! | X11: =COUNTIF(#REF!,Parameters!B9) -> #REF! | Y11: =COUNTIF(#REF!,Parameters!B9) -> #REF! | Z11: =COUNTIF(#REF!,Parameters!B9) -> #REF! | AA11: =COUNTIF(#REF!,Parameters!B9) -> #REF! | AB11: =COUNTIF(#REF!,Parameters!B9) -> #REF! | AC11: =COUNTIF(#REF!,Parameters!B9) -> #REF! | AD11: =COUNTIF(#REF!,Parameters!B9) -> #REF! | AE11: =COUNTIF(#REF!,Parameters!B9) -> #REF!
B12: 8 | C12: Mohamad Firdaus B Ibrahim | D12: Snr.Field Engineer I | E12: =SUM(F12:Q12) -> #REF! | F12: =COUNTIF(#REF!,Parameters!B10) -> #REF! | G12: =COUNTIF(#REF!,Parameters!B10) -> #REF! | H12: =COUNTIF(#REF!,Parameters!B10) -> #REF! | I12: =COUNTIF(#REF!,Parameters!B11) -> #REF! | J12: =COUNTIF(#REF!,Parameters!B11) -> #REF! | K12: =COUNTIF(#REF!,Parameters!B11) -> #REF! | L12: =COUNTIF(#REF!,Parameters!B11) -> #REF! | M12: =COUNTIF(#REF!,Parameters!B11) -> #REF! | N12: =COUNTIF(#REF!,Parameters!B11) -> #REF! | O12: =COUNTIF(#REF!,Parameters!B11) -> #REF! | P12: =COUNTIF(#REF!,Parameters!B11) -> #REF! | Q12: =COUNTIF(#REF!,Parameters!B11) -> #REF! | S12: =SUM(T12:AE12) -> #REF! | T12: =COUNTIF(#REF!,Parameters!B10) -> #REF! | U12: =COUNTIF(#REF!,Parameters!B10) -> #REF! | V12: =COUNTIF(#REF!,Parameters!B10) -> #REF! | W12: =COUNTIF(#REF!,Parameters!B10) -> #REF! | X12: =COUNTIF(#REF!,Parameters!B10) -> #REF! | Y12: =COUNTIF(#REF!,Parameters!B10) -> #REF! | Z12: =COUNTIF(#REF!,Parameters!B10) -> #REF! | AA12: =COUNTIF(#REF!,Parameters!B10) -> #REF! | AB12: =COUNTIF(#REF!,Parameters!B10) -> #REF! | AC12: =COUNTIF(#REF!,Parameters!B10) -> #REF! | AD12: =COUNTIF(#REF!,Parameters!B10) -> #REF! | AE12: =COUNTIF(#REF!,Parameters!B10) -> #REF!
B13: 9 | C13: Mohammad Azwan Shahmee B Mohd Rosdee | D13: Field Engineer II | E13: =SUM(F13:Q13) -> #REF! | F13: =COUNTIF(#REF!,Parameters!B11) -> #REF! | G13: =COUNTIF(#REF!,Parameters!B11) -> #REF! | H13: =COUNTIF(#REF!,Parameters!B11) -> #REF! | I13: =COUNTIF(#REF!,Parameters!B12) -> #REF! | J13: =COUNTIF(#REF!,Parameters!B12) -> #REF! | K13: =COUNTIF(#REF!,Parameters!B12) -> #REF! | L13: =COUNTIF(#REF!,Parameters!B12) -> #REF! | M13: =COUNTIF(#REF!,Parameters!B12) -> #REF! | N13: =COUNTIF(#REF!,Parameters!B12) -> #REF! | O13: =COUNTIF(#REF!,Parameters!B12) -> #REF! | P13: =COUNTIF(#REF!,Parameters!B12) -> #REF! | Q13: =COUNTIF(#REF!,Parameters!B12) -> #REF! | S13: =SUM(T13:AE13) -> #REF! | T13: =COUNTIF(#REF!,Parameters!B11) -> #REF! | U13: =COUNTIF(#REF!,Parameters!B11) -> #REF! | V13: =COUNTIF(#REF!,Parameters!B11) -> #REF! | W13: =COUNTIF(#REF!,Parameters!B11) -> #REF! | X13: =COUNTIF(#REF!,Parameters!B11) -> #REF! | Y13: =COUNTIF(#REF!,Parameters!B11) -> #REF! | Z13: =COUNTIF(#REF!,Parameters!B11) -> #REF! | AA13: =COUNTIF(#REF!,Parameters!B11) -> #REF! | AB13: =COUNTIF(#REF!,Parameters!B11) -> #REF! | AC13: =COUNTIF(#REF!,Parameters!B11) -> #REF! | AD13: =COUNTIF(#REF!,Parameters!B11) -> #REF! | AE13: =COUNTIF(#REF!,Parameters!B11) -> #REF!
B14: 10 | C14: Azrul Rezuan B Azman | D14: Field Engineer I | E14: =SUM(F14:Q14) -> #REF! | F14: =COUNTIF(#REF!,Parameters!B12) -> #REF! | G14: =COUNTIF(#REF!,Parameters!B12) -> #REF! | H14: =COUNTIF(#REF!,Parameters!B12) -> #REF! | I14: =COUNTIF(#REF!,Parameters!#REF!) -> #REF! | J14: =COUNTIF(#REF!,Parameters!#REF!) -> #REF! | K14: =COUNTIF(#REF!,Parameters!#REF!) -> #REF! | L14: =COUNTIF(#REF!,Parameters!#REF!) -> #REF! | M14: =COUNTIF(#REF!,Parameters!#REF!) -> #REF! | N14: =COUNTIF(#REF!,Parameters!#REF!) -> #REF! | O14: =COUNTIF(#REF!,Parameters!#REF!) -> #REF! | P14: =COUNTIF(#REF!,Parameters!#REF!) -> #REF! | Q14: =COUNTIF(#REF!,Parameters!#REF!) -> #REF! | S14: =SUM(T14:AE14) -> #REF! | T14: =COUNTIF(#REF!,Parameters!B12) -> #REF! | U14: =COUNTIF(#REF!,Parameters!B12) -> #REF! | V14: =COUNTIF(#REF!,Parameters!B12) -> #REF! | W14: =COUNTIF(#REF!,Parameters!B12) -> #REF! | X14: =COUNTIF(#REF!,Parameters!B12) -> #REF! | Y14: =COUNTIF(#REF!,Parameters!B12) -> #REF! | Z14: =COUNTIF(#REF!,Parameters!B12) -> #REF! | AA14: =COUNTIF(#REF!,Parameters!B12) -> #REF! | AB14: =COUNTIF(#REF!,Parameters!B12) -> #REF! | AC14: =COUNTIF(#REF!,Parameters!B12) -> #REF! | AD14: =COUNTIF(#REF!,Parameters!B12) -> #REF! | AE14: =COUNTIF(#REF!,Parameters!B12) -> #REF!
B15: 11 | C15: Ahmad Farhan B Murad | D15: Field Engineer I | E15: =SUM(F15:Q15) -> #REF! | F15: =COUNTIF(#REF!,Parameters!B13) -> #REF! | G15: =COUNTIF(#REF!,Parameters!B13) -> #REF! | H15: =COUNTIF(#REF!,Parameters!B13) -> #REF! | I15: =COUNTIF(#REF!,Parameters!B16) -> #REF! | J15: =COUNTIF(#REF!,Parameters!B16) -> #REF! | K15: =COUNTIF(#REF!,Parameters!B16) -> #REF! | L15: =COUNTIF(#REF!,Parameters!B16) -> #REF! | M15: =COUNTIF(#REF!,Parameters!B16) -> #REF! | N15: =COUNTIF(#REF!,Parameters!B16) -> #REF! | O15: =COUNTIF(#REF!,Parameters!B16) -> #REF! | P15: =COUNTIF(#REF!,Parameters!B16) -> #REF! | Q15: =COUNTIF(#REF!,Parameters!B16) -> #REF! | S15: =SUM(T15:AE15) -> #REF! | T15: =COUNTIF(#REF!,Parameters!B13) -> #REF! | U15: =COUNTIF(#REF!,Parameters!B13) -> #REF! | V15: =COUNTIF(#REF!,Parameters!B13) -> #REF! | W15: =COUNTIF(#REF!,Parameters!B13) -> #REF! | X15: =COUNTIF(#REF!,Parameters!B13) -> #REF! | Y15: =COUNTIF(#REF!,Parameters!B13) -> #REF! | Z15: =COUNTIF(#REF!,Parameters!B13) -> #REF! | AA15: =COUNTIF(#REF!,Parameters!B13) -> #REF! | AB15: =COUNTIF(#REF!,Parameters!B13) -> #REF! | AC15: =COUNTIF(#REF!,Parameters!B13) -> #REF! | AD15: =COUNTIF(#REF!,Parameters!B13) -> #REF! | AE15: =COUNTIF(#REF!,Parameters!B13) -> #REF!
B16: 12 | C16: Mohd Amirul Adli b Che Mansor | D16: Junior Field Engineer | E16: =SUM(F16:Q16) -> #REF! | F16: =COUNTIF(#REF!,Parameters!B14) -> #REF! | G16: =COUNTIF(#REF!,Parameters!B14) -> #REF! | H16: =COUNTIF(#REF!,Parameters!B14) -> #REF! | I16: =COUNTIF(#REF!,Parameters!B17) -> #REF! | J16: =COUNTIF(#REF!,Parameters!B17) -> #REF! | K16: =COUNTIF(#REF!,Parameters!B17) -> #REF! | L16: =COUNTIF(#REF!,Parameters!B17) -> #REF! | M16: =COUNTIF(#REF!,Parameters!B17) -> #REF! | N16: =COUNTIF(#REF!,Parameters!B17) -> #REF! | O16: =COUNTIF(#REF!,Parameters!B17) -> #REF! | P16: =COUNTIF(#REF!,Parameters!B17) -> #REF! | Q16: =COUNTIF(#REF!,Parameters!B17) -> #REF! | S16: =SUM(T16:AE16) -> #REF! | T16: =COUNTIF(#REF!,Parameters!B14) -> #REF! | U16: =COUNTIF(#REF!,Parameters!B14) -> #REF! | V16: =COUNTIF(#REF!,Parameters!B14) -> #REF! | W16: =COUNTIF(#REF!,Parameters!B14) -> #REF! | X16: =COUNTIF(#REF!,Parameters!B14) -> #REF! | Y16: =COUNTIF(#REF!,Parameters!B14) -> #REF! | Z16: =COUNTIF(#REF!,Parameters!B14) -> #REF! | AA16: =COUNTIF(#REF!,Parameters!B14) -> #REF! | AB16: =COUNTIF(#REF!,Parameters!B14) -> #REF! | AC16: =COUNTIF(#REF!,Parameters!B14) -> #REF! | AD16: =COUNTIF(#REF!,Parameters!B14) -> #REF! | AE16: =COUNTIF(#REF!,Parameters!B14) -> #REF!
B17: 13 | C17: Muhammad Ariffin Sabri b Za’imuddin | D17: Junior Field Engineer | E17: =SUM(F17:Q17) -> #REF! | F17: =COUNTIF(#REF!,Parameters!B15) -> #REF! | G17: =COUNTIF(#REF!,Parameters!B15) -> #REF! | H17: =COUNTIF(#REF!,Parameters!B15) -> #REF! | I17: =COUNTIF(#REF!,Parameters!B18) -> #REF! | J17: =COUNTIF(#REF!,Parameters!B18) -> #REF! | K17: =COUNTIF(#REF!,Parameters!B18) -> #REF! | L17: =COUNTIF(#REF!,Parameters!B18) -> #REF! | M17: =COUNTIF(#REF!,Parameters!B18) -> #REF! | N17: =COUNTIF(#REF!,Parameters!B18) -> #REF! | O17: =COUNTIF(#REF!,Parameters!B18) -> #REF! | P17: =COUNTIF(#REF!,Parameters!B18) -> #REF! | Q17: =COUNTIF(#REF!,Parameters!B18) -> #REF! | S17: =SUM(T17:AE17) -> #REF! | T17: =COUNTIF(#REF!,Parameters!B15) -> #REF! | U17: =COUNTIF(#REF!,Parameters!B15) -> #REF! | V17: =COUNTIF(#REF!,Parameters!B15) -> #REF! | W17: =COUNTIF(#REF!,Parameters!B15) -> #REF! | X17: =COUNTIF(#REF!,Parameters!B15) -> #REF! | Y17: =COUNTIF(#REF!,Parameters!B15) -> #REF! | Z17: =COUNTIF(#REF!,Parameters!B15) -> #REF! | AA17: =COUNTIF(#REF!,Parameters!B15) -> #REF! | AB17: =COUNTIF(#REF!,Parameters!B15) -> #REF! | AC17: =COUNTIF(#REF!,Parameters!B15) -> #REF! | AD17: =COUNTIF(#REF!,Parameters!B15) -> #REF! | AE17: =COUNTIF(#REF!,Parameters!B15) -> #REF!
B18: 14 | C18: Wan Mohd Zailani B Wan Ali | D18: Foreman | J18: =COUNTIF(#REF!,Parameters!#REF!) -> #REF! | S18: =SUM(T18:AE18) -> #REF! | T18: =COUNTIF(#REF!,Parameters!#REF!) -> #REF! | U18: =COUNTIF(#REF!,Parameters!#REF!) -> #REF! | V18: =COUNTIF(#REF!,Parameters!#REF!) -> #REF! | W18: =COUNTIF(#REF!,Parameters!#REF!) -> #REF! | X18: =COUNTIF(#REF!,Parameters!#REF!) -> #REF! | Y18: =COUNTIF(#REF!,Parameters!#REF!) -> #REF! | Z18: =COUNTIF(#REF!,Parameters!#REF!) -> #REF! | AA18: =COUNTIF(#REF!,Parameters!#REF!) -> #REF! | ... AE18: =COUNTIF(#REF!,Parameters!#REF!) -> #REF!
B19: 15 | C19: Kamarol Harfizi B Haris | D19: Snr. Crew Chief | E19: =SUM(F19:Q19) -> #REF! | F19: =COUNTIF(#REF!,Parameters!B16) -> #REF! | G19: =COUNTIF(#REF!,Parameters!B16) -> #REF! | H19: =COUNTIF(#REF!,Parameters!B16) -> #REF! | I19: =COUNTIF(#REF!,Parameters!B22) -> #REF! | J19: =COUNTIF(#REF!,Parameters!B22) -> #REF! | K19: =COUNTIF(#REF!,Parameters!B22) -> #REF! | L19: =COUNTIF(#REF!,Parameters!B22) -> #REF! | M19: =COUNTIF(#REF!,Parameters!B22) -> #REF! | N19: =COUNTIF(#REF!,Parameters!B22) -> #REF! | O19: =COUNTIF(#REF!,Parameters!B22) -> #REF! | P19: =COUNTIF(#REF!,Parameters!B22) -> #REF! | Q19: =COUNTIF(#REF!,Parameters!B22) -> #REF! | S19: =SUM(T19:AE19) -> #REF! | T19: =COUNTIF(#REF!,Parameters!B16) -> #REF! | U19: =COUNTIF(#REF!,Parameters!B16) -> #REF! | V19: =COUNTIF(#REF!,Parameters!B16) -> #REF! | W19: =COUNTIF(#REF!,Parameters!B16) -> #REF! | X19: =COUNTIF(#REF!,Parameters!B16) -> #REF! | Y19: =COUNTIF(#REF!,Parameters!B16) -> #REF! | Z19: =COUNTIF(#REF!,Parameters!B16) -> #REF! | AA19: =COUNTIF(#REF!,Parameters!B16) -> #REF! | AB19: =COUNTIF(#REF!,Parameters!B16) -> #REF! | AC19: =COUNTIF(#REF!,Parameters!B16) -> #REF! | AD19: =COUNTIF(#REF!,Parameters!B16) -> #REF! | AE19: =COUNTIF(#REF!,Parameters!B16) -> #REF!
B20: 16 | C20: Mohd Norasmadi B Abd Latif | D20: Snr. Crew Chief | E20: =SUM(F20:Q20) -> #REF! | F20: =COUNTIF(#REF!,Parameters!B17) -> #REF! | G20: =COUNTIF(#REF!,Parameters!B17) -> #REF! | H20: =COUNTIF(#REF!,Parameters!B17) -> #REF! | I20: =COUNTIF(#REF!,Parameters!#REF!) -> #REF! | J20: =COUNTIF(#REF!,Parameters!#REF!) -> #REF! | K20: =COUNTIF(#REF!,Parameters!#REF!) -> #REF! | L20: =COUNTIF(#REF!,Parameters!#REF!) -> #REF! | M20: =COUNTIF(#REF!,Parameters!#REF!) -> #REF! | N20: =COUNTIF(#REF!,Parameters!#REF!) -> #REF! | O20: =COUNTIF(#REF!,Parameters!#REF!) -> #REF! | P20: =COUNTIF(#REF!,Parameters!#REF!) -> #REF! | Q20: =COUNTIF(#REF!,Parameters!#REF!) -> #REF! | S20: =SUM(T20:AE20) -> #REF! | T20: =COUNTIF(#REF!,Parameters!B17) -> #REF! | U20: =COUNTIF(#REF!,Parameters!B17) -> #REF! | V20: =COUNTIF(#REF!,Parameters!B17) -> #REF! | W20: =COUNTIF(#REF!,Parameters!B17) -> #REF! | X20: =COUNTIF(#REF!,Parameters!B17) -> #REF! | Y20: =COUNTIF(#REF!,Parameters!B17) -> #REF! | Z20: =COUNTIF(#REF!,Parameters!B17) -> #REF! | AA20: =COUNTIF(#REF!,Parameters!B17) -> #REF! | AB20: =COUNTIF(#REF!,Parameters!B17) -> #REF! | AC20: =COUNTIF(#REF!,Parameters!B17) -> #REF! | AD20: =COUNTIF(#REF!,Parameters!B17) -> #REF! | AE20: =COUNTIF(#REF!,Parameters!B17) -> #REF!
B21: 17 | C21: Mohd Tarmizie B Abas | D21: Snr. Crew Chief | E21: =SUM(F21:Q21) -> #REF! | F21: =COUNTIF(#REF!,Parameters!B18) -> #REF! | G21: =COUNTIF(#REF!,Parameters!B18) -> #REF! | H21: =COUNTIF(#REF!,Parameters!B18) -> #REF! | I21: =COUNTIF(#REF!,Parameters!B23) -> #REF! | J21: =COUNTIF(#REF!,Parameters!B23) -> #REF! | K21: =COUNTIF(#REF!,Parameters!B23) -> #REF! | L21: =COUNTIF(#REF!,Parameters!B23) -> #REF! | M21: =COUNTIF(#REF!,Parameters!B23) -> #REF! | N21: =COUNTIF(#REF!,Parameters!B23) -> #REF! | O21: =COUNTIF(#REF!,Parameters!B23) -> #REF! | P21: =COUNTIF(#REF!,Parameters!B23) -> #REF! | Q21: =COUNTIF(#REF!,Parameters!B23) -> #REF! | S21: =SUM(T21:AE21) -> #REF! | T21: =COUNTIF(#REF!,Parameters!B18) -> #REF! | U21: =COUNTIF(#REF!,Parameters!B18) -> #REF! | V21: =COUNTIF(#REF!,Parameters!B18) -> #REF! | W21: =COUNTIF(#REF!,Parameters!B18) -> #REF! | X21: =COUNTIF(#REF!,Parameters!B18) -> #REF! | Y21: =COUNTIF(#REF!,Parameters!B18) -> #REF! | Z21: =COUNTIF(#REF!,Parameters!B18) -> #REF! | AA21: =COUNTIF(#REF!,Parameters!B18) -> #REF! | AB21: =COUNTIF(#REF!,Parameters!B18) -> #REF! | AC21: =COUNTIF(#REF!,Parameters!B18) -> #REF! | AD21: =COUNTIF(#REF!,Parameters!B18) -> #REF! | AE21: =COUNTIF(#REF!,Parameters!B18) -> #REF!
B22: 18 | C22: Mohd Ridzuan B Jusoh | D22: Snr. Crew Chief | E22: =SUM(F22:Q22) -> #REF! | F22: =COUNTIF(#REF!,Parameters!B19) -> #REF! | G22: =COUNTIF(#REF!,Parameters!B19) -> #REF! | H22: =COUNTIF(#REF!,Parameters!B19) -> #REF! | I22: =COUNTIF(#REF!,Parameters!B24) -> #REF! | J22: =COUNTIF(#REF!,Parameters!B24) -> #REF! | K22: =COUNTIF(#REF!,Parameters!B24) -> #REF! | L22: =COUNTIF(#REF!,Parameters!B24) -> #REF! | M22: =COUNTIF(#REF!,Parameters!B24) -> #REF! | N22: =COUNTIF(#REF!,Parameters!B24) -> #REF! | O22: =COUNTIF(#REF!,Parameters!B24) -> #REF! | P22: =COUNTIF(#REF!,Parameters!B24) -> #REF! | Q22: =COUNTIF(#REF!,Parameters!B24) -> #REF! | S22: =SUM(T22:AE22) -> #REF! | T22: =COUNTIF(#REF!,Parameters!B19) -> #REF! | U22: =COUNTIF(#REF!,Parameters!B19) -> #REF! | V22: =COUNTIF(#REF!,Parameters!B19) -> #REF! | W22: =COUNTIF(#REF!,Parameters!B19) -> #REF! | X22: =COUNTIF(#REF!,Parameters!B19) -> #REF! | Y22: =COUNTIF(#REF!,Parameters!B19) -> #REF! | Z22: =COUNTIF(#REF!,Parameters!B19) -> #REF! | AA22: =COUNTIF(#REF!,Parameters!B19) -> #REF! | AB22: =COUNTIF(#REF!,Parameters!B19) -> #REF! | AC22: =COUNTIF(#REF!,Parameters!B19) -> #REF! | AD22: =COUNTIF(#REF!,Parameters!B19) -> #REF! | AE22: =COUNTIF(#REF!,Parameters!B19) -> #REF!
B23: 19 | C23: Zubir B Zakaria | D23: Crew Chief | E23: =SUM(F23:Q23) -> #REF! | F23: =COUNTIF(#REF!,Parameters!B20) -> #REF! | G23: =COUNTIF(#REF!,Parameters!B20) -> #REF! | H23: =COUNTIF(#REF!,Parameters!B20) -> #REF! | I23: =COUNTIF(#REF!,Parameters!B25) -> #REF! | J23: =COUNTIF(#REF!,Parameters!B25) -> #REF! | K23: =COUNTIF(#REF!,Parameters!B25) -> #REF! | L23: =COUNTIF(#REF!,Parameters!B25) -> #REF! | M23: =COUNTIF(#REF!,Parameters!B25) -> #REF! | N23: =COUNTIF(#REF!,Parameters!B25) -> #REF! | O23: =COUNTIF(#REF!,Parameters!B25) -> #REF! | P23: =COUNTIF(#REF!,Parameters!B25) -> #REF! | Q23: =COUNTIF(#REF!,Parameters!B25) -> #REF! | S23: =SUM(T23:AE23) -> #REF! | T23: =COUNTIF(#REF!,Parameters!B20) -> #REF! | U23: =COUNTIF(#REF!,Parameters!B20) -> #REF! | V23: =COUNTIF(#REF!,Parameters!B20) -> #REF! | W23: =COUNTIF(#REF!,Parameters!B20) -> #REF! | X23: =COUNTIF(#REF!,Parameters!B20) -> #REF! | Y23: =COUNTIF(#REF!,Parameters!B20) -> #REF! | Z23: =COUNTIF(#REF!,Parameters!B20) -> #REF! | AA23: =COUNTIF(#REF!,Parameters!B20) -> #REF! | AB23: =COUNTIF(#REF!,Parameters!B20) -> #REF! | AC23: =COUNTIF(#REF!,Parameters!B20) -> #REF! | AD23: =COUNTIF(#REF!,Parameters!B20) -> #REF! | AE23: =COUNTIF(#REF!,Parameters!B20) -> #REF!
B24: 20 | C24: Mohamad Hasbullah B Sapie | D24: Crew Chief | E24: =SUM(F24:Q24) -> #REF! | F24: =COUNTIF(#REF!,Parameters!B21) -> #REF! | G24: =COUNTIF(#REF!,Parameters!B21) -> #REF! | H24: =COUNTIF(#REF!,Parameters!B21) -> #REF! | I24: =COUNTIF(#REF!,Parameters!B26) -> #REF! | J24: =COUNTIF(#REF!,Parameters!B26) -> #REF! | K24: =COUNTIF(#REF!,Parameters!B26) -> #REF! | L24: =COUNTIF(#REF!,Parameters!B26) -> #REF! | M24: =COUNTIF(#REF!,Parameters!B26) -> #REF! | N24: =COUNTIF(#REF!,Parameters!B26) -> #REF! | O24: =COUNTIF(#REF!,Parameters!B26) -> #REF! | P24: =COUNTIF(#REF!,Parameters!B26) -> #REF! | Q24: =COUNTIF(#REF!,Parameters!B26) -> #REF! | S24: =SUM(T24:AE24) -> #REF! | T24: =COUNTIF(#REF!,Parameters!B21) -> #REF! | U24: =COUNTIF(#REF!,Parameters!B21) -> #REF! | V24: =COUNTIF(#REF!,Parameters!B21) -> #REF! | W24: =COUNTIF(#REF!,Parameters!B21) -> #REF! | X24: =COUNTIF(#REF!,Parameters!B21) -> #REF! | Y24: =COUNTIF(#REF!,Parameters!B21) -> #REF! | Z24: =COUNTIF(#REF!,Parameters!B21) -> #REF! | AA24: =COUNTIF(#REF!,Parameters!B21) -> #REF! | AB24: =COUNTIF(#REF!,Parameters!B21) -> #REF! | AC24: =COUNTIF(#REF!,Parameters!B21) -> #REF! | AD24: =COUNTIF(#REF!,Parameters!B21) -> #REF! | AE24: =COUNTIF(#REF!,Parameters!B21) -> #REF!
B25: 21 | C25: Mohd Rosli B Muda | D25: Crew Chief | E25: =SUM(F25:Q25) -> #REF! | F25: =COUNTIF(#REF!,Parameters!B22) -> #REF! | G25: =COUNTIF(#REF!,Parameters!B22) -> #REF! | H25: =COUNTIF(#REF!,Parameters!B22) -> #REF! | I25: =COUNTIF(#REF!,Parameters!B27) -> #REF! | J25: =COUNTIF(#REF!,Parameters!B27) -> #REF! | K25: =COUNTIF(#REF!,Parameters!B27) -> #REF! | L25: =COUNTIF(#REF!,Parameters!B27) -> #REF! | M25: =COUNTIF(#REF!,Parameters!B27) -> #REF! | N25: =COUNTIF(#REF!,Parameters!B27) -> #REF! | O25: =COUNTIF(#REF!,Parameters!B27) -> #REF! | P25: =COUNTIF(#REF!,Parameters!B27) -> #REF! | Q25: =COUNTIF(#REF!,Parameters!B27) -> #REF! | S25: =SUM(T25:AE25) -> #REF! | T25: =COUNTIF(#REF!,Parameters!B22) -> #REF! | U25: =COUNTIF(#REF!,Parameters!B22) -> #REF! | V25: =COUNTIF(#REF!,Parameters!B22) -> #REF! | W25: =COUNTIF(#REF!,Parameters!B22) -> #REF! | X25: =COUNTIF(#REF!,Parameters!B22) -> #REF! | Y25: =COUNTIF(#REF!,Parameters!B22) -> #REF! | Z25: =COUNTIF(#REF!,Parameters!B22) -> #REF! | AA25: =COUNTIF(#REF!,Parameters!B22) -> #REF! | AB25: =COUNTIF(#REF!,Parameters!B22) -> #REF! | AC25: =COUNTIF(#REF!,Parameters!B22) -> #REF! | AD25: =COUNTIF(#REF!,Parameters!B22) -> #REF! | AE25: =COUNTIF(#REF!,Parameters!B22) -> #REF!
B26: 22 | C26: Mike Weller Ghana ak Timi | D26: Crew Chief | E26: =SUM(F26:Q26) -> #REF! | F26: =COUNTIF(#REF!,Parameters!#REF!) -> #REF! | G26: =COUNTIF(#REF!,Parameters!#REF!) -> #REF! | H26: =COUNTIF(#REF!,Parameters!#REF!) -> #REF! | I26: =COUNTIF(#REF!,Parameters!B28) -> #REF! | J26: =COUNTIF(#REF!,Parameters!B28) -> #REF! | K26: =COUNTIF(#REF!,Parameters!B28) -> #REF! | L26: =COUNTIF(#REF!,Parameters!B28) -> #REF! | M26: =COUNTIF(#REF!,Parameters!B28) -> #REF! | N26: =COUNTIF(#REF!,Parameters!B28) -> #REF! | O26: =COUNTIF(#REF!,Parameters!B28) -> #REF! | P26: =COUNTIF(#REF!,Parameters!B28) -> #REF! | Q26: =COUNTIF(#REF!,Parameters!B28) -> #REF! | S26: =SUM(T26:AE26) -> #REF! | T26: =COUNTIF(#REF!,Parameters!#REF!) -> #REF! | U26: =COUNTIF(#REF!,Parameters!#REF!) -> #REF! | V26: =COUNTIF(#REF!,Parameters!#REF!) -> #REF! | W26: =COUNTIF(#REF!,Parameters!#REF!) -> #REF! | X26: =COUNTIF(#REF!,Parameters!#REF!) -> #REF! | Y26: =COUNTIF(#REF!,Parameters!#REF!) -> #REF! | Z26: =COUNTIF(#REF!,Parameters!#REF!) -> #REF! | AA26: =COUNTIF(#REF!,Parameters!#REF!) -> #REF! | ... AE26: =COUNTIF(#REF!,Parameters!#REF!) -> #REF!
B27: 23 | C27: Wan Saufi Amri Wan Jusoh | D27: Crew Chief | E27: =SUM(F27:Q27) -> #REF! | F27: =COUNTIF(#REF!,Parameters!B23) -> #REF! | G27: =COUNTIF(#REF!,Parameters!B23) -> #REF! | H27: =COUNTIF(#REF!,Parameters!B23) -> #REF! | I27: =COUNTIF(#REF!,Parameters!B29) -> #REF! | J27: =COUNTIF(#REF!,Parameters!B29) -> #REF! | K27: =COUNTIF(#REF!,Parameters!B29) -> #REF! | L27: =COUNTIF(#REF!,Parameters!B29) -> #REF! | M27: =COUNTIF(#REF!,Parameters!B29) -> #REF! | N27: =COUNTIF(#REF!,Parameters!B29) -> #REF! | O27: =COUNTIF(#REF!,Parameters!B29) -> #REF! | P27: =COUNTIF(#REF!,Parameters!B29) -> #REF! | Q27: =COUNTIF(#REF!,Parameters!B29) -> #REF! | S27: =SUM(T27:AE27) -> #REF! | T27: =COUNTIF(#REF!,Parameters!B23) -> #REF! | U27: =COUNTIF(#REF!,Parameters!B23) -> #REF! | V27: =COUNTIF(#REF!,Parameters!B23) -> #REF! | W27: =COUNTIF(#REF!,Parameters!B23) -> #REF! | X27: =COUNTIF(#REF!,Parameters!B23) -> #REF! | Y27: =COUNTIF(#REF!,Parameters!B23) -> #REF! | Z27: =COUNTIF(#REF!,Parameters!B23) -> #REF! | AA27: =COUNTIF(#REF!,Parameters!B23) -> #REF! | AB27: =COUNTIF(#REF!,Parameters!B23) -> #REF! | AC27: =COUNTIF(#REF!,Parameters!B23) -> #REF! | AD27: =COUNTIF(#REF!,Parameters!B23) -> #REF! | AE27: =COUNTIF(#REF!,Parameters!B23) -> #REF!
B28: 24 | C28: Mohd Hafiz Mohd Rahim | D28: Crew Chief | E28: =SUM(F28:Q28) -> #REF! | F28: =COUNTIF(#REF!,Parameters!B24) -> #REF! | G28: =COUNTIF(#REF!,Parameters!B24) -> #REF! | H28: =COUNTIF(#REF!,Parameters!B24) -> #REF! | I28: =COUNTIF(#REF!,Parameters!B29) -> #REF! | J28: =COUNTIF(#REF!,Parameters!B29) -> #REF! | K28: =COUNTIF(#REF!,Parameters!B29) -> #REF! | L28: =COUNTIF(#REF!,Parameters!B29) -> #REF! | M28: =COUNTIF(#REF!,Parameters!B29) -> #REF! | N28: =COUNTIF(#REF!,Parameters!B29) -> #REF! | O28: =COUNTIF(#REF!,Parameters!B29) -> #REF! | P28: =COUNTIF(#REF!,Parameters!B29) -> #REF! | Q28: =COUNTIF(#REF!,Parameters!B29) -> #REF! | S28: =SUM(T28:AE28) -> #REF! | T28: =COUNTIF(#REF!,Parameters!B24) -> #REF! | U28: =COUNTIF(#REF!,Parameters!B24) -> #REF! | V28: =COUNTIF(#REF!,Parameters!B24) -> #REF! | W28: =COUNTIF(#REF!,Parameters!B24) -> #REF! | X28: =COUNTIF(#REF!,Parameters!B24) -> #REF! | Y28: =COUNTIF(#REF!,Parameters!B24) -> #REF! | Z28: =COUNTIF(#REF!,Parameters!B24) -> #REF! | AA28: =COUNTIF(#REF!,Parameters!B24) -> #REF! | AB28: =COUNTIF(#REF!,Parameters!B24) -> #REF! | AC28: =COUNTIF(#REF!,Parameters!B24) -> #REF! | AD28: =COUNTIF(#REF!,Parameters!B24) -> #REF! | AE28: =COUNTIF(#REF!,Parameters!B24) -> #REF!
B29: 25 | C29: Mohd Asrul Nizam Nong | D29: Crew Chief | E29: =SUM(F29:Q29) -> #REF! | F29: =COUNTIF(#REF!,Parameters!B25) -> #REF! | G29: =COUNTIF(#REF!,Parameters!B25) -> #REF! | H29: =COUNTIF(#REF!,Parameters!B25) -> #REF! | I29: =COUNTIF(#REF!,Parameters!B30) -> #REF! | J29: =COUNTIF(#REF!,Parameters!B30) -> #REF! | K29: =COUNTIF(#REF!,Parameters!B30) -> #REF! | L29: =COUNTIF(#REF!,Parameters!B30) -> #REF! | M29: =COUNTIF(#REF!,Parameters!B30) -> #REF! | N29: =COUNTIF(#REF!,Parameters!B30) -> #REF! | O29: =COUNTIF(#REF!,Parameters!B30) -> #REF! | P29: =COUNTIF(#REF!,Parameters!B30) -> #REF! | Q29: =COUNTIF(#REF!,Parameters!B30) -> #REF! | S29: =SUM(T29:AE29) -> #REF! | T29: =COUNTIF(#REF!,Parameters!B25) -> #REF! | U29: =COUNTIF(#REF!,Parameters!B25) -> #REF! | V29: =COUNTIF(#REF!,Parameters!B25) -> #REF! | W29: =COUNTIF(#REF!,Parameters!B25) -> #REF! | X29: =COUNTIF(#REF!,Parameters!B25) -> #REF! | Y29: =COUNTIF(#REF!,Parameters!B25) -> #REF! | Z29: =COUNTIF(#REF!,Parameters!B25) -> #REF! | AA29: =COUNTIF(#REF!,Parameters!B25) -> #REF! | AB29: =COUNTIF(#REF!,Parameters!B25) -> #REF! | AC29: =COUNTIF(#REF!,Parameters!B25) -> #REF! | AD29: =COUNTIF(#REF!,Parameters!B25) -> #REF! | AE29: =COUNTIF(#REF!,Parameters!B25) -> #REF!
B30: 26 | C30: Mohd Faizol Abu Bakar | D30: Trainee Crew Chief | E30: =SUM(F30:Q30) -> #REF! | F30: =COUNTIF(#REF!,Parameters!B26) -> #REF! | G30: =COUNTIF(#REF!,Parameters!B26) -> #REF! | H30: =COUNTIF(#REF!,Parameters!B26) -> #REF! | I30: =COUNTIF(#REF!,Parameters!B31) -> #REF! | J30: =COUNTIF(#REF!,Parameters!B31) -> #REF! | K30: =COUNTIF(#REF!,Parameters!B31) -> #REF! | L30: =COUNTIF(#REF!,Parameters!B31) -> #REF! | M30: =COUNTIF(#REF!,Parameters!B31) -> #REF! | N30: =COUNTIF(#REF!,Parameters!B31) -> #REF! | O30: =COUNTIF(#REF!,Parameters!B31) -> #REF! | P30: =COUNTIF(#REF!,Parameters!B31) -> #REF! | Q30: =COUNTIF(#REF!,Parameters!B31) -> #REF! | S30: =SUM(T30:AE30) -> #REF! | T30: =COUNTIF(#REF!,Parameters!B26) -> #REF! | U30: =COUNTIF(#REF!,Parameters!B26) -> #REF! | V30: =COUNTIF(#REF!,Parameters!B26) -> #REF! | W30: =COUNTIF(#REF!,Parameters!B26) -> #REF! | X30: =COUNTIF(#REF!,Parameters!B26) -> #REF! | Y30: =COUNTIF(#REF!,Parameters!B26) -> #REF! | Z30: =COUNTIF(#REF!,Parameters!B26) -> #REF! | AA30: =COUNTIF(#REF!,Parameters!B26) -> #REF! | AB30: =COUNTIF(#REF!,Parameters!B26) -> #REF! | AC30: =COUNTIF(#REF!,Parameters!B26) -> #REF! | AD30: =COUNTIF(#REF!,Parameters!B26) -> #REF! | AE30: =COUNTIF(#REF!,Parameters!B26) -> #REF!
B31: 27 | C31: Mohd Al Amin Ngah | D31: Snr. Field Operator | E31: =SUM(F31:Q31) -> #REF! | F31: =COUNTIF(#REF!,Parameters!B27) -> #REF! | G31: =COUNTIF(#REF!,Parameters!B27) -> #REF! | H31: =COUNTIF(#REF!,Parameters!B27) -> #REF! | I31: =COUNTIF(#REF!,Parameters!B32) -> #REF! | J31: =COUNTIF(#REF!,Parameters!B32) -> #REF! | K31: =COUNTIF(#REF!,Parameters!B32) -> #REF! | L31: =COUNTIF(#REF!,Parameters!B32) -> #REF! | M31: =COUNTIF(#REF!,Parameters!B32) -> #REF! | N31: =COUNTIF(#REF!,Parameters!B32) -> #REF! | O31: =COUNTIF(#REF!,Parameters!B32) -> #REF! | P31: =COUNTIF(#REF!,Parameters!B32) -> #REF! | Q31: =COUNTIF(#REF!,Parameters!B32) -> #REF! | S31: =SUM(T31:AE31) -> #REF! | T31: =COUNTIF(#REF!,Parameters!B27) -> #REF! | U31: =COUNTIF(#REF!,Parameters!B27) -> #REF! | V31: =COUNTIF(#REF!,Parameters!B27) -> #REF! | W31: =COUNTIF(#REF!,Parameters!B27) -> #REF! | X31: =COUNTIF(#REF!,Parameters!B27) -> #REF! | Y31: =COUNTIF(#REF!,Parameters!B27) -> #REF! | Z31: =COUNTIF(#REF!,Parameters!B27) -> #REF! | AA31: =COUNTIF(#REF!,Parameters!B27) -> #REF! | AB31: =COUNTIF(#REF!,Parameters!B27) -> #REF! | AC31: =COUNTIF(#REF!,Parameters!B27) -> #REF! | AD31: =COUNTIF(#REF!,Parameters!B27) -> #REF! | AE31: =COUNTIF(#REF!,Parameters!B27) -> #REF!
B32: 28 | C32: Muhamad Azham Hamalee | D32: Snr. Field Operator | E32: =SUM(F32:Q32) -> #REF! | F32: =COUNTIF(#REF!,Parameters!B28) -> #REF! | G32: =COUNTIF(#REF!,Parameters!B28) -> #REF! | H32: =COUNTIF(#REF!,Parameters!B28) -> #REF! | I32: =COUNTIF(#REF!,Parameters!B34) -> #REF! | J32: =COUNTIF(#REF!,Parameters!B34) -> #REF! | K32: =COUNTIF(#REF!,Parameters!B34) -> #REF! | L32: =COUNTIF(#REF!,Parameters!B34) -> #REF! | M32: =COUNTIF(#REF!,Parameters!B34) -> #REF! | N32: =COUNTIF(#REF!,Parameters!B34) -> #REF! | O32: =COUNTIF(#REF!,Parameters!B34) -> #REF! | P32: =COUNTIF(#REF!,Parameters!B34) -> #REF! | Q32: =COUNTIF(#REF!,Parameters!B34) -> #REF! | S32: =SUM(T32:AE32) -> #REF! | T32: =COUNTIF(#REF!,Parameters!B28) -> #REF! | U32: =COUNTIF(#REF!,Parameters!B28) -> #REF! | V32: =COUNTIF(#REF!,Parameters!B28) -> #REF! | W32: =COUNTIF(#REF!,Parameters!B28) -> #REF! | X32: =COUNTIF(#REF!,Parameters!B28) -> #REF! | Y32: =COUNTIF(#REF!,Parameters!B28) -> #REF! | Z32: =COUNTIF(#REF!,Parameters!B28) -> #REF! | AA32: =COUNTIF(#REF!,Parameters!B28) -> #REF! | AB32: =COUNTIF(#REF!,Parameters!B28) -> #REF! | AC32: =COUNTIF(#REF!,Parameters!B28) -> #REF! | AD32: =COUNTIF(#REF!,Parameters!B28) -> #REF! | AE32: =COUNTIF(#REF!,Parameters!B28) -> #REF!
B33: 29 | C33: Mohd Hashfizol Abu Hassan | D33: Snr. Field Operator | E33: =SUM(F33:Q33) -> #REF! | F33: =COUNTIF(#REF!,Parameters!B29) -> #REF! | G33: =COUNTIF(#REF!,Parameters!B29) -> #REF! | H33: =COUNTIF(#REF!,Parameters!B29) -> #REF! | I33: =COUNTIF(#REF!,Parameters!B35) -> #REF! | J33: =COUNTIF(#REF!,Parameters!B35) -> #REF! | K33: =COUNTIF(#REF!,Parameters!B35) -> #REF! | L33: =COUNTIF(#REF!,Parameters!B35) -> #REF! | M33: =COUNTIF(#REF!,Parameters!B35) -> #REF! | N33: =COUNTIF(#REF!,Parameters!B35) -> #REF! | O33: =COUNTIF(#REF!,Parameters!B35) -> #REF! | P33: =COUNTIF(#REF!,Parameters!B35) -> #REF! | Q33: =COUNTIF(#REF!,Parameters!B35) -> #REF! | S33: =SUM(T33:AE33) -> #REF! | T33: =COUNTIF(#REF!,Parameters!B29) -> #REF! | U33: =COUNTIF(#REF!,Parameters!B29) -> #REF! | V33: =COUNTIF(#REF!,Parameters!B29) -> #REF! | W33: =COUNTIF(#REF!,Parameters!B29) -> #REF! | X33: =COUNTIF(#REF!,Parameters!B29) -> #REF! | Y33: =COUNTIF(#REF!,Parameters!B29) -> #REF! | Z33: =COUNTIF(#REF!,Parameters!B29) -> #REF! | AA33: =COUNTIF(#REF!,Parameters!B29) -> #REF! | AB33: =COUNTIF(#REF!,Parameters!B29) -> #REF! | AC33: =COUNTIF(#REF!,Parameters!B29) -> #REF! | AD33: =COUNTIF(#REF!,Parameters!B29) -> #REF! | AE33: =COUNTIF(#REF!,Parameters!B29) -> #REF!
B34: 30 | C34: Mohd Hafizzudin Ngah | D34: Snr. Field Operator | E34: =SUM(F34:Q34) -> #REF! | F34: =COUNTIF(#REF!,Parameters!B30) -> #REF! | G34: =COUNTIF(#REF!,Parameters!B30) -> #REF! | H34: =COUNTIF(#REF!,Parameters!B30) -> #REF! | I34: =COUNTIF(#REF!,Parameters!#REF!) -> #REF! | J34: =COUNTIF(#REF!,Parameters!#REF!) -> #REF! | K34: =COUNTIF(#REF!,Parameters!#REF!) -> #REF! | L34: =COUNTIF(#REF!,Parameters!#REF!) -> #REF! | M34: =COUNTIF(#REF!,Parameters!#REF!) -> #REF! | N34: =COUNTIF(#REF!,Parameters!#REF!) -> #REF! | O34: =COUNTIF(#REF!,Parameters!#REF!) -> #REF! | P34: =COUNTIF(#REF!,Parameters!#REF!) -> #REF! | Q34: =COUNTIF(#REF!,Parameters!#REF!) -> #REF! | S34: =SUM(T34:AE34) -> #REF! | T34: =COUNTIF(#REF!,Parameters!B30) -> #REF! | U34: =COUNTIF(#REF!,Parameters!B30) -> #REF! | V34: =COUNTIF(#REF!,Parameters!B30) -> #REF! | W34: =COUNTIF(#REF!,Parameters!B30) -> #REF! | X34: =COUNTIF(#REF!,Parameters!B30) -> #REF! | Y34: =COUNTIF(#REF!,Parameters!B30) -> #REF! | Z34: =COUNTIF(#REF!,Parameters!B30) -> #REF! | AA34: =COUNTIF(#REF!,Parameters!B30) -> #REF! | AB34: =COUNTIF(#REF!,Parameters!B30) -> #REF! | AC34: =COUNTIF(#REF!,Parameters!B30) -> #REF! | AD34: =COUNTIF(#REF!,Parameters!B30) -> #REF! | AE34: =COUNTIF(#REF!,Parameters!B30) -> #REF!
B35: 31 | C35: Saiful Azlansyah Azli Abd Aziz | D35: Field Operator | E35: =SUM(F35:Q35) -> #REF! | F35: =COUNTIF(#REF!,Parameters!#REF!) -> #REF! | G35: =COUNTIF(#REF!,Parameters!#REF!) -> #REF! | H35: =COUNTIF(#REF!,Parameters!#REF!) -> #REF! | I35: =COUNTIF(#REF!,Parameters!B39) -> #REF! | J35: =COUNTIF(#REF!,Parameters!B39) -> #REF! | K35: =COUNTIF(#REF!,Parameters!B39) -> #REF! | L35: =COUNTIF(#REF!,Parameters!B39) -> #REF! | M35: =COUNTIF(#REF!,Parameters!B39) -> #REF! | N35: =COUNTIF(#REF!,Parameters!B39) -> #REF! | O35: =COUNTIF(#REF!,Parameters!B39) -> #REF! | P35: =COUNTIF(#REF!,Parameters!B39) -> #REF! | Q35: =COUNTIF(#REF!,Parameters!B39) -> #REF! | S35: =SUM(T35:AE35) -> #REF! | T35: =COUNTIF(#REF!,Parameters!#REF!) -> #REF! | U35: =COUNTIF(#REF!,Parameters!#REF!) -> #REF! | V35: =COUNTIF(#REF!,Parameters!#REF!) -> #REF! | W35: =COUNTIF(#REF!,Parameters!#REF!) -> #REF! | X35: =COUNTIF(#REF!,Parameters!#REF!) -> #REF! | Y35: =COUNTIF(#REF!,Parameters!#REF!) -> #REF! | Z35: =COUNTIF(#REF!,Parameters!#REF!) -> #REF! | AA35: =COUNTIF(#REF!,Parameters!#REF!) -> #REF! | ... AE35: =COUNTIF(#REF!,Parameters!#REF!) -> #REF!
B36: 32 | C36: Tuan Mohd Tarmizi Tuan Ahmad | D36: Field Operator | E36: =SUM(F36:Q36) -> #REF! | F36: =COUNTIF(#REF!,Parameters!B31) -> #REF! | G36: =COUNTIF(#REF!,Parameters!B31) -> #REF! | H36: =COUNTIF(#REF!,Parameters!B31) -> #REF! | I36: =COUNTIF(#REF!,Parameters!B41) -> #REF! | J36: =COUNTIF(#REF!,Parameters!B41) -> #REF! | K36: =COUNTIF(#REF!,Parameters!B41) -> #REF! | L36: =COUNTIF(#REF!,Parameters!B41) -> #REF! | M36: =COUNTIF(#REF!,Parameters!B41) -> #REF! | N36: =COUNTIF(#REF!,Parameters!B41) -> #REF! | O36: =COUNTIF(#REF!,Parameters!B41) -> #REF! | P36: =COUNTIF(#REF!,Parameters!B41) -> #REF! | Q36: =COUNTIF(#REF!,Parameters!B41) -> #REF! | S36: =SUM(T36:AE36) -> #REF! | T36: =COUNTIF(#REF!,Parameters!B31) -> #REF! | U36: =COUNTIF(#REF!,Parameters!B31) -> #REF! | V36: =COUNTIF(#REF!,Parameters!B31) -> #REF! | W36: =COUNTIF(#REF!,Parameters!B31) -> #REF! | X36: =COUNTIF(#REF!,Parameters!B31) -> #REF! | Y36: =COUNTIF(#REF!,Parameters!B31) -> #REF! | Z36: =COUNTIF(#REF!,Parameters!B31) -> #REF! | AA36: =COUNTIF(#REF!,Parameters!B31) -> #REF! | AB36: =COUNTIF(#REF!,Parameters!B31) -> #REF! | AC36: =COUNTIF(#REF!,Parameters!B31) -> #REF! | AD36: =COUNTIF(#REF!,Parameters!B31) -> #REF! | AE36: =COUNTIF(#REF!,Parameters!B31) -> #REF!
B37: 33 | C37: Mohamad Hamizan B Abd Razak | D37: Junior Field Operator | E37: =SUM(F37:Q37) -> #REF! | F37: =COUNTIF(#REF!,Parameters!B32) -> #REF! | G37: =COUNTIF(#REF!,Parameters!B32) -> #REF! | H37: =COUNTIF(#REF!,Parameters!B32) -> #REF! | I37: =COUNTIF(#REF!,Parameters!B42) -> #REF! | J37: =COUNTIF(#REF!,Parameters!B42) -> #REF! | K37: =COUNTIF(#REF!,Parameters!B42) -> #REF! | L37: =COUNTIF(#REF!,Parameters!B42) -> #REF! | M37: =COUNTIF(#REF!,Parameters!B42) -> #REF! | N37: =COUNTIF(#REF!,Parameters!B42) -> #REF! | O37: =COUNTIF(#REF!,Parameters!B42) -> #REF! | P37: =COUNTIF(#REF!,Parameters!B42) -> #REF! | Q37: =COUNTIF(#REF!,Parameters!B42) -> #REF! | S37: =SUM(T37:AE37) -> #REF! | T37: =COUNTIF(#REF!,Parameters!B32) -> #REF! | U37: =COUNTIF(#REF!,Parameters!B32) -> #REF! | V37: =COUNTIF(#REF!,Parameters!B32) -> #REF! | W37: =COUNTIF(#REF!,Parameters!B32) -> #REF! | X37: =COUNTIF(#REF!,Parameters!B32) -> #REF! | Y37: =COUNTIF(#REF!,Parameters!B32) -> #REF! | Z37: =COUNTIF(#REF!,Parameters!B32) -> #REF! | AA37: =COUNTIF(#REF!,Parameters!B32) -> #REF! | AB37: =COUNTIF(#REF!,Parameters!B32) -> #REF! | AC37: =COUNTIF(#REF!,Parameters!B32) -> #REF! | AD37: =COUNTIF(#REF!,Parameters!B32) -> #REF! | AE37: =COUNTIF(#REF!,Parameters!B32) -> #REF!
B38: 34 | C38: Tengku Mohd Shazwan B Tengku Subini | D38: Junior Field Operator | E38: =SUM(F38:Q38) -> #REF! | F38: =COUNTIF(#REF!,Parameters!B33) -> #REF! | G38: =COUNTIF(#REF!,Parameters!B33) -> #REF! | H38: =COUNTIF(#REF!,Parameters!B33) -> #REF! | I38: =COUNTIF(#REF!,Parameters!B43) -> #REF! | J38: =COUNTIF(#REF!,Parameters!B43) -> #REF! | K38: =COUNTIF(#REF!,Parameters!B43) -> #REF! | L38: =COUNTIF(#REF!,Parameters!B43) -> #REF! | M38: =COUNTIF(#REF!,Parameters!B43) -> #REF! | N38: =COUNTIF(#REF!,Parameters!B43) -> #REF! | O38: =COUNTIF(#REF!,Parameters!B43) -> #REF! | P38: =COUNTIF(#REF!,Parameters!B43) -> #REF! | Q38: =COUNTIF(#REF!,Parameters!B43) -> #REF! | S38: =SUM(T38:AE38) -> #REF! | T38: =COUNTIF(#REF!,Parameters!B33) -> #REF! | U38: =COUNTIF(#REF!,Parameters!B33) -> #REF! | V38: =COUNTIF(#REF!,Parameters!B33) -> #REF! | W38: =COUNTIF(#REF!,Parameters!B33) -> #REF! | X38: =COUNTIF(#REF!,Parameters!B33) -> #REF! | Y38: =COUNTIF(#REF!,Parameters!B33) -> #REF! | Z38: =COUNTIF(#REF!,Parameters!B33) -> #REF! | AA38: =COUNTIF(#REF!,Parameters!B33) -> #REF! | AB38: =COUNTIF(#REF!,Parameters!B33) -> #REF! | AC38: =COUNTIF(#REF!,Parameters!B33) -> #REF! | AD38: =COUNTIF(#REF!,Parameters!B33) -> #REF! | AE38: =COUNTIF(#REF!,Parameters!B33) -> #REF!
B39: 35 | C39: Arman Shah Abd Manaf | D39: Lab Technician | S39: =SUM(T39:AE39) -> #REF! | T39: =COUNTIF(#REF!,Parameters!B34) -> #REF! | U39: =COUNTIF(#REF!,Parameters!B34) -> #REF! | V39: =COUNTIF(#REF!,Parameters!B34) -> #REF! | W39: =COUNTIF(#REF!,Parameters!B34) -> #REF! | X39: =COUNTIF(#REF!,Parameters!B34) -> #REF! | Y39: =COUNTIF(#REF!,Parameters!B34) -> #REF! | Z39: =COUNTIF(#REF!,Parameters!B34) -> #REF! | AA39: =COUNTIF(#REF!,Parameters!B34) -> #REF! | AB39: =COUNTIF(#REF!,Parameters!B34) -> #REF! | AC39: =COUNTIF(#REF!,Parameters!B34) -> #REF! | AD39: =COUNTIF(#REF!,Parameters!B34) -> #REF! | AE39: =COUNTIF(#REF!,Parameters!B34) -> #REF!
B40: 36 | C40: Mohd Ibnul Hisham M.Shafie | D40: Sonde Technician | S40: =SUM(T40:AE40) -> #REF! | T40: =COUNTIF(#REF!,Parameters!B35) -> #REF! | U40: =COUNTIF(#REF!,Parameters!B35) -> #REF! | V40: =COUNTIF(#REF!,Parameters!B35) -> #REF! | W40: =COUNTIF(#REF!,Parameters!B35) -> #REF! | X40: =COUNTIF(#REF!,Parameters!B35) -> #REF! | Y40: =COUNTIF(#REF!,Parameters!B35) -> #REF! | Z40: =COUNTIF(#REF!,Parameters!B35) -> #REF! | AA40: =COUNTIF(#REF!,Parameters!B35) -> #REF! | AB40: =COUNTIF(#REF!,Parameters!B35) -> #REF! | AC40: =COUNTIF(#REF!,Parameters!B35) -> #REF! | AD40: =COUNTIF(#REF!,Parameters!B35) -> #REF! | AE40: =COUNTIF(#REF!,Parameters!B35) -> #REF!
B41: 37 | C41: Wan Muhklis Wan Harun | D41: Senior Mechanic (Hydraulic) | E41: =SUM(F41:Q41) -> #REF! | F41: =COUNTIF(#REF!,Parameters!B36) -> #REF! | G41: =COUNTIF(#REF!,Parameters!B36) -> #REF! | H41: =COUNTIF(#REF!,Parameters!B36) -> #REF! | I41: =COUNTIF(#REF!,Parameters!B50) -> #REF! | J41: =COUNTIF(#REF!,Parameters!B50) -> #REF! | K41: =COUNTIF(#REF!,Parameters!B50) -> #REF! | L41: =COUNTIF(#REF!,Parameters!B50) -> #REF! | M41: =COUNTIF(#REF!,Parameters!B50) -> #REF! | N41: =COUNTIF(#REF!,Parameters!B50) -> #REF! | O41: =COUNTIF(#REF!,Parameters!B50) -> #REF! | P41: =COUNTIF(#REF!,Parameters!B50) -> #REF! | Q41: =COUNTIF(#REF!,Parameters!B50) -> #REF! | S41: =SUM(T41:AE41) -> #REF! | T41: =COUNTIF(#REF!,Parameters!B36) -> #REF! | U41: =COUNTIF(#REF!,Parameters!B36) -> #REF! | V41: =COUNTIF(#REF!,Parameters!B36) -> #REF! | W41: =COUNTIF(#REF!,Parameters!B36) -> #REF! | X41: =COUNTIF(#REF!,Parameters!B36) -> #REF! | Y41: =COUNTIF(#REF!,Parameters!B36) -> #REF! | Z41: =COUNTIF(#REF!,Parameters!B36) -> #REF! | AA41: =COUNTIF(#REF!,Parameters!B36) -> #REF! | AB41: =COUNTIF(#REF!,Parameters!B36) -> #REF! | AC41: =COUNTIF(#REF!,Parameters!B36) -> #REF! | AD41: =COUNTIF(#REF!,Parameters!B36) -> #REF! | AE41: =COUNTIF(#REF!,Parameters!B36) -> #REF!
B42: 38 | C42: Seman Anak Jimat | D42: Mechanic | E42: =SUM(F42:Q42) -> #REF! | F42: =COUNTIF(#REF!,Parameters!#REF!) -> #REF! | G42: =COUNTIF(#REF!,Parameters!#REF!) -> #REF! | H42: =COUNTIF(#REF!,Parameters!#REF!) -> #REF! | I42: =COUNTIF(#REF!,Parameters!#REF!) -> #REF! | J42: =COUNTIF(#REF!,Parameters!#REF!) -> #REF! | K42: =COUNTIF(#REF!,Parameters!#REF!) -> #REF! | L42: =COUNTIF(#REF!,Parameters!#REF!) -> #REF! | M42: =COUNTIF(#REF!,Parameters!#REF!) -> #REF! | ... Q42: =COUNTIF(#REF!,Parameters!#REF!) -> #REF! | S42: =SUM(T42:AE42) -> #REF! | T42: =COUNTIF(#REF!,Parameters!#REF!) -> #REF! | U42: =COUNTIF(#REF!,Parameters!#REF!) -> #REF! | V42: =COUNTIF(#REF!,Parameters!#REF!) -> #REF! | W42: =COUNTIF(#REF!,Parameters!#REF!) -> #REF! | X42: =COUNTIF(#REF!,Parameters!#REF!) -> #REF! | Y42: =COUNTIF(#REF!,Parameters!#REF!) -> #REF! | Z42: =COUNTIF(#REF!,Parameters!#REF!) -> #REF! | AA42: =COUNTIF(#REF!,Parameters!#REF!) -> #REF! | ... AE42: =COUNTIF(#REF!,Parameters!#REF!) -> #REF!
B43: 39 | C43: Mohd Aref Safaren Mohd Nor @ Aziz | D43: Electric Technician | E43: =SUM(F43:Q43) -> #REF! | F43: =COUNTIF(#REF!,Parameters!B39) -> #REF! | G43: =COUNTIF(#REF!,Parameters!B39) -> #REF! | H43: =COUNTIF(#REF!,Parameters!B39) -> #REF! | I43: =COUNTIF(#REF!,Parameters!#REF!) -> #REF! | J43: =COUNTIF(#REF!,Parameters!#REF!) -> #REF! | K43: =COUNTIF(#REF!,Parameters!#REF!) -> #REF! | L43: =COUNTIF(#REF!,Parameters!#REF!) -> #REF! | M43: =COUNTIF(#REF!,Parameters!#REF!) -> #REF! | N43: =COUNTIF(#REF!,Parameters!#REF!) -> #REF! | O43: =COUNTIF(#REF!,Parameters!#REF!) -> #REF! | P43: =COUNTIF(#REF!,Parameters!#REF!) -> #REF! | Q43: =COUNTIF(#REF!,Parameters!#REF!) -> #REF! | S43: =SUM(T43:AE43) -> #REF! | T43: =COUNTIF(#REF!,Parameters!B39) -> #REF! | U43: =COUNTIF(#REF!,Parameters!B39) -> #REF! | V43: =COUNTIF(#REF!,Parameters!B39) -> #REF! | W43: =COUNTIF(#REF!,Parameters!B39) -> #REF! | X43: =COUNTIF(#REF!,Parameters!B39) -> #REF! | Y43: =COUNTIF(#REF!,Parameters!B39) -> #REF! | Z43: =COUNTIF(#REF!,Parameters!B39) -> #REF! | AA43: =COUNTIF(#REF!,Parameters!B39) -> #REF! | AB43: =COUNTIF(#REF!,Parameters!B39) -> #REF! | AC43: =COUNTIF(#REF!,Parameters!B39) -> #REF! | AD43: =COUNTIF(#REF!,Parameters!B39) -> #REF! | AE43: =COUNTIF(#REF!,Parameters!B39) -> #REF!
B44: 40 | C44: Saiful Adilin Che Mahadi | D44: PCE | E44: =SUM(F44:Q44) -> #REF! | F44: =COUNTIF(#REF!,Parameters!B40) -> #REF! | G44: =COUNTIF(#REF!,Parameters!B40) -> #REF! | H44: =COUNTIF(#REF!,Parameters!B40) -> #REF! | I44: =COUNTIF(#REF!,Parameters!#REF!) -> #REF! | J44: =COUNTIF(#REF!,Parameters!#REF!) -> #REF! | K44: =COUNTIF(#REF!,Parameters!#REF!) -> #REF! | L44: =COUNTIF(#REF!,Parameters!#REF!) -> #REF! | M44: =COUNTIF(#REF!,Parameters!#REF!) -> #REF! | N44: =COUNTIF(#REF!,Parameters!#REF!) -> #REF! | O44: =COUNTIF(#REF!,Parameters!#REF!) -> #REF! | P44: =COUNTIF(#REF!,Parameters!#REF!) -> #REF! | Q44: =COUNTIF(#REF!,Parameters!#REF!) -> #REF! | S44: =SUM(T44:AE44) -> #REF! | T44: =COUNTIF(#REF!,Parameters!B40) -> #REF! | U44: =COUNTIF(#REF!,Parameters!B40) -> #REF! | V44: =COUNTIF(#REF!,Parameters!B40) -> #REF! | W44: =COUNTIF(#REF!,Parameters!B40) -> #REF! | X44: =COUNTIF(#REF!,Parameters!B40) -> #REF! | Y44: =COUNTIF(#REF!,Parameters!B40) -> #REF! | Z44: =COUNTIF(#REF!,Parameters!B40) -> #REF! | AA44: =COUNTIF(#REF!,Parameters!B40) -> #REF! | AB44: =COUNTIF(#REF!,Parameters!B40) -> #REF! | AC44: =COUNTIF(#REF!,Parameters!B40) -> #REF! | AD44: =COUNTIF(#REF!,Parameters!B40) -> #REF! | AE44: =COUNTIF(#REF!,Parameters!B40) -> #REF!
B45: 41 | C45: Mohamad Zaimie Mohamad | D45: Senior Base Operator | E45: =SUM(F45:Q45) -> #REF! | F45: =COUNTIF(#REF!,Parameters!#REF!) -> #REF! | G45: =COUNTIF(#REF!,Parameters!#REF!) -> #REF! | H45: =COUNTIF(#REF!,Parameters!#REF!) -> #REF! | I45: =COUNTIF(#REF!,Parameters!#REF!) -> #REF! | J45: =COUNTIF(#REF!,Parameters!#REF!) -> #REF! | K45: =COUNTIF(#REF!,Parameters!#REF!) -> #REF! | S45: =SUM(T45:AE45) -> #REF! | T45: =COUNTIF(#REF!,Parameters!B41) -> #REF! | U45: =COUNTIF(#REF!,Parameters!B41) -> #REF! | V45: =COUNTIF(#REF!,Parameters!B41) -> #REF! | W45: =COUNTIF(#REF!,Parameters!B41) -> #REF! | X45: =COUNTIF(#REF!,Parameters!B41) -> #REF! | Y45: =COUNTIF(#REF!,Parameters!B41) -> #REF! | Z45: =COUNTIF(#REF!,Parameters!B41) -> #REF! | AA45: =COUNTIF(#REF!,Parameters!B41) -> #REF! | AB45: =COUNTIF(#REF!,Parameters!B41) -> #REF! | AC45: =COUNTIF(#REF!,Parameters!B41) -> #REF! | AD45: =COUNTIF(#REF!,Parameters!B41) -> #REF! | AE45: =COUNTIF(#REF!,Parameters!B41) -> #REF!
B46: 42 | C46: Mohd Hafiz Mohd Zullkipeli | D46: Field Specialist (PEXS) | E46: =SUM(F46:Q46) -> #REF! | F46: =COUNTIF(#REF!,Parameters!B42) -> #REF! | G46: =COUNTIF(#REF!,Parameters!B42) -> #REF! | H46: =COUNTIF(#REF!,Parameters!B42) -> #REF! | I46: =COUNTIF(#REF!,Parameters!#REF!) -> #REF! | J46: =COUNTIF(#REF!,Parameters!#REF!) -> #REF! | K46: =COUNTIF(#REF!,Parameters!#REF!) -> #REF! | L46: =COUNTIF(#REF!,Parameters!#REF!) -> #REF! | M46: =COUNTIF(#REF!,Parameters!#REF!) -> #REF! | N46: =COUNTIF(#REF!,Parameters!#REF!) -> #REF! | O46: =COUNTIF(#REF!,Parameters!#REF!) -> #REF! | P46: =COUNTIF(#REF!,Parameters!#REF!) -> #REF! | Q46: =COUNTIF(#REF!,Parameters!#REF!) -> #REF! | S46: =SUM(T46:AE46) -> #REF! | T46: =COUNTIF(#REF!,Parameters!B42) -> #REF! | U46: =COUNTIF(#REF!,Parameters!B42) -> #REF! | V46: =COUNTIF(#REF!,Parameters!B42) -> #REF! | W46: =COUNTIF(#REF!,Parameters!B42) -> #REF! | X46: =COUNTIF(#REF!,Parameters!B42) -> #REF! | Y46: =COUNTIF(#REF!,Parameters!B42) -> #REF! | Z46: =COUNTIF(#REF!,Parameters!B42) -> #REF! | AA46: =COUNTIF(#REF!,Parameters!B42) -> #REF! | AB46: =COUNTIF(#REF!,Parameters!B42) -> #REF! | AC46: =COUNTIF(#REF!,Parameters!B42) -> #REF! | AD46: =COUNTIF(#REF!,Parameters!B42) -> #REF! | AE46: =COUNTIF(#REF!,Parameters!B42) -> #REF!
B47: 43 | C47: Syed Abd Ghaffur Syed Ali | D47: Field Specialist (PEXS) | E47: =SUM(F47:Q47) -> #REF! | F47: =COUNTIF(#REF!,Parameters!B43) -> #REF! | G47: =COUNTIF(#REF!,Parameters!B43) -> #REF! | H47: =COUNTIF(#REF!,Parameters!B43) -> #REF! | I47: =COUNTIF(#REF!,Parameters!#REF!) -> #REF! | J47: =COUNTIF(#REF!,Parameters!#REF!) -> #REF! | K47: =COUNTIF(#REF!,Parameters!#REF!) -> #REF! | L47: =COUNTIF(#REF!,Parameters!#REF!) -> #REF! | M47: =COUNTIF(#REF!,Parameters!#REF!) -> #REF! | N47: =COUNTIF(#REF!,Parameters!#REF!) -> #REF! | O47: =COUNTIF(#REF!,Parameters!#REF!) -> #REF! | P47: =COUNTIF(#REF!,Parameters!#REF!) -> #REF! | Q47: =COUNTIF(#REF!,Parameters!#REF!) -> #REF! | S47: =SUM(T47:AE47) -> #REF! | T47: =COUNTIF(#REF!,Parameters!B43) -> #REF! | U47: =COUNTIF(#REF!,Parameters!B43) -> #REF! | V47: =COUNTIF(#REF!,Parameters!B43) -> #REF! | W47: =COUNTIF(#REF!,Parameters!B43) -> #REF! | X47: =COUNTIF(#REF!,Parameters!B43) -> #REF! | Y47: =COUNTIF(#REF!,Parameters!B43) -> #REF! | Z47: =COUNTIF(#REF!,Parameters!B43) -> #REF! | AA47: =COUNTIF(#REF!,Parameters!B43) -> #REF! | AB47: =COUNTIF(#REF!,Parameters!B43) -> #REF! | AC47: =COUNTIF(#REF!,Parameters!B43) -> #REF! | AD47: =COUNTIF(#REF!,Parameters!B43) -> #REF! | AE47: =COUNTIF(#REF!,Parameters!B43) -> #REF!
B48: 44 | C48: Shahurin Nazri B Abdullah | D48: CHS Trainer | S48: =SUM(T48:AE48) -> #REF! | T48: =COUNTIF(#REF!,Parameters!B44) -> #REF! | U48: =COUNTIF(#REF!,Parameters!B44) -> #REF! | V48: =COUNTIF(#REF!,Parameters!B44) -> #REF! | W48: =COUNTIF(#REF!,Parameters!B44) -> #REF! | X48: =COUNTIF(#REF!,Parameters!B44) -> #REF! | Y48: =COUNTIF(#REF!,Parameters!B44) -> #REF! | Z48: =COUNTIF(#REF!,Parameters!B44) -> #REF! | AA48: =COUNTIF(#REF!,Parameters!B44) -> #REF! | AB48: =COUNTIF(#REF!,Parameters!B44) -> #REF! | AC48: =COUNTIF(#REF!,Parameters!B44) -> #REF! | AD48: =COUNTIF(#REF!,Parameters!B44) -> #REF! | AE48: =COUNTIF(#REF!,Parameters!B44) -> #REF!
B49: 45 | C49: Mazlan Mohd | D49: Snr. Field Operator | S49: =SUM(T49:AE49) -> #REF! | T49: =COUNTIF(#REF!,Parameters!B47) -> #REF! | U49: =COUNTIF(#REF!,Parameters!B47) -> #REF! | V49: =COUNTIF(#REF!,Parameters!B47) -> #REF! | X49: =COUNTIF(#REF!,Parameters!B47) -> #REF! | Y49: =COUNTIF(#REF!,Parameters!B47) -> #REF! | AA49: =COUNTIF(#REF!,Parameters!B47) -> #REF! | AB49: =COUNTIF(#REF!,Parameters!B47) -> #REF! | AC49: =COUNTIF(#REF!,Parameters!B47) -> #REF! | AD49: =COUNTIF(#REF!,Parameters!B47) -> #REF! | AE49: =COUNTIF(#REF!,Parameters!B47) -> #REF!
B50: 46 | C50: Nur Shahirah Mohd Azmi | D50: Operation Executive | S50: =SUM(T50:AE50) -> #REF! | T50: =COUNTIF(#REF!,Parameters!B48) -> #REF! | U50: =COUNTIF(#REF!,Parameters!B48) -> #REF! | V50: =COUNTIF(#REF!,Parameters!B48) -> #REF! | W50: =COUNTIF(#REF!,Parameters!B48) -> #REF! | X50: =COUNTIF(#REF!,Parameters!B48) -> #REF! | Y50: =COUNTIF(#REF!,Parameters!B48) -> #REF! | Z50: =COUNTIF(#REF!,Parameters!B48) -> #REF! | AA50: =COUNTIF(#REF!,Parameters!B48) -> #REF! | AB50: =COUNTIF(#REF!,Parameters!B48) -> #REF! | AC50: =COUNTIF(#REF!,Parameters!B48) -> #REF! | AD50: =COUNTIF(#REF!,Parameters!B48) -> #REF! | AE50: =COUNTIF(#REF!,Parameters!B48) -> #REF!
B51: 47 | C51: Siti Fatimah Hanim Yusof | D51: Adminstrator Support | S51: =SUM(T51:AE51) -> #REF! | T51: =COUNTIF(#REF!,Parameters!B50) -> #REF! | U51: =COUNTIF(#REF!,Parameters!B50) -> #REF! | V51: =COUNTIF(#REF!,Parameters!B50) -> #REF! | W51: =COUNTIF(#REF!,Parameters!B50) -> #REF! | X51: =COUNTIF(#REF!,Parameters!B50) -> #REF! | Y51: =COUNTIF(#REF!,Parameters!B50) -> #REF! | Z51: =COUNTIF(#REF!,Parameters!B50) -> #REF! | AA51: =COUNTIF(#REF!,Parameters!B50) -> #REF! | AB51: =COUNTIF(#REF!,Parameters!B50) -> #REF! | AC51: =COUNTIF(#REF!,Parameters!B50) -> #REF! | AD51: =COUNTIF(#REF!,Parameters!B50) -> #REF! | AE51: =COUNTIF(#REF!,Parameters!B50) -> #REF!
F52: =SUM(F5:F47) -> #REF! | G52: =SUM(G5:G51) -> #REF! | H52: =SUM(H1:H47) -> #REF! | I52: =SUM(I1:I47) -> #REF! | J52: =SUM(J1:J47) -> #REF! | K52: =SUM(K5:K47) -> #REF! | L52: =SUM(L5:L47) -> #REF! | M52: =SUM(M1:M47) -> #REF! | N52: =SUM(N1:N47) -> #REF! | O52: =SUM(O1:O47) -> #REF! | P52: =SUM(P1:P47) -> #REF! | Q52: =SUM(Q8:Q44) -> #REF! | T52: =SUM(T5:T51) -> #REF! | U52: =SUM(U5:U51) -> #REF! | V52: =SUM(V5:V51) -> #REF! | W52: =SUM(W5:W51) -> #REF! | X52: =SUM(X5:X51) -> #REF! | Y52: =SUM(Y5:Y51) -> #REF! | Z52: =SUM(Z5:Z51) -> #REF! | AA52: =SUM(AA5:AA51) -> #REF! | ... AE52: =SUM(AE5:AE51) -> #REF!
C53: EMO CHS ,LABUAN
B54: 1 | C54: Faris Mohammad Firdaus | D54: EMO Field Service Manager | E54: =SUM(F54:Q54) -> #REF! | F54: =COUNTIF(#REF!,Parameters!B51) -> #REF! | G54: =COUNTIF(#REF!,Parameters!B51) -> #REF! | H54: =COUNTIF(#REF!,Parameters!B51) -> #REF! | I54: =COUNTIF(#REF!,Parameters!B51) -> #REF! | J54: =COUNTIF(#REF!,Parameters!B51) -> #REF! | K54: =COUNTIF(#REF!,Parameters!B51) -> #REF! | L54: =COUNTIF(#REF!,Parameters!B51) -> #REF! | S54: =SUM(T54:AE54) -> #REF! | T54: =COUNTIF(#REF!,Parameters!B51) -> #REF! | U54: =COUNTIF(#REF!,Parameters!B51) -> #REF! | V54: =COUNTIF(#REF!,Parameters!B51) -> #REF! | W54: =COUNTIF(#REF!,Parameters!B51) -> #REF! | X54: =COUNTIF(#REF!,Parameters!B51) -> #REF! | Y54: =COUNTIF(#REF!,Parameters!B51) -> #REF! | Z54: =COUNTIF(#REF!,Parameters!B51) -> #REF! | AA54: =COUNTIF(#REF!,Parameters!B51) -> #REF! | AB54: =COUNTIF(#REF!,Parameters!B51) -> #REF! | AC54: =COUNTIF(#REF!,Parameters!B51) -> #REF! | AD54: =COUNTIF(#REF!,Parameters!B51) -> #REF! | AE54: =COUNTIF(#REF!,Parameters!B51) -> #REF!
B55: 2 | C55: Cassidy Anak Jana | D55: Field Engineer II | E55: =SUM(F55:Q55) -> #REF! | F55: =COUNTIF(#REF!,Parameters!B54) -> #REF! | G55: =COUNTIF(#REF!,Parameters!B54) -> #REF! | H55: =COUNTIF(#REF!,Parameters!B54) -> #REF! | I55: =COUNTIF(#REF!,Parameters!B54) -> #REF! | J55: =COUNTIF(#REF!,Parameters!B54) -> #REF! | K55: =COUNTIF(#REF!,Parameters!B54) -> #REF! | L55: =COUNTIF(#REF!,Parameters!B54) -> #REF! | M55: =COUNTIF(#REF!,Parameters!B54) -> #REF! | N55: =COUNTIF(#REF!,Parameters!B54) -> #REF! | O55: =COUNTIF(#REF!,Parameters!B54) -> #REF! | P55: =COUNTIF(#REF!,Parameters!B54) -> #REF! | Q55: =COUNTIF(#REF!,Parameters!B54) -> #REF! | S55: =SUM(T55:AE55) -> #REF! | T55: =COUNTIF(#REF!,Parameters!B54) -> #REF! | U55: =COUNTIF(#REF!,Parameters!B54) -> #REF! | V55: =COUNTIF(#REF!,Parameters!B54) -> #REF! | W55: =COUNTIF(#REF!,Parameters!B54) -> #REF! | X55: =COUNTIF(#REF!,Parameters!B54) -> #REF! | Y55: =COUNTIF(#REF!,Parameters!B54) -> #REF! | Z55: =COUNTIF(#REF!,Parameters!B54) -> #REF! | AA55: =COUNTIF(#REF!,Parameters!B54) -> #REF! | AB55: =COUNTIF(#REF!,Parameters!B54) -> #REF! | AC55: =COUNTIF(#REF!,Parameters!B54) -> #REF! | AD55: =COUNTIF(#REF!,Parameters!B54) -> #REF! | AE55: =COUNTIF(#REF!,Parameters!B54) -> #REF!
B56: 3 | C56: Muhammad Raimi B Rafiuddin | D56: Junior Field Engineer | E56: =SUM(F56:Q56) -> #REF! | F56: =COUNTIF(#REF!,Parameters!B55) -> #REF! | G56: =COUNTIF(#REF!,Parameters!B55) -> #REF! | H56: =COUNTIF(#REF!,Parameters!B55) -> #REF! | I56: =COUNTIF(#REF!,Parameters!B55) -> #REF! | J56: =COUNTIF(#REF!,Parameters!B55) -> #REF! | K56: =COUNTIF(#REF!,Parameters!B55) -> #REF! | L56: =COUNTIF(#REF!,Parameters!B55) -> #REF! | M56: =COUNTIF(#REF!,Parameters!B55) -> #REF! | N56: =COUNTIF(#REF!,Parameters!B55) -> #REF! | O56: =COUNTIF(#REF!,Parameters!B55) -> #REF! | P56: =COUNTIF(#REF!,Parameters!B55) -> #REF! | Q56: =COUNTIF(#REF!,Parameters!B55) -> #REF! | S56: =SUM(T56:AE56) -> #REF! | T56: =COUNTIF(#REF!,Parameters!B55) -> #REF! | U56: =COUNTIF(#REF!,Parameters!B55) -> #REF! | V56: =COUNTIF(#REF!,Parameters!B55) -> #REF! | W56: =COUNTIF(#REF!,Parameters!B55) -> #REF! | X56: =COUNTIF(#REF!,Parameters!B55) -> #REF! | Y56: =COUNTIF(#REF!,Parameters!B55) -> #REF! | Z56: =COUNTIF(#REF!,Parameters!B55) -> #REF! | AA56: =COUNTIF(#REF!,Parameters!B55) -> #REF! | AB56: =COUNTIF(#REF!,Parameters!B55) -> #REF! | AC56: =COUNTIF(#REF!,Parameters!B55) -> #REF! | AD56: =COUNTIF(#REF!,Parameters!B55) -> #REF! | AE56: =COUNTIF(#REF!,Parameters!B55) -> #REF!
B57: 4 | C57: Mohd Miqdad b Yusree | D57: Junior Field Engineer | E57: =SUM(F57:Q57) -> #REF! | F57: =COUNTIF(#REF!,Parameters!#REF!) -> #REF! | G57: =COUNTIF(#REF!,Parameters!#REF!) -> #REF! | H57: =COUNTIF(#REF!,Parameters!#REF!) -> #REF! | I57: =COUNTIF(#REF!,Parameters!#REF!) -> #REF! | J57: =COUNTIF(#REF!,Parameters!#REF!) -> #REF! | K57: =COUNTIF(#REF!,Parameters!#REF!) -> #REF! | L57: =COUNTIF(#REF!,Parameters!#REF!) -> #REF! | M57: =COUNTIF(#REF!,Parameters!#REF!) -> #REF! | ... Q57: =COUNTIF(#REF!,Parameters!#REF!) -> #REF! | S57: =SUM(T57:AE57) -> #REF! | T57: =COUNTIF(#REF!,Parameters!#REF!) -> #REF! | U57: =COUNTIF(#REF!,Parameters!#REF!) -> #REF! | V57: =COUNTIF(#REF!,Parameters!#REF!) -> #REF! | W57: =COUNTIF(#REF!,Parameters!#REF!) -> #REF! | X57: =COUNTIF(#REF!,Parameters!#REF!) -> #REF! | Y57: =COUNTIF(#REF!,Parameters!#REF!) -> #REF! | Z57: =COUNTIF(#REF!,Parameters!#REF!) -> #REF! | AA57: =COUNTIF(#REF!,Parameters!#REF!) -> #REF! | ... AE57: =COUNTIF(#REF!,Parameters!#REF!) -> #REF!
B58: 5 | C58: Muhammad Khairi Abdullah Newson | D58: Foreman | E58: =SUM(F58:Q58) -> #REF! | F58: =COUNTIF(#REF!,Parameters!#REF!) -> #REF! | G58: =COUNTIF(#REF!,Parameters!B65) -> #REF! | H58: =COUNTIF(#REF!,Parameters!B65) -> #REF! | I58: =COUNTIF(#REF!,Parameters!B65) -> #REF! | J58: =COUNTIF(#REF!,Parameters!B65) -> #REF! | K58: =COUNTIF(#REF!,Parameters!B65) -> #REF! | L58: =COUNTIF(#REF!,Parameters!B65) -> #REF! | M58: =COUNTIF(#REF!,Parameters!B65) -> #REF! | N58: =COUNTIF(#REF!,Parameters!B65) -> #REF! | O58: =COUNTIF(#REF!,Parameters!B65) -> #REF! | P58: =COUNTIF(#REF!,Parameters!B65) -> #REF! | Q58: =COUNTIF(#REF!,Parameters!C61) -> #REF! | S58: =SUM(T58:AE58) -> #REF! | T58: =COUNTIF(#REF!,Parameters!B65) -> #REF! | U58: =COUNTIF(#REF!,Parameters!B65) -> #REF! | V58: =COUNTIF(#REF!,Parameters!B65) -> #REF! | W58: =COUNTIF(#REF!,Parameters!B65) -> #REF! | X58: =COUNTIF(#REF!,Parameters!B65) -> #REF! | Y58: =COUNTIF(#REF!,Parameters!B65) -> #REF! | Z58: =COUNTIF(#REF!,Parameters!B65) -> #REF! | AA58: =COUNTIF(#REF!,Parameters!B65) -> #REF! | AB58: =COUNTIF(#REF!,Parameters!B65) -> #REF! | AC58: =COUNTIF(#REF!,Parameters!B65) -> #REF! | AD58: =COUNTIF(#REF!,Parameters!B65) -> #REF! | AE58: =COUNTIF(#REF!,Parameters!B65) -> #REF!
B59: 6 | C59: Fabian Sungkip | D59: Crew Chief | E59: =SUM(F59:Q59) -> #REF! | F59: =COUNTIF(#REF!,Parameters!B68) -> #REF! | G59: =COUNTIF(#REF!,Parameters!B68) -> #REF! | H59: =COUNTIF(#REF!,Parameters!B69) -> #REF! | I59: =COUNTIF(#REF!,Parameters!B69) -> #REF! | J59: =COUNTIF(#REF!,Parameters!B69) -> #REF! | K59: =COUNTIF(#REF!,Parameters!B69) -> #REF! | L59: =COUNTIF(#REF!,Parameters!B69) -> #REF! | M59: =COUNTIF(#REF!,Parameters!B69) -> #REF! | N59: =COUNTIF(#REF!,Parameters!B69) -> #REF! | O59: =COUNTIF(#REF!,Parameters!B69) -> #REF! | P59: =COUNTIF(#REF!,Parameters!B69) -> #REF! | Q59: =COUNTIF(#REF!,Parameters!B69) -> #REF! | S59: =SUM(T59:AE59) -> #REF! | T59: =COUNTIF(#REF!,Parameters!B68) -> #REF! | U59: =COUNTIF(#REF!,Parameters!B68) -> #REF! | V59: =COUNTIF(#REF!,Parameters!B69) -> #REF! | W59: =COUNTIF(#REF!,Parameters!B69) -> #REF! | X59: =COUNTIF(#REF!,Parameters!B69) -> #REF! | Y59: =COUNTIF(#REF!,Parameters!B69) -> #REF! | Z59: =COUNTIF(#REF!,Parameters!B69) -> #REF! | AA59: =COUNTIF(#REF!,Parameters!B69) -> #REF! | AB59: =COUNTIF(#REF!,Parameters!B69) -> #REF! | AC59: =COUNTIF(#REF!,Parameters!B69) -> #REF! | AD59: =COUNTIF(#REF!,Parameters!B69) -> #REF! | AE59: =COUNTIF(#REF!,Parameters!B69) -> #REF!
B60: 7 | C60: Mohd Ismiruzika B Mohamed Ishak | D60: Crew Chief | E60: =SUM(F60:Q60) -> #REF! | F60: =COUNTIF(#REF!,Parameters!B69) -> #REF! | G60: =COUNTIF(#REF!,Parameters!B69) -> #REF! | H60: =COUNTIF(#REF!,Parameters!B70) -> #REF! | I60: =COUNTIF(#REF!,Parameters!B70) -> #REF! | J60: =COUNTIF(#REF!,Parameters!B70) -> #REF! | K60: =COUNTIF(#REF!,Parameters!B70) -> #REF! | L60: =COUNTIF(#REF!,Parameters!B70) -> #REF! | M60: =COUNTIF(#REF!,Parameters!B70) -> #REF! | N60: =COUNTIF(#REF!,Parameters!B70) -> #REF! | O60: =COUNTIF(#REF!,Parameters!B70) -> #REF! | P60: =COUNTIF(#REF!,Parameters!B70) -> #REF! | Q60: =COUNTIF(#REF!,Parameters!B70) -> #REF! | S60: =SUM(T60:AE60) -> #REF! | T60: =COUNTIF(#REF!,Parameters!B69) -> #REF! | U60: =COUNTIF(#REF!,Parameters!B69) -> #REF! | V60: =COUNTIF(#REF!,Parameters!B70) -> #REF! | W60: =COUNTIF(#REF!,Parameters!B70) -> #REF! | X60: =COUNTIF(#REF!,Parameters!B70) -> #REF! | Y60: =COUNTIF(#REF!,Parameters!B70) -> #REF! | Z60: =COUNTIF(#REF!,Parameters!B70) -> #REF! | AA60: =COUNTIF(#REF!,Parameters!B70) -> #REF! | AB60: =COUNTIF(#REF!,Parameters!B70) -> #REF! | AC60: =COUNTIF(#REF!,Parameters!B70) -> #REF! | AD60: =COUNTIF(#REF!,Parameters!B70) -> #REF! | AE60: =COUNTIF(#REF!,Parameters!B70) -> #REF!
B61: 8 | C61: Stephen Julian | D61: Crew Chief | E61: =SUM(F61:Q61) -> #REF! | F61: =COUNTIF(#REF!,Parameters!B70) -> #REF! | G61: =COUNTIF(#REF!,Parameters!B70) -> #REF! | H61: =COUNTIF(#REF!,Parameters!B72) -> #REF! | I61: =COUNTIF(#REF!,Parameters!B72) -> #REF! | J61: =COUNTIF(#REF!,Parameters!B72) -> #REF! | K61: =COUNTIF(#REF!,Parameters!B72) -> #REF! | L61: =COUNTIF(#REF!,Parameters!B72) -> #REF! | M61: =COUNTIF(#REF!,Parameters!B72) -> #REF! | N61: =COUNTIF(#REF!,Parameters!B72) -> #REF! | O61: =COUNTIF(#REF!,Parameters!B72) -> #REF! | P61: =COUNTIF(#REF!,Parameters!B72) -> #REF! | Q61: =COUNTIF(#REF!,Parameters!B72) -> #REF! | S61: =SUM(T61:AE61) -> #REF! | T61: =COUNTIF(#REF!,Parameters!B70) -> #REF! | U61: =COUNTIF(#REF!,Parameters!B70) -> #REF! | V61: =COUNTIF(#REF!,Parameters!B72) -> #REF! | W61: =COUNTIF(#REF!,Parameters!B72) -> #REF! | X61: =COUNTIF(#REF!,Parameters!B72) -> #REF! | Y61: =COUNTIF(#REF!,Parameters!B72) -> #REF! | Z61: =COUNTIF(#REF!,Parameters!B72) -> #REF! | AA61: =COUNTIF(#REF!,Parameters!B72) -> #REF! | AB61: =COUNTIF(#REF!,Parameters!B72) -> #REF! | AC61: =COUNTIF(#REF!,Parameters!B72) -> #REF! | AD61: =COUNTIF(#REF!,Parameters!B72) -> #REF! | AE61: =COUNTIF(#REF!,Parameters!B72) -> #REF!
B62: 9 | C62: Azman B Wahab | D62: Senior Field Operator | E62: =SUM(F62:Q62) -> #REF! | F62: =COUNTIF(#REF!,Parameters!B72) -> #REF! | G62: =COUNTIF(#REF!,Parameters!B72) -> #REF! | H62: =COUNTIF(#REF!,Parameters!B75) -> #REF! | I62: =COUNTIF(#REF!,Parameters!B75) -> #REF! | J62: =COUNTIF(#REF!,Parameters!B75) -> #REF! | K62: =COUNTIF(#REF!,Parameters!B75) -> #REF! | L62: =COUNTIF(#REF!,Parameters!B75) -> #REF! | M62: =COUNTIF(#REF!,Parameters!B75) -> #REF! | N62: =COUNTIF(#REF!,Parameters!B75) -> #REF! | O62: =COUNTIF(#REF!,Parameters!B75) -> #REF! | P62: =COUNTIF(#REF!,Parameters!B75) -> #REF! | Q62: =COUNTIF(#REF!,Parameters!B75) -> #REF! | S62: =SUM(T62:AE62) -> #REF! | T62: =COUNTIF(#REF!,Parameters!B72) -> #REF! | U62: =COUNTIF(#REF!,Parameters!B72) -> #REF! | V62: =COUNTIF(#REF!,Parameters!B75) -> #REF! | W62: =COUNTIF(#REF!,Parameters!B75) -> #REF! | X62: =COUNTIF(#REF!,Parameters!B75) -> #REF! | Y62: =COUNTIF(#REF!,Parameters!B75) -> #REF! | Z62: =COUNTIF(#REF!,Parameters!B75) -> #REF! | AA62: =COUNTIF(#REF!,Parameters!B75) -> #REF! | AB62: =COUNTIF(#REF!,Parameters!B75) -> #REF! | AC62: =COUNTIF(#REF!,Parameters!B75) -> #REF! | AD62: =COUNTIF(#REF!,Parameters!B75) -> #REF! | AE62: =COUNTIF(#REF!,Parameters!B75) -> #REF!
B63: 10 | C63: Jacob Jimbat | D63: Senior Field Operator | E63: =SUM(F63:Q63) -> #REF! | F63: =COUNTIF(#REF!,Parameters!B75) -> #REF! | G63: =COUNTIF(#REF!,Parameters!B75) -> #REF! | H63: =COUNTIF(#REF!,Parameters!#REF!) -> #REF! | I63: =COUNTIF(#REF!,Parameters!#REF!) -> #REF! | J63: =COUNTIF(#REF!,Parameters!#REF!) -> #REF! | K63: =COUNTIF(#REF!,Parameters!#REF!) -> #REF! | L63: =COUNTIF(#REF!,Parameters!#REF!) -> #REF! | M63: =COUNTIF(#REF!,Parameters!#REF!) -> #REF! | N63: =COUNTIF(#REF!,Parameters!#REF!) -> #REF! | O63: =COUNTIF(#REF!,Parameters!#REF!) -> #REF! | ... Q63: =COUNTIF(#REF!,Parameters!#REF!) -> #REF! | S63: =SUM(T63:AE63) -> #REF! | T63: =COUNTIF(#REF!,Parameters!B75) -> #REF! | U63: =COUNTIF(#REF!,Parameters!B75) -> #REF! | V63: =COUNTIF(#REF!,Parameters!#REF!) -> #REF! | W63: =COUNTIF(#REF!,Parameters!#REF!) -> #REF! | X63: =COUNTIF(#REF!,Parameters!#REF!) -> #REF! | Y63: =COUNTIF(#REF!,Parameters!#REF!) -> #REF! | Z63: =COUNTIF(#REF!,Parameters!#REF!) -> #REF! | AA63: =COUNTIF(#REF!,Parameters!#REF!) -> #REF! | AB63: =COUNTIF(#REF!,Parameters!#REF!) -> #REF! | AC63: =COUNTIF(#REF!,Parameters!#REF!) -> #REF! | ... AE63: =COUNTIF(#REF!,Parameters!#REF!) -> #REF!
B64: 11 | C64: Joseph Banjis Ongkim | D64: Junior Field Operator | E64: =SUM(F64:Q64) -> #REF! | F64: =COUNTIF(#REF!,Parameters!#REF!) -> #REF! | G64: =COUNTIF(#REF!,Parameters!#REF!) -> #REF! | H64: =COUNTIF(#REF!,Parameters!#REF!) -> #REF! | I64: =COUNTIF(#REF!,Parameters!B86) -> #REF! | J64: =COUNTIF(#REF!,Parameters!B86) -> #REF! | K64: =COUNTIF(#REF!,Parameters!B86) -> #REF! | L64: =COUNTIF(#REF!,Parameters!B86) -> #REF! | M64: =COUNTIF(#REF!,Parameters!B86) -> #REF! | N64: =COUNTIF(#REF!,Parameters!B86) -> #REF! | O64: =COUNTIF(#REF!,Parameters!B86) -> #REF! | P64: =COUNTIF(#REF!,Parameters!B86) -> #REF! | Q64: =COUNTIF(#REF!,Parameters!B86) -> #REF! | S64: =SUM(T64:AE64) -> #REF! | T64: =COUNTIF(#REF!,Parameters!#REF!) -> #REF! | U64: =COUNTIF(#REF!,Parameters!#REF!) -> #REF! | V64: =COUNTIF(#REF!,Parameters!B87) -> #REF! | W64: =COUNTIF(#REF!,Parameters!B87) -> #REF! | X64: =COUNTIF(#REF!,Parameters!B87) -> #REF! | Y64: =COUNTIF(#REF!,Parameters!B87) -> #REF! | Z64: =COUNTIF(#REF!,Parameters!B87) -> #REF! | AA64: =COUNTIF(#REF!,Parameters!B87) -> #REF! | AB64: =COUNTIF(#REF!,Parameters!B87) -> #REF! | AC64: =COUNTIF(#REF!,Parameters!B87) -> #REF! | AD64: =COUNTIF(#REF!,Parameters!B87) -> #REF! | AE64: =COUNTIF(#REF!,Parameters!B87) -> #REF!
B65: 12 | C65: Mohd Safdan | D65: Senior Field Specialist | E65: =SUM(F65:Q65) -> #REF! | F65: =COUNTIF(#REF!,Parameters!B86) -> #REF! | G65: =COUNTIF(#REF!,Parameters!B86) -> #REF! | H65: =COUNTIF(#REF!,Parameters!B87) -> #REF! | I65: =COUNTIF(#REF!,Parameters!B87) -> #REF! | J65: =COUNTIF(#REF!,Parameters!B87) -> #REF! | K65: =COUNTIF(#REF!,Parameters!B87) -> #REF! | L65: =COUNTIF(#REF!,Parameters!B87) -> #REF! | M65: =COUNTIF(#REF!,Parameters!B87) -> #REF! | N65: =COUNTIF(#REF!,Parameters!B87) -> #REF! | O65: =COUNTIF(#REF!,Parameters!B87) -> #REF! | P65: =COUNTIF(#REF!,Parameters!B87) -> #REF! | Q65: =COUNTIF(#REF!,Parameters!B87) -> #REF! | S65: =SUM(T65:AE65) -> #REF! | T65: =COUNTIF(#REF!,Parameters!B86) -> #REF! | U65: =COUNTIF(#REF!,Parameters!B86) -> #REF! | V65: =COUNTIF(#REF!,Parameters!B89) -> #REF! | W65: =COUNTIF(#REF!,Parameters!B89) -> #REF! | X65: =COUNTIF(#REF!,Parameters!B89) -> #REF! | Y65: =COUNTIF(#REF!,Parameters!B89) -> #REF! | Z65: =COUNTIF(#REF!,Parameters!B89) -> #REF! | AA65: =COUNTIF(#REF!,Parameters!B89) -> #REF! | AB65: =COUNTIF(#REF!,Parameters!B89) -> #REF! | AC65: =COUNTIF(#REF!,Parameters!B89) -> #REF! | AD65: =COUNTIF(#REF!,Parameters!B89) -> #REF! | AE65: =COUNTIF(#REF!,Parameters!B89) -> #REF!
B66: 13 | C66: Sylevister Charles | D66: Mechanical Technician | E66: =SUM(F66:Q66) -> #REF! | F66: =COUNTIF(#REF!,Parameters!#REF!) -> #REF! | G66: =COUNTIF(#REF!,Parameters!#REF!) -> #REF! | H66: =COUNTIF(#REF!,Parameters!#REF!) -> #REF! | I66: =COUNTIF(#REF!,Parameters!#REF!) -> #REF! | J66: =COUNTIF(#REF!,Parameters!#REF!) -> #REF! | K66: =COUNTIF(#REF!,Parameters!#REF!) -> #REF! | S66: =SUM(T66:AE66) -> #REF! | T66: =COUNTIF(#REF!,Parameters!B87) -> #REF! | U66: =COUNTIF(#REF!,Parameters!B87) -> #REF! | V66: =COUNTIF(#REF!,Parameters!#REF!) -> #REF! | W66: =COUNTIF(#REF!,Parameters!#REF!) -> #REF! | X66: =COUNTIF(#REF!,Parameters!#REF!) -> #REF! | Y66: =COUNTIF(#REF!,Parameters!#REF!) -> #REF! | Z66: =COUNTIF(#REF!,Parameters!#REF!) -> #REF! | AA66: =COUNTIF(#REF!,Parameters!#REF!) -> #REF! | AB66: =COUNTIF(#REF!,Parameters!#REF!) -> #REF! | AC66: =COUNTIF(#REF!,Parameters!#REF!) -> #REF! | ... AE66: =COUNTIF(#REF!,Parameters!#REF!) -> #REF!
B67: 14 | C67: Mohd Ismirudyka B Mohamed Ishak | D67: Lab Technician | E67: =SUM(F67:Q67) -> #REF! | F67: =COUNTIF(#REF!,Parameters!#REF!) -> #REF! | G67: =COUNTIF(#REF!,Parameters!#REF!) -> #REF! | H67: =COUNTIF(#REF!,Parameters!#REF!) -> #REF! | I67: =COUNTIF(#REF!,Parameters!#REF!) -> #REF! | J67: =COUNTIF(#REF!,Parameters!#REF!) -> #REF! | K67: =COUNTIF(#REF!,Parameters!#REF!) -> #REF! | S67: =SUM(T67:AE67) -> #REF! | T67: =COUNTIF(#REF!,Parameters!B89) -> #REF! | U67: =COUNTIF(#REF!,Parameters!B89) -> #REF! | V67: =COUNTIF(#REF!,Parameters!#REF!) -> #REF! | W67: =COUNTIF(#REF!,Parameters!#REF!) -> #REF! | X67: =COUNTIF(#REF!,Parameters!#REF!) -> #REF! | Y67: =COUNTIF(#REF!,Parameters!#REF!) -> #REF! | Z67: =COUNTIF(#REF!,Parameters!#REF!) -> #REF! | AA67: =COUNTIF(#REF!,Parameters!#REF!) -> #REF! | AB67: =COUNTIF(#REF!,Parameters!#REF!) -> #REF! | AC67: =COUNTIF(#REF!,Parameters!#REF!) -> #REF! | ... AE67: =COUNTIF(#REF!,Parameters!#REF!) -> #REF!
F68: =SUM(F54:F67) -> #REF! | G68: =SUM(G54:G67) -> #REF! | H68: =SUM(H55:H67) -> #REF! | I68: =SUM(I53:I67) -> #REF! | J68: =SUM(J54:J67) -> #REF! | K68: =SUM(K54:K67) -> #REF! | L68: =SUM(L54:L67) -> #REF! | M68: =SUM(M54:M67) -> #REF! | N68: =SUM(N54:N67) -> #REF! | O68: =SUM(O5:O51) -> #REF! | P68: =SUM(P55:P64) -> #REF! | Q68: =SUM(Q55:Q64) -> #REF! | T68: =SUM(T54:T67) -> #REF! | U68: =SUM(U54:U67) -> #REF! | V68: =SUM(V54:V67) -> #REF! | W68: =SUM(W54:W67) -> #REF! | X68: =SUM(X54:X67) -> #REF! | Y68: =SUM(Y54:Y67) -> #REF! | Z68: =SUM(Z54:Z67) -> #REF! | AA68: =SUM(AA54:AA67) -> #REF! | ... AE68: =SUM(AE54:AE67) -> #REF!
C70: MONTH | D70: TOTAL HAZARD HUNT | E70: Unsafe Condition | F70: Positive Behaviour | G70: Unsafe Act | H70: Suggestion | I70: Near Miss | J70: BASE WMO | K70: BASE EMO | L70: PMO | M70: SKO | N70: SBO | O70: SKG | P70: VESTIGO | Q70: ROC OIL | R70: CHESS | S70: SHELL | T70: ENQUEST | U70: COASTAL | V70: REPSOL | W70: EXXON | X70: JNX NIPPON | Y70: SEAH | Z70: MYANMAR | AA70: TURK
C71: January | D71: =SUM(E71:I71) -> #REF! | E71: =COUNTIF(#REF!,Parameters!H4) -> #REF! | F71: =COUNTIF(#REF!,Parameters!H5) -> #REF! | G71: =COUNTIF(#REF!,Parameters!H6) -> #REF! | H71: =COUNTIF(#REF!,Parameters!K6) -> #REF! | I71: =COUNTIF(#REF!,Parameters!H8) -> #REF! | J71: =COUNTIF(#REF!,Parameters!D22) -> #REF! | K71: =COUNTIF(#REF!,Parameters!D23) -> #REF! | L71: =COUNTIF(#REF!,Parameters!D4) -> #REF! | M71: =COUNTIF(#REF!,Parameters!D5) -> #REF! | N71: =COUNTIF(#REF!,Parameters!D6) -> #REF! | P71: =COUNTIF(#REF!,Parameters!D9) -> #REF! | Q71: =COUNTIF(#REF!,Parameters!D10) -> #REF! | R71: =COUNTIF(#REF!,Parameters!D11) -> #REF! | S71: =COUNTIF(#REF!,Parameters!D13) -> #REF! | T71: =COUNTIF(#REF!,Parameters!D14) -> #REF! | U71: =COUNTIF(#REF!,Parameters!D15) -> #REF! | V71: =COUNTIF(#REF!,Parameters!D16) -> #REF! | W71: =COUNTIF(#REF!,Parameters!E14) -> #REF! | X71: =COUNTIF(#REF!,Parameters!D18) -> #REF! | Z71: =COUNTIF(#REF!,Parameters!D20) -> #REF! | AA71: =COUNTIF(#REF!,Parameters!C14) -> #REF! | AB71: =SUM(J71:AA71) -> #REF!
C72: February | D72: =SUM(E72:I72) -> #REF! | E72: =COUNTIF(#REF!,Parameters!H4) -> #REF! | F72: =COUNTIF(#REF!,Parameters!H5) -> #REF! | G72: =COUNTIF(#REF!,Parameters!H6) -> #REF! | H72: =COUNTIF(#REF!,Parameters!K6) -> #REF! | I72: =COUNTIF(#REF!,Parameters!H8) -> #REF! | J72: =COUNTIF(#REF!,Parameters!D22) -> #REF! | K72: =COUNTIF(#REF!,Parameters!D23) -> #REF! | L72: =COUNTIF(#REF!,Parameters!D4) -> #REF! | M72: =COUNTIF(#REF!,Parameters!D5) -> #REF! | N72: =COUNTIF(#REF!,Parameters!D6) -> #REF! | P72: =COUNTIF(#REF!,Parameters!D9) -> #REF! | Q72: =COUNTIF(#REF!,Parameters!D10) -> #REF! | R72: =COUNTIF(#REF!,Parameters!D11) -> #REF! | S72: =COUNTIF(#REF!,Parameters!D13) -> #REF! | T72: =COUNTIF(#REF!,Parameters!D14) -> #REF! | U72: =COUNTIF(#REF!,Parameters!D15) -> #REF! | V72: =COUNTIF(#REF!,Parameters!D16) -> #REF! | W72: =COUNTIF(#REF!,Parameters!E14) -> #REF! | X72: =COUNTIF(#REF!,Parameters!D18) -> #REF! | Z72: =COUNTIF(#REF!,Parameters!D20) -> #REF! | AA72: =COUNTIF(#REF!,Parameters!C15) -> #REF! | AB72: =SUM(J72:AA72) -> #REF!
C73: March | D73: =SUM(E73:I73) -> #REF! | E73: =COUNTIF(#REF!,Parameters!H4) -> #REF! | F73: =COUNTIF(#REF!,Parameters!H5) -> #REF! | G73: =COUNTIF(#REF!,Parameters!H6) -> #REF! | H73: =COUNTIF(#REF!,Parameters!K6) -> #REF! | I73: =COUNTIF(#REF!,Parameters!H8) -> #REF! | J73: =COUNTIF(#REF!,Parameters!D22) -> #REF! | K73: =COUNTIF(#REF!,Parameters!D23) -> #REF! | L73: =COUNTIF(#REF!,Parameters!D4) -> #REF! | M73: =COUNTIF(#REF!,Parameters!D5) -> #REF! | N73: =COUNTIF(#REF!,Parameters!D6) -> #REF! | O73: =COUNTIF(#REF!,Parameters!D7) -> #REF! | P73: =COUNTIF(#REF!,Parameters!D9) -> #REF! | Q73: =COUNTIF(#REF!,Parameters!D10) -> #REF! | R73: =COUNTIF(#REF!,Parameters!D11) -> #REF! | S73: =COUNTIF(#REF!,Parameters!D13) -> #REF! | T73: =COUNTIF(#REF!,Parameters!D14) -> #REF! | U73: =COUNTIF(#REF!,Parameters!D15) -> #REF! | V73: =COUNTIF(#REF!,Parameters!D16) -> #REF! | W73: =COUNTIF(#REF!,Parameters!D17) -> #REF! | X73: =COUNTIF(#REF!,Parameters!D18) -> #REF! | Y73: =COUNTIF(#REF!,Parameters!D19) -> #REF! | Z73: =COUNTIF(#REF!,Parameters!D20) -> #REF! | AA73: =COUNTIF(#REF!,Parameters!D21) -> #REF! | AB73: =SUM(J73:AA73) -> #REF!
C74: April | D74: =SUM(E74:I74) -> #REF! | E74: =COUNTIF(#REF!,Parameters!H4) -> #REF! | F74: =COUNTIF(#REF!,Parameters!H5) -> #REF! | G74: =COUNTIF(#REF!,Parameters!H6) -> #REF! | H74: =COUNTIF(#REF!,Parameters!K6) -> #REF! | I74: =COUNTIF(#REF!,Parameters!H8) -> #REF! | J74: =COUNTIF(#REF!,Parameters!D22) -> #REF! | K74: =COUNTIF(#REF!,Parameters!D23) -> #REF! | L74: =COUNTIF(#REF!,Parameters!D4) -> #REF! | M74: =COUNTIF(#REF!,Parameters!D5) -> #REF! | N74: =COUNTIF(#REF!,Parameters!D6) -> #REF! | P74: =COUNTIF(#REF!,Parameters!D9) -> #REF! | Q74: =COUNTIF(#REF!,Parameters!D10) -> #REF! | R74: =COUNTIF(#REF!,Parameters!D11) -> #REF! | S74: =COUNTIF(#REF!,Parameters!D13) -> #REF! | T74: =COUNTIF(#REF!,Parameters!D14) -> #REF! | U74: =COUNTIF(#REF!,Parameters!D15) -> #REF! | V74: =COUNTIF(#REF!,Parameters!D16) -> #REF! | W74: =COUNTIF(#REF!,Parameters!E14) -> #REF! | X74: =COUNTIF(#REF!,Parameters!D18) -> #REF! | Z74: =COUNTIF(#REF!,Parameters!D20) -> #REF! | AA74: =COUNTIF(#REF!,Parameters!D21) -> #REF! | AB74: =SUM(J74:AA74) -> #REF!
C75: May | D75: =SUM(E75:I75) -> #REF! | E75: =COUNTIF(#REF!,Parameters!H4) -> #REF! | F75: =COUNTIF(#REF!,Parameters!H5) -> #REF! | G75: =COUNTIF(#REF!,Parameters!H6) -> #REF! | H75: =COUNTIF(#REF!,Parameters!K6) -> #REF! | I75: =COUNTIF(#REF!,Parameters!H8) -> #REF! | J75: =COUNTIF(#REF!,Parameters!D22) -> #REF! | K75: =COUNTIF(#REF!,Parameters!D23) -> #REF! | L75: =COUNTIF(#REF!,Parameters!D4) -> #REF! | M75: =COUNTIF(#REF!,Parameters!D5) -> #REF! | N75: =COUNTIF(#REF!,Parameters!D6) -> #REF! | P75: =COUNTIF(#REF!,Parameters!D9) -> #REF! | Q75: =COUNTIF(#REF!,Parameters!D10) -> #REF! | R75: =COUNTIF(#REF!,Parameters!D11) -> #REF! | S75: =COUNTIF(#REF!,Parameters!D13) -> #REF! | T75: =COUNTIF(#REF!,Parameters!D14) -> #REF! | U75: =COUNTIF(#REF!,Parameters!D15) -> #REF! | V75: =COUNTIF(#REF!,Parameters!D16) -> #REF! | W75: =COUNTIF(#REF!,Parameters!#REF!) -> #REF! | X75: =COUNTIF(#REF!,Parameters!D18) -> #REF! | Z75: =COUNTIF(#REF!,Parameters!D20) -> #REF! | AA75: =COUNTIF(#REF!,Parameters!D21) -> #REF! | AB75: =SUM(J75:AA75) -> #REF!
C76: June | D76: =SUM(E76:I76) -> #REF! | E76: =COUNTIF(#REF!,Parameters!H4) -> #REF! | F76: =COUNTIF(#REF!,Parameters!H5) -> #REF! | G76: =COUNTIF(#REF!,Parameters!H6) -> #REF! | H76: =COUNTIF(#REF!,Parameters!H7) -> #REF! | I76: =COUNTIF(#REF!,Parameters!H8) -> #REF! | J76: =COUNTIF(#REF!,Parameters!D22) -> #REF! | K76: =COUNTIF(#REF!,Parameters!D23) -> #REF! | L76: =COUNTIF(#REF!,Parameters!D4) -> #REF! | M76: =COUNTIF(#REF!,Parameters!D5) -> #REF! | N76: =COUNTIF(#REF!,Parameters!D6) -> #REF! | P76: =COUNTIF(#REF!,Parameters!D9) -> #REF! | Q76: =COUNTIF(#REF!,Parameters!D10) -> #REF! | R76: =COUNTIF(#REF!,Parameters!D11) -> #REF! | S76: =COUNTIF(#REF!,Parameters!D13) -> #REF! | T76: =COUNTIF(#REF!,Parameters!D14) -> #REF! | U76: =COUNTIF(#REF!,Parameters!D15) -> #REF! | V76: =COUNTIF(#REF!,Parameters!D16) -> #REF! | W76: =COUNTIF(#REF!,Parameters!#REF!) -> #REF! | X76: =COUNTIF(#REF!,Parameters!D18) -> #REF! | Z76: =COUNTIF(#REF!,Parameters!D20) -> #REF! | AA76: =COUNTIF(#REF!,Parameters!C16) -> #REF! | AB76: =SUM(J76:AA76) -> #REF!
C77: July | D77: =SUM(E77:I77) -> #REF! | E77: =COUNTIF(#REF!,Parameters!H4) -> #REF! | F77: =COUNTIF(#REF!,Parameters!H5) -> #REF! | G77: =COUNTIF(#REF!,Parameters!H6) -> #REF! | H77: =COUNTIF(#REF!,Parameters!H7) -> #REF! | I77: =COUNTIF(#REF!,Parameters!H8) -> #REF! | J77: =COUNTIF(#REF!,Parameters!D22) -> #REF! | K77: =COUNTIF(#REF!,Parameters!D23) -> #REF! | L77: =COUNTIF(#REF!,Parameters!D4) -> #REF! | M77: =COUNTIF(#REF!,Parameters!D5) -> #REF! | N77: =COUNTIF(#REF!,Parameters!D6) -> #REF! | P77: =COUNTIF(#REF!,Parameters!D9) -> #REF! | Q77: =COUNTIF(#REF!,Parameters!D10) -> #REF! | R77: =COUNTIF(#REF!,Parameters!D11) -> #REF! | S77: =COUNTIF(#REF!,Parameters!H11) -> #REF! | T77: =COUNTIF(#REF!,Parameters!D14) -> #REF! | U77: =COUNTIF(#REF!,Parameters!D15) -> #REF! | V77: =COUNTIF(#REF!,Parameters!D16) -> #REF! | W77: =COUNTIF(#REF!,Parameters!#REF!) -> #REF! | X77: =COUNTIF(#REF!,Parameters!D18) -> #REF! | Z77: =COUNTIF(#REF!,Parameters!D20) -> #REF! | AA77: =COUNTIF(#REF!,Parameters!C16) -> #REF! | AB77: =SUM(J77:AA77) -> #REF!
C78: August | D78: =SUM(E78:I78) -> #REF! | E78: =COUNTIF(#REF!,Parameters!H4) -> #REF! | F78: =COUNTIF(#REF!,Parameters!H5) -> #REF! | G78: =COUNTIF(#REF!,Parameters!H6) -> #REF! | H78: =COUNTIF(#REF!,Parameters!H7) -> #REF! | I78: =COUNTIF(#REF!,Parameters!H8) -> #REF! | J78: =COUNTIF(#REF!,Parameters!D22) -> #REF! | K78: =COUNTIF(#REF!,Parameters!D23) -> #REF! | L78: =COUNTIF(#REF!,Parameters!D4) -> #REF! | M78: =COUNTIF(#REF!,Parameters!D5) -> #REF! | N78: =COUNTIF(#REF!,Parameters!D6) -> #REF! | P78: =COUNTIF(#REF!,Parameters!D9) -> #REF! | Q78: =COUNTIF(#REF!,Parameters!D10) -> #REF! | R78: =COUNTIF(#REF!,Parameters!D11) -> #REF! | S78: =COUNTIF(#REF!,Parameters!D13) -> #REF! | T78: =COUNTIF(#REF!,Parameters!D14) -> #REF! | U78: =COUNTIF(#REF!,Parameters!D15) -> #REF! | V78: =COUNTIF(#REF!,Parameters!D16) -> #REF! | W78: =COUNTIF(#REF!,Parameters!#REF!) -> #REF! | X78: =COUNTIF(#REF!,Parameters!E13) -> #REF! | Z78: =COUNTIF(#REF!,Parameters!D20) -> #REF! | AA78: =COUNTIF(#REF!,Parameters!D21) -> #REF! | AB78: =SUM(J78:AA78) -> #REF!
C79: September | D79: =SUM(E79:I79) -> #REF! | E79: =COUNTIF(#REF!,Parameters!H4) -> #REF! | F79: =COUNTIF(#REF!,Parameters!H5) -> #REF! | G79: =COUNTIF(#REF!,Parameters!H6) -> #REF! | H79: =COUNTIF(#REF!,Parameters!H8) -> #REF! | I79: =COUNTIF(#REF!,Parameters!H8) -> #REF! | J79: =COUNTIF(#REF!,Parameters!D22) -> #REF! | K79: =COUNTIF(#REF!,Parameters!D23) -> #REF! | L79: =COUNTIF(#REF!,Parameters!D4) -> #REF! | M79: =COUNTIF(#REF!,Parameters!D5) -> #REF! | N79: =COUNTIF(#REF!,Parameters!D6) -> #REF! | P79: =COUNTIF(#REF!,Parameters!D9) -> #REF! | Q79: =COUNTIF(#REF!,Parameters!D10) -> #REF! | R79: =COUNTIF(#REF!,Parameters!D11) -> #REF! | S79: =COUNTIF(#REF!,Parameters!D13) -> #REF! | T79: =COUNTIF(#REF!,Parameters!D14) -> #REF! | U79: =COUNTIF(#REF!,Parameters!D15) -> #REF! | V79: =COUNTIF(#REF!,Parameters!D16) -> #REF! | W79: =COUNTIF(#REF!,Parameters!#REF!) -> #REF! | X79: =COUNTIF(#REF!,Parameters!E13) -> #REF! | Z79: =COUNTIF(#REF!,Parameters!D20) -> #REF! | AA79: =COUNTIF(#REF!,Parameters!C16) -> #REF! | AB79: =SUM(J79:AA79) -> #REF!
C80: October | D80: =SUM(E80:I80) -> #REF! | E80: =COUNTIF(#REF!,Parameters!H4) -> #REF! | F80: =COUNTIF(#REF!,Parameters!H5) -> #REF! | G80: =COUNTIF(#REF!,Parameters!H6) -> #REF! | H80: =COUNTIF(#REF!,Parameters!H9) -> #REF! | I80: =COUNTIF(#REF!,Parameters!H8) -> #REF! | J80: =COUNTIF(#REF!,Parameters!D22) -> #REF! | K80: =COUNTIF(#REF!,Parameters!D23) -> #REF! | L80: =COUNTIF(#REF!,Parameters!D4) -> #REF! | M80: =COUNTIF(#REF!,Parameters!D5) -> #REF! | N80: =COUNTIF(#REF!,Parameters!D6) -> #REF! | O80: =COUNTIF(#REF!,Parameters!D7) -> #REF! | P80: =COUNTIF(#REF!,Parameters!D7) -> #REF! | Q80: =COUNTIF(#REF!,Parameters!D9) -> #REF! | R80: =COUNTIF(#REF!,Parameters!D10) -> #REF! | S80: =COUNTIF(#REF!,Parameters!D10) -> #REF! | T80: =COUNTIF(#REF!,Parameters!D11) -> #REF! | U80: =COUNTIF(#REF!,Parameters!D13) -> #REF! | V80: =COUNTIF(#REF!,Parameters!D14) -> #REF! | W80: =COUNTIF(#REF!,Parameters!#REF!) -> #REF! | X80: =COUNTIF(#REF!,Parameters!D15) -> #REF! | Z80: =COUNTIF(#REF!,Parameters!D16) -> #REF! | AA80: =COUNTIF(#REF!,Parameters!D18) -> #REF! | AB80: =SUM(J80:AA80) -> #REF!
C81: November | D81: =SUM(E81:I81) -> #REF! | E81: =COUNTIF(#REF!,Parameters!H4) -> #REF! | F81: =COUNTIF(#REF!,Parameters!H5) -> #REF! | G81: =COUNTIF(#REF!,Parameters!H6) -> #REF! | H81: =COUNTIF(#REF!,Parameters!H7) -> #REF! | I81: =COUNTIF(#REF!,Parameters!H8) -> #REF! | J81: =COUNTIF(#REF!,Parameters!D22) -> #REF! | K81: =COUNTIF(#REF!,Parameters!D23) -> #REF! | L81: =COUNTIF(#REF!,Parameters!D4) -> #REF! | M81: =COUNTIF(#REF!,Parameters!D5) -> #REF! | N81: =COUNTIF(#REF!,Parameters!D6) -> #REF! | O81: =COUNTIF(#REF!,Parameters!D7) -> #REF! | P81: =COUNTIF(#REF!,Parameters!D9) -> #REF! | Q81: =COUNTIF(#REF!,Parameters!D10) -> #REF! | R81: =COUNTIF(#REF!,Parameters!D11) -> #REF! | S81: =COUNTIF(#REF!,Parameters!D13) -> #REF! | T81: =COUNTIF(#REF!,Parameters!D14) -> #REF! | U81: =COUNTIF(#REF!,Parameters!D16) -> #REF! | V81: =COUNTIF(#REF!,Parameters!D16) -> #REF! | W81: =COUNTIF(#REF!,Parameters!#REF!) -> #REF! | X81: =COUNTIF(#REF!,Parameters!E13) -> #REF! | Z81: =COUNTIF(#REF!,Parameters!D20) -> #REF! | AA81: =COUNTIF(#REF!,Parameters!C16) -> #REF! | AB81: =SUM(J81:AA81) -> #REF!
C82: December | D82: =SUM(E82:I82) -> #REF! | E82: =COUNTIF(#REF!,Parameters!H4) -> #REF! | F82: =COUNTIF(#REF!,Parameters!H5) -> #REF! | G82: =COUNTIF(#REF!,Parameters!H6) -> #REF! | H82: =COUNTIF(#REF!,Parameters!H7) -> #REF! | I82: =COUNTIF(#REF!,Parameters!H8) -> #REF! | J82: =COUNTIF(#REF!,Parameters!D22) -> #REF! | K82: =COUNTIF(#REF!,Parameters!D23) -> #REF! | L82: =COUNTIF(#REF!,Parameters!D4) -> #REF! | M82: =COUNTIF(#REF!,Parameters!D5) -> #REF! | N82: =COUNTIF(#REF!,Parameters!D6) -> #REF! | O82: =COUNTIF(#REF!,Parameters!D7) -> #REF! | P82: =COUNTIF(#REF!,Parameters!D9) -> #REF! | Q82: =COUNTIF(#REF!,Parameters!D10) -> #REF! | R82: =COUNTIF(#REF!,Parameters!D11) -> #REF! | S82: =COUNTIF(#REF!,Parameters!D13) -> #REF! | T82: =COUNTIF(#REF!,Parameters!D14) -> #REF! | U82: =COUNTIF(#REF!,Parameters!D15) -> #REF! | V82: =COUNTIF(#REF!,Parameters!D16) -> #REF! | W82: =COUNTIF(#REF!,Parameters!#REF!) -> #REF! | X82: =COUNTIF(#REF!,Parameters!E13) -> #REF! | Z82: =COUNTIF(#REF!,Parameters!D20) -> #REF! | AA82: =COUNTIF(#REF!,Parameters!C16) -> #REF! | AB82: =SUM(J82:AA82) -> #REF!
C85: JANUARY | D85: BASE | E85: WH41 | F85: WH34 | G85: OPEN YARD | H85: OFFICE BK | I85: LABUAN | J85: OFFSHORE | K85: LAHO | L85: JINTAN | M85: D21 | N85: SAMARANG | O85: EWB WEST
C86: Unsafe Condition | D86: =SUM(E86:I86) -> #REF! | E86: =SUMIF(#REF!,Parameters!#REF!,#REF!) -> #REF! | F86: =SUMIF(#REF!,Parameters!#REF!,#REF!) -> #REF! | G86: =SUMIF(#REF!,Parameters!#REF!,#REF!) -> #REF! | H86: =SUMIF(#REF!,Parameters!#REF!,#REF!) -> #REF! | I86: =SUMIF(#REF!,Parameters!#REF!,#REF!) -> #REF! | J86: =SUM(K86:P86) -> #REF! | K86: =SUMIF(#REF!,Parameters!F18,#REF!) -> #REF! | L86: =SUMIF(#REF!,Parameters!F59,#REF!) -> #REF! | M86: =SUMIF(#REF!,Parameters!F31,#REF!) -> #REF! | N86: =SUMIF(#REF!,Parameters!F35,#REF!) -> #REF! | O86: =SUMIF(#REF!,Parameters!F42,#REF!) -> #REF!
C87: Positive Behaviour | D87: =SUM(E87:I87) -> #REF! | E87: =SUMIF(#REF!,Parameters!#REF!,#REF!) -> #REF! | F87: =SUMIF(#REF!,Parameters!#REF!,#REF!) -> #REF! | G87: =SUMIF(#REF!,Parameters!#REF!,#REF!) -> #REF! | H87: =SUMIF(#REF!,Parameters!#REF!,#REF!) -> #REF! | I87: =SUMIF(#REF!,Parameters!#REF!,#REF!) -> #REF! | J87: =SUM(K87:P87) -> #REF! | K87: =SUMIF(#REF!,Parameters!F18,#REF!) -> #REF! | L87: =SUMIF(#REF!,Parameters!F59,#REF!) -> #REF! | M87: =SUMIF(#REF!,Parameters!F31,#REF!) -> #REF! | N87: =SUMIF(#REF!,Parameters!F35,#REF!) -> #REF! | O87: =SUMIF(#REF!,Parameters!F42,#REF!) -> #REF!
C88: Suggestion | D88: =SUM(E88:I88) -> #REF! | E88: =SUMIF(#REF!,Parameters!#REF!,#REF!) -> #REF! | F88: =SUMIF(#REF!,Parameters!#REF!,#REF!) -> #REF! | G88: =SUMIF(#REF!,Parameters!#REF!,#REF!) -> #REF! | H88: =SUMIF(#REF!,Parameters!#REF!,#REF!) -> #REF! | I88: =SUMIF(#REF!,Parameters!#REF!,#REF!) -> #REF! | K88: =SUMIF(#REF!,Parameters!F18,#REF!) -> #REF! | L88: =SUMIF(#REF!,Parameters!F59,#REF!) -> #REF! | M88: =SUMIF(#REF!,Parameters!F31,#REF!) -> #REF! | N88: =SUMIF(#REF!,Parameters!F35,#REF!) -> #REF! | O88: =SUMIF(#REF!,Parameters!F42,#REF!) -> #REF!
C89: Unsafe Behaviour | D89: =SUM(E89:I89) -> #REF! | E89: =SUMIF(#REF!,Parameters!#REF!,#REF!) -> #REF! | F89: =SUMIF(#REF!,Parameters!#REF!,#REF!) -> #REF! | G89: =SUMIF(#REF!,Parameters!#REF!,#REF!) -> #REF! | H89: =SUMIF(#REF!,Parameters!#REF!,#REF!) -> #REF! | I89: =SUMIF(#REF!,Parameters!#REF!,#REF!) -> #REF! | J89: =SUM(K89:P89) -> #REF! | K89: =SUMIF(#REF!,Parameters!F18,#REF!) -> #REF! | L89: =SUMIF(#REF!,Parameters!F59,#REF!) -> #REF! | M89: =SUMIF(#REF!,Parameters!F31,#REF!) -> #REF! | N89: =SUMIF(#REF!,Parameters!F35,#REF!) -> #REF! | O89: =SUMIF(#REF!,Parameters!F42,#REF!) -> #REF!
C90: Near Miss | D90: =SUM(E90:I90) -> #REF! | E90: =SUMIF(#REF!,Parameters!#REF!,#REF!) -> #REF! | F90: =SUMIF(#REF!,Parameters!#REF!,#REF!) -> #REF! | G90: =SUMIF(#REF!,Parameters!#REF!,#REF!) -> #REF! | H90: =SUMIF(#REF!,Parameters!#REF!,#REF!) -> #REF! | I90: =SUMIF(#REF!,Parameters!#REF!,#REF!) -> #REF! | J90: =SUM(K90:P90) -> #REF! | K90: =SUMIF(#REF!,Parameters!F18,#REF!) -> #REF! | L90: =SUMIF(#REF!,Parameters!F59,#REF!) -> #REF! | M90: =SUMIF(#REF!,Parameters!F31,#REF!) -> #REF! | N90: =SUMIF(#REF!,Parameters!F35,#REF!) -> #REF! | O90: =SUMIF(#REF!,Parameters!F42,#REF!) -> #REF!
C91: TOTAL | D91: =SUM(D86:D90) -> #REF! | E91: =SUM(E86:E90) -> #REF! | F91: =SUM(F86:F90) -> #REF! | G91: =SUM(G86:G90) -> #REF! | H91: =SUM(H86:H90) -> #REF! | I91: =SUM(I86:I90) -> #REF! | J91: =SUM(J86:J90) -> #REF! | K91: =SUM(K86:K90) -> #REF! | ... O91: =SUM(O86:O90) -> #REF! | P91: =D91+J91 -> #REF!
C92: TOTAL BASE + OFFSHORE | D92: =D91+J91 -> #REF!
C94: FEBRUARY | D94: BASE | E94: WH41 | F94: WH34 | G94: OPEN YARD | H94: OFFICE BK | I94: LABUAN | J94: OFFSHORE | K94: ANGSI C | L94: BEKOK C | M94: LARUT A | N94: D21 | O94: JINTAN | P94: SOUTH FURIOUS | Q94: EWB WEST | R94: SAMARANG
C95: Unsafe Condition | D95: =SUM(E95:I95) -> #REF! | E95: =SUMIF(#REF!,"WH41",#REF!) -> #REF! | F95: =SUMIF(#REF!,"WH34",#REF!) -> #REF! | G95: =SUMIF(#REF!,"OPEN YARD",#REF!) -> #REF! | H95: =SUMIF(#REF!,"OFFICE BK",#REF!) -> #REF! | I95: =SUMIF(#REF!,"LABUAN",#REF!) -> #REF! | J95: =SUM(K95:R95) -> #REF! | K95: =SUMIF(#REF!,"ANGSI C",#REF!) -> #REF! | L95: =SUMIF(#REF!,"BEKOK C",#REF!) -> #REF! | M95: =SUMIF(#REF!,"LARUT A",#REF!) -> #REF! | N95: =SUMIF(#REF!,"D21",#REF!) -> #REF! | O95: =SUMIF(#REF!,"JINTAN",#REF!) -> #REF! | P95: =SUMIF(#REF!,"SOUTH FURIOUS",#REF!) -> #REF! | Q95: =SUMIF(#REF!,"EWB WEST",#REF!) -> #REF! | R95: =SUMIF(#REF!,"SAMARANG ",#REF!) -> #REF!
C96: Positive Behaviour | D96: =SUM(E96:I96) -> #REF! | E96: =SUMIF(#REF!,"WH41",#REF!) -> #REF! | F96: =SUMIF(#REF!,"WH34",#REF!) -> #REF! | G96: =SUMIF(#REF!,"OPEN YARD",#REF!) -> #REF! | H96: =SUMIF(#REF!,"OFFICE BK",#REF!) -> #REF! | I96: =SUMIF(#REF!,"LABUAN",#REF!) -> #REF! | J96: =SUM(K96:R96) -> #REF! | K96: =SUMIF(#REF!,"ANGSI C",#REF!) -> #REF! | L96: =SUMIF(#REF!,"BEKOK C",#REF!) -> #REF! | M96: =SUMIF(#REF!,"LARUT A",#REF!) -> #REF! | N96: =SUMIF(#REF!,"D21",#REF!) -> #REF! | O96: =SUMIF(#REF!,"JINTAN",#REF!) -> #REF! | P96: =SUMIF(#REF!,"SOUTH FURIOUS",#REF!) -> #REF! | Q96: =SUMIF(#REF!,"EWB WEST",#REF!) -> #REF! | R96: =SUMIF(#REF!,"SAMARANG ",#REF!) -> #REF!
C97: Unsafe Behaviour | D97: =SUM(E97:I97) -> #REF! | E97: =SUMIF(#REF!,"WH41",#REF!) -> #REF! | F97: =SUMIF(#REF!,"WH34",#REF!) -> #REF! | G97: =SUMIF(#REF!,"OPEN YARD",#REF!) -> #REF! | H97: =SUMIF(#REF!,"OFFICE BK",#REF!) -> #REF! | I97: =SUMIF(#REF!,"LABUAN",#REF!) -> #REF! | J97: =SUM(K97:R97) -> #REF! | K97: =SUMIF(#REF!,"ANGSI C",#REF!) -> #REF! | L97: =SUMIF(#REF!,"BEKOK C",#REF!) -> #REF! | M97: =SUMIF(#REF!,"LARUT A",#REF!) -> #REF! | N97: =SUMIF(#REF!,"D21",#REF!) -> #REF! | O97: =SUMIF(#REF!,"JINTAN",#REF!) -> #REF! | P97: =SUMIF(#REF!,"SOUTH FURIOUS",#REF!) -> #REF! | Q97: =SUMIF(#REF!,"EWB WEST",#REF!) -> #REF! | R97: =SUMIF(#REF!,"SAMARANG ",#REF!) -> #REF!
C98: Near Miss | D98: =SUM(E98:I98) -> #REF! | E98: =SUMIF(#REF!,"WH41",#REF!) -> #REF! | F98: =SUMIF(#REF!,"WH34",#REF!) -> #REF! | G98: =SUMIF(#REF!,"OPEN YARD",#REF!) -> #REF! | H98: =SUMIF(#REF!,"OFFICE BK",#REF!) -> #REF! | I98: =SUMIF(#REF!,"LABUAN",#REF!) -> #REF! | J98: =SUM(K98:P98) -> #REF! | K98: =SUMIF(#REF!,"ANGSI C",#REF!) -> #REF! | L98: =SUMIF(#REF!,"BEKOK C",#REF!) -> #REF! | M98: =SUMIF(#REF!,"LARUT A",#REF!) -> #REF! | N98: =SUMIF(#REF!,"D21",#REF!) -> #REF! | O98: =SUMIF(#REF!,"JINTAN",#REF!) -> #REF! | P98: =SUMIF(#REF!,"SOUTH FURIOUS",#REF!) -> #REF! | Q98: =SUMIF(#REF!,"EWB WEST",#REF!) -> #REF! | R98: =SUMIF(#REF!,"SAMARANG ",#REF!) -> #REF!
C99: TOTAL | D99: =SUM(D95:D98) -> #REF! | E99: =SUM(E95:E98) -> #REF! | F99: =SUM(F95:F98) -> #REF! | G99: =SUM(G95:G98) -> #REF! | H99: =SUM(H95:H98) -> #REF! | I99: =SUM(I95:I98) -> #REF! | J99: =SUM(J95:J98) -> #REF! | K99: =SUM(K95:K98) -> #REF! | ... R99: =SUM(R95:R98) -> #REF! | S99: =D99+J99 -> #REF!
C100: TOTAL BASE + OFFSHORE | D100: =D99+J99 -> #REF!
C102: MARCH | D102: BASE | E102: WH22 | F102: WH34 | G102: OPEN YARD | H102: OFFICE BK | I102: LABUAN | J102: OFFSHORE | K102: DULANG C | L102: NORTH LUKUT | M102: D21 | N102: D35 | O102: TEMBIKAI | P102: LARUT
C103: Unsafe Condition | D103: =SUM(E103:I103) -> #REF! | E103: =SUMIF(#REF!:#REF!,"WH22",#REF!:#REF!) -> #REF! | F103: =SUMIF(#REF!:#REF!,"WH34",#REF!:#REF!) -> #REF! | G103: =SUMIF(#REF!:#REF!,"OPEN YARD",#REF!:#REF!) -> #REF! | H103: =SUMIF(#REF!:#REF!,"OFFICE BK",#REF!:#REF!) -> #REF! | I103: =SUMIF(#REF!:#REF!,"LABUAN",#REF!:#REF!) -> #REF! | J103: =SUM(K103:P103) -> #REF! | K103: =SUMIF(#REF!:#REF!,"DULANG C",#REF!:#REF!) -> #REF! | L103: =SUMIF(#REF!:#REF!,"NORTH LUKUT",#REF!:#REF!) -> #REF! | M103: =SUMIF(#REF!:#REF!,"D21",#REF!:#REF!) -> #REF! | N103: =SUMIF(#REF!:#REF!,"D35",#REF!:#REF!) -> #REF! | O103: =SUMIF(#REF!:#REF!,"TEMBIKAI",#REF!:#REF!) -> #REF! | P103: =SUMIF(#REF!:#REF!,"LARUT A",#REF!:#REF!) -> #REF!
C104: Positive Behaviour | D104: =SUM(E104:I104) -> #REF! | E104: =SUMIF(#REF!:#REF!,"WH22",#REF!:#REF!) -> #REF! | F104: =SUMIF(#REF!:#REF!,"WH34",#REF!:#REF!) -> #REF! | G104: =SUMIF(#REF!:#REF!,"OPEN YARD",#REF!:#REF!) -> #REF! | H104: =SUMIF(#REF!:#REF!,"OFFICE BK",#REF!:#REF!) -> #REF! | I104: =SUMIF(#REF!:#REF!,"LABUAN",#REF!:#REF!) -> #REF! | J104: =SUM(K104:P104) -> #REF! | K104: =SUMIF(#REF!:#REF!,"DULANG C",#REF!:#REF!) -> #REF! | L104: =SUMIF(#REF!:#REF!,"NORTH LUKUT",#REF!:#REF!) -> #REF! | M104: =SUMIF(#REF!:#REF!,"D21",#REF!:#REF!) -> #REF! | N104: =SUMIF(#REF!:#REF!,"D35",#REF!:#REF!) -> #REF! | O104: =SUMIF(#REF!:#REF!,"TEMBIKAI",#REF!:#REF!) -> #REF! | P104: =SUMIF(#REF!:#REF!,"LARUT A",#REF!:#REF!) -> #REF!
C105: Unsafe Behaviour | D105: =SUM(E105:I105) -> #REF! | E105: =SUMIF(#REF!:#REF!,"WH22",#REF!:#REF!) -> #REF! | F105: =SUMIF(#REF!:#REF!,"WH34",#REF!:#REF!) -> #REF! | G105: =SUMIF(#REF!:#REF!,"OPEN YARD",#REF!:#REF!) -> #REF! | H105: =SUMIF(#REF!:#REF!,"OFFICE BK",#REF!:#REF!) -> #REF! | I105: =SUMIF(#REF!:#REF!,"LABUAN",#REF!:#REF!) -> #REF! | J105: =SUM(K105:P105) -> #REF! | K105: =SUMIF(#REF!:#REF!,"DULANG C",#REF!:#REF!) -> #REF! | L105: =SUMIF(#REF!:#REF!,"NORTH LUKUT",#REF!:#REF!) -> #REF! | M105: =SUMIF(#REF!:#REF!,"D21",#REF!:#REF!) -> #REF! | N105: =SUMIF(#REF!:#REF!,"D35",#REF!:#REF!) -> #REF! | O105: =SUMIF(#REF!:#REF!,"TEMBIKAI",#REF!:#REF!) -> #REF! | P105: =SUMIF(#REF!:#REF!,"LARUT A",#REF!:#REF!) -> #REF!
C106: Near Miss | D106: =SUM(E106:I106) -> #REF! | E106: =SUMIF(#REF!:#REF!,"WH22",#REF!:#REF!) -> #REF! | F106: =SUMIF(#REF!:#REF!,"WH34",#REF!:#REF!) -> #REF! | G106: =SUMIF(#REF!:#REF!,"OPEN YARD",#REF!:#REF!) -> #REF! | H106: =SUMIF(#REF!:#REF!,"OPEN YARD",#REF!:#REF!) -> #REF! | I106: =SUMIF(#REF!:#REF!,"LABUAN",#REF!:#REF!) -> #REF! | J106: =SUM(K106:Q106) -> #REF! | K106: =SUMIF(#REF!:#REF!,"DULANG C",#REF!:#REF!) -> #REF! | L106: =SUMIF(#REF!:#REF!,"NORTH LUKUT",#REF!:#REF!) -> #REF! | M106: =SUMIF(#REF!:#REF!,"D21",#REF!:#REF!) -> #REF! | N106: =SUMIF(#REF!:#REF!,"D35",#REF!:#REF!) -> #REF! | O106: =SUMIF(#REF!:#REF!,"TEMBIKAI",#REF!:#REF!) -> #REF! | P106: =SUMIF(#REF!:#REF!,"LARUT A",#REF!:#REF!) -> #REF!
...

Sheet JAN
B2: HAZARD HUNT SUMMARY REPORT JANUARY 2024
N4: TOTAL : | Q4: =S8+S64+S80+S83+S97 -> 104 | S4: SUBMISSION
A6: No | B6: Description of Observation | C6: Client | D6: Platform | E6: Location | F6: Owner | G6: Dated | H6: Observation | I6: Observation | R6: Act | V6: Description of Act | W6: Status
I7: unsafe condition | J7: positive Observation | K7: safety suggestion | L7: security | M7: unsafe behaviour | N7: near miss | O7: issue concern | P7: others | R7: Corrective action | S7: Stop Job/Task | T7: Positive Intervention | U7: Review procedure/JSA | W7: Closed | X7: Open
A8: *Location : BARONIA-INDIA & ALPHA PCSB SKA-QEM | S8: =G63 -> 54 | U8: SUBMISSION
A9: 1 | B9: Observed all personnel using proper technique when using the swing rope.Perform tug test,place hands above the knots,swing when the waves are at the peak and only jump when confident. | C9: SKA-QEM | D9: BARONIA INDIA | E9: BARONIA INDIA | F9: Abdul Halim | G9: 45292 | H9: positive behaviour | J9: 1 | T9: 1 | V9: Swing when the waves are at the peak and only jump when confident.
A10: 2 | B10: Observed personnel service and store all hand tools properly after use.good housekeeping. | C10: SKA-QEM | D10: BARONIA INDIA | E10: BARONIA INDIA | F10: Abdul Halim | G10: 45293 | H10: positive behaviour | J10: 1 | T10: 1 | V10: Service and store all hand tools properly after use.good housekeeping.
A11: 3 | B11: Observed personnel holding the handrails while going down to platform boat landing. | C11: SKA-QEM | D11: BARONIA INDIA | E11: BARONIA INDIA | F11: Abdul Halim | G11: 45294 | H11: positive behaviour | J11: 1 | T11: 1 | V11: Holding the handrails while going down to platform boat landing.
A12: 4 | B12: Observed personnel conducting toolbox talk prior to starting work.All personnel understand the hazard and competent with their task. | C12: SKA-QEM | D12: BARONIA INDIA | E12: BARONIA INDIA | F12: Abdul Halim | G12: 45295 | H12: positive behaviour | J12: 1 | T12: 1 | V12: Personnel understand the hazard and competent with their task.
A13: 5 | B13: Observed proper taglines being installed on the equipment that are doing to be lifted. | C13: SKA-QEM | D13: BARONIA INDIA | E13: BARONIA INDIA | F13: Abdul Halim | G13: 45296 | H13: positive behaviour | J13: 1 | T13: 1 | V13: Proper taglines being installed on the equipment that are doing to be lifted.
A14: 6 | B14: Observed good communication between banksman and crane operator in a lifting operation. | C14: SKA-QEM | D14: BARONIA INDIA | E14: BARONIA INDIA | F14: Abdul Halim | G14: 45297 | H14: positive behaviour | J14: 1 | T14: 1 | V14: Conduct lifting planning and make sure good communication between banksman and crane operator.
A15: 7 | B15: Good teamwork from all crew to perform housekeeping at wireline deck. | C15: SKA-QEM | D15: BARONIA INDIA | E15: BARONIA INDIA | F15: Abdul Halim | G15: 45298 | H15: positive behaviour | J15: 1 | T15: 1 | V15: Perform housekeeping and make sure no more hazard.
A16: 8 | B16: observed personnel cleaning diesel fuel spill to avoid slippery condition. | C16: SKA-QEM | D16: BARONIA INDIA | E16: BARONIA INDIA | F16: Abdul Halim | G16: 45299 | H16: positive behaviour | J16: 1 | T16: 1 | V16: Cleaning diesel fuel spill to avoid slippery condition.
A17: 9 | B17: Observed personnel wearing ear muff before Slickline Delium bleeding off pressure from lubricator,that produce high noise,it can cause hearing damage. | C17: SKA-QEM | D17: BARONIA INDIA | E17: BARONIA INDIA | F17: Abdul Halim | G17: 45300 | H17: positive behaviour | J17: 1 | T17: 1 | V17: always use propper PPE.
A18: 10 | B18: Obseved remind personnel not to rush dessending or ascendingthe stairto avoid slip and fall. | C18: SKA-QEM | D18: BARONIA INDIA | E18: BARONIA INDIA | F18: Abdul Halim | G18: 45301 | H18: positive behaviour | J18: 1 | T18: 1 | V18: not to rush dessending or ascendingthe stair
A19: 11 | B19: Observed personel using full PPE before mobilizing to field | C19: SKA-QEM | D19: BARONIA INDIA | E19: BARONIA INDIA | F19: Razwan Roslan | G19: 45292 | H19: positive behaviour | J19: 1 | T19: 1 | V19: Positive Behaviour
A20: 12 | B20: Observed personnel using check the swing rope condition before proceeding boat transfer | C20: SKA-QEM | D20: BARONIA INDIA | E20: BARONIA INDIA | F20: Razwan Roslan | G20: 45293 | H20: positive behaviour | J20: 1 | T20: 1 | V20: Good safety practice
A21: 13 | B21: Observed water spill on the messroom | C21: SKA-QEM | D21: BARONIA INDIA | E21: BARONIA INDIA | F21: Razwan Roslan | G21: 45294 | H21: unsafe condition | I21: 1 | R21: 1 | V21: immidiately clean the floor
A22: 14 | B22: Found dirty oil absorbent pad on maindeck | C22: SKA-QEM | D22: BARONIA INDIA | E22: BARONIA INDIA | F22: Razwan Roslan | G22: 45295 | H22: unsafe condition | I22: 1 | R22: 1 | V22: collect the dirty pad and throw into the designated scheduled waste bin
A23: 15 | B23: Observed water pooling on the maindeck area | C23: SKA-QEM | D23: BARONIA INDIA | E23: BARONIA INDIA | F23: Razwan Roslan | G23: 45296 | H23: unsafe condition | I23: 1 | R23: 1 | V23: Mop and wipe the area
A24: 16 | B24: Handtools scattered and not placed correctly | C24: SKA-QEM | D24: BARONIA INDIA | E24: BARONIA INDIA | F24: Razwan Roslan | G24: 45297 | H24: unsafe condition | I24: 1 | R24: 1 | V24: housekeeping and keep the handtools in the toolbox properly
A25: 17 | B25: Observed oil on maindeck near BOP | C25: SKA-QEM | D25: BARONIA INDIA | E25: BARONIA INDIA | F25: Razwan Roslan | G25: 45298 | H25: unsafe condition | I25: 1 | R25: 1 | V25: immidiately clean and wipe out the area
A26: 18 | B26: Observed personnel do housekeeping before breaktime | C26: SKA-QEM | D26: BARONIA INDIA | E26: BARONIA INDIA | F26: Razwan Roslan | G26: 45299 | H26: positive behaviour | J26: 1 | T26: 1 | V26: Good safety practice
A27: 19 | B27: Observed personnel use buddy system when handling load | C27: SKA-QEM | D27: BARONIA INDIA | E27: BARONIA INDIA | F27: Razwan Roslan | G27: 45300 | H27: positive behaviour | J27: 1 | T27: 1 | V27: Good safety Practice
A28: 20 | B28: Personnel reminding crew to check their safety equipment condition before going out to work | C28: SKA-QEM | D28: BARONIA INDIA | E28: BARONIA INDIA | F28: Razwan Roslan | G28: 45301 | H28: positive behaviour | J28: 1 | T28: 1 | V28: Good reminder
A29: 21 | B29: Observed personnel attending morning meeting on time | C29: SKA-QEM | D29: BARONIA INDIA | E29: BARONIA INDIA | F29: Razwan Roslan | G29: 45302 | H29: positive behaviour | J29: 1 | T29: 1 | V29: this is a good practice which avoid wasting time
A30: 22 | B30: Observed personnel clean the table after use at messroom | C30: SKA-QEM | D30: BARONIA INDIA | E30: BARONIA INDIA | F30: Razwan Roslan | G30: 45303 | H30: positive behaviour | J30: 1 | T30: 1 | V30: Good practice
A31: 23 | B31: Observed personnel wash their hand after lunch at messroom | C31: SKA-QEM | D31: BARONIA INDIA | E31: BARONIA INDIA | F31: Razwan Roslan | G31: 45304 | H31: positive behaviour | J31: 1 | T31: 1 | V31: Good Hygene
A32: 24 | B32: Observed personnel use proper body posture when handling load | C32: SKA-QEM | D32: BARONIA INDIA | E32: BARONIA INDIA | F32: Razwan Roslan | G32: 45305 | H32: positive behaviour | J32: 1 | T32: 1 | V32: Good safety practice
A33: 25 | B33: Personnel reminding crew to monitor and check blood pressure | C33: SKA-QEM | D33: BARONIA INDIA | E33: BARONIA INDIA | F33: Razwan Roslan | G33: 45306 | H33: positive behaviour | J33: 1 | T33: 1 | V33: Good advice to follow
A34: 26 | B34: Personnel reminding all crew to wear chin strap during strong wind | C34: SKA-QEM | D34: BARONIA INDIA | E34: BARONIA INDIA | F34: Razwan Roslan | G34: 45307 | H34: positive behaviour | J34: 1 | T34: 1 | V34: Good reminder
A35: 27 | B35: Personnel reminding all crew to wear chemical resistant glove then handling chemical degreaser | C35: SKA-QEM | D35: BARONIA INDIA | E35: BARONIA INDIA | F35: Razwan Roslan | G35: 45308 | H35: positive behaviour | J35: 1 | T35: 1 | V35: Good reminder
A36: 28 | B36: Personnel reminding crew to always stay hydrated | C36: SKA-QEM | D36: BARONIA INDIA | E36: BARONIA INDIA | F36: Razwan Roslan | G36: 45309 | H36: positive behaviour | J36: 1 | T36: 1 | V36: Good reminder
A37: 29 | B37: Observed personnel checking their safety boot condition | C37: SKA-QEM | D37: BARONIA INDIA | E37: BARONIA INDIA | F37: Razwan Roslan | G37: 45310 | H37: positive behaviour | J37: 1 | T37: 1 | V37: Good safety practice
A38: 30 | B38: Observed personnel using handrail when accending and decending the stairs. | C38: SKA-QEM | D38: BARONIA INDIA | E38: BARONIA INDIA | F38: Razwan Roslan | G38: 45311 | H38: positive behaviour | J38: 1 | T38: 1 | V38: Good Practice
A39: 31 | B39: Observed water ponding and maindeck area | C39: SKA-QEM | D39: BARONIA INDIA | E39: BARONIA INDIA | F39: Razwan Roslan | G39: 45312 | H39: unsafe condition | I39: 1 | R39: 1 | V39: immidiately clean the floor
A40: 32 | B40: Personnel reminding crew to check their life jacket condition | C40: SKA-QEM | D40: BARONIA INDIA | E40: BARONIA INDIA | F40: Razwan Roslan | G40: 45313 | H40: positive behaviour | J40: 1 | T40: 1 | V40: Good safety reminder
A41: 33 | B41: Personnel reminding crew to aware on other activity during operation | C41: SKA-QEM | D41: BARONIA INDIA | E41: BARONIA INDIA | F41: Razwan Roslan | G41: 45314 | H41: positive behaviour | J41: 1 | T41: 1 | V41: Good safety reminder
A42: 34 | B42: Observed personnel checking their Hard hat expiry date | C42: SKA-QEM | D42: BARONIA INDIA | E42: BARONIA INDIA | F42: Razwan Roslan | G42: 45315 | H42: positive behaviour | J42: 1 | T42: 1 | V42: Good safety practice
A43: 35 | B43: Personnel reminding crew to wear ear muff and ear plug to double the noise reduction | C43: SKA-QEM | D43: BARONIA INDIA | E43: BARONIA INDIA | F43: Razwan Roslan | G43: 45316 | H43: positive behaviour | J43: 1 | T43: 1 | V43: Very good reminder
A44: 36 | B44: Observed personnel Queue up at messroom before taking the meal | C44: SKA-QEM | D44: BARONIA ALPHA | E44: BARONIA ALPHA | F44: Razwan Roslan | G44: 45317 | H44: positive behaviour | J44: 1 | T44: 1 | V44: Good practice
A45: 37 | B45: Observed personnel clear the food waste after meal | C45: SKA-QEM | D45: BARONIA ALPHA | E45: BARONIA ALPHA | F45: Razwan Roslan | G45: 45318 | H45: positive behaviour | J45: 1 | T45: 1 | V45: Good safety practice
A46: 38 | B46: Personnel reminding crew to maintain good hygiene to prevent potential health issues | C46: SKA-QEM | D46: BARONIA ALPHA | E46: BARONIA ALPHA | F46: Razwan Roslan | G46: 45319 | H46: positive behaviour | J46: 1 | T46: 1 | V46: Good Reminder
A47: 39 | B47: Observed personnel applied buddy system during work | C47: SKA-QEM | D47: BARONIA ALPHA | E47: BARONIA ALPHA | F47: Razwan Roslan | G47: 45320 | H47: positive behaviour | J47: 1 | T47: 1 | V47: Good safety practice
A48: 40 | B48: Personnel reminding crew to always maintain housekeeping to avoid potential hazards at workplace | C48: SKA-QEM | D48: BARONIA ALPHA | E48: BARONIA ALPHA | F48: Razwan Roslan | G48: 45321 | H48: positive behaviour | J48: 1 | T48: 1 | V48: Good safety reminder
A49: 41 | B49: Personnel reminding crew to be mindful of potential pinch point at site | C49: SKA-QEM | D49: BARONIA ALPHA | E49: BARONIA ALPHA | F49: Razwan Roslan | G49: 45322 | H49: positive behaviour | J49: 1 | T49: 1 | V49: Good safety reminder
A50: 42 | B50: Observed laundry bag blocked off the escape route | C50: SKA-QEM | D50: BARONIA INDIA | E50: BARONIA INDIA | F50: Abdul Halim | G50: 45302 | H50: unsafe condition | I50: 1 | R50: 1 | V50: Put the laundry bag on its proper place
A51: 43 | B51: Observed found corroded whip check on hose connetion | C51: SKA-QEM | D51: BARONIA INDIA | E51: BARONIA INDIA | F51: Abdul Halim | G51: 45303 | H51: unsafe condition | I51: 1 | R51: 1 | V51: Change new whip check
A52: 44 | B52: Observer crew double check life jacket/chin strap before proceed boat transfer. | C52: SKA-QEM | D52: BARONIA INDIA | E52: BARONIA INDIA | F52: Abdul Halim | G52: 45304 | H52: unsafe condition | I52: 1 | R52: 1 | V52: Check life jacket/chin strap before proceed boat transfer.
A53: 45 | B53: Observed good communication between Deleum and Dimension Bid crew during rig up PCE equipment. | C53: SKA-QEM | D53: BARONIA INDIA | E53: BARONIA INDIA | F53: Abdul Halim | G53: 45305 | H53: positive behaviour | J53: 1 | T53: 1 | V53: Conduct job planning,Personnel understand the hazard and competent with their task.
A54: 46 | B54: Observed personnel change worn out tag line on the tool box with new one. | C54: SKA-QEM | D54: BARONIA INDIA | E54: BARONIA INDIA | F54: Abdul Halim | G54: 45306 | H54: positive behaviour | J54: 1 | T54: 1 | V54: Change worn out tag line on the tool box with new one.
A55: 47 | B55: Observed personnel segregate oily rags to designated bin. | C55: SKA-QEM | D55: BARONIA INDIA | E55: BARONIA INDIA | F55: Abdul Halim | G55: 45307 | H55: positive behaviour | J55: 1 | T55: 1 | V55: Segregate oily rags to designated bin.
A56: 48 | B56: Observed personnel barricade potential high tension area with barrier tape. | C56: SKA-QEM | D56: BARONIA INDIA | E56: BARONIA INDIA | F56: Abdul Halim | G56: 45308 | H56: positive behaviour | J56: 1 | T56: 1 | V56: Barricade potential high tension area with barrier tape.
A57: 49 | B57: Observed personnel secure work area with barrier tape before leaving. | C57: SKA-QEM | D57: BARONIA INDIA | E57: BARONIA INDIA | F57: Abdul Halim | G57: 45309 | H57: positive behaviour | J57: 1 | T57: 1 | V57: Secure work area with barrier tape before leaving.
A58: 50 | B58: Observed apply buddy system to lift the Pelican case that contain heavy tools. | C58: SKA-QEM | D58: BARONIA INDIA | E58: BARONIA INDIA | F58: Abdul Halim | G58: 45310 | H58: positive behaviour | J58: 1 | T58: 1 | V58: Apply buddy system to lift the Pelican case that contain heavy tools.
A59: 51 | B59: Observed personnel apply 3 point contact while ascending upstairs. | C59: SKA-QEM | D59: BARONIA INDIA | E59: BARONIA INDIA | F59: Abdul Halim | G59: 45311 | H59: positive behaviour | J59: 1 | T59: 1 | V59: Apply 3 point contact while ascending upstairs.
A60: 52 | B60: Observed personnel housekeeping the bathroom from hair and debris to prevent flooding. | C60: SKA-QEM | D60: BARONIA INDIA | E60: BARONIA INDIA | F60: Abdul Halim | G60: 45312 | H60: positive behaviour | J60: 1 | T60: 1 | V60: Housekeeping the bathroom from hair and debris to prevent flooding
A61: 53 | B61: Observed personnel housekeeping some item inside the room.clear the door from any obstruction if emergency. | C61: SKA-QEM | D61: BARONIA INDIA | E61: BARONIA INDIA | F61: Abdul Halim | G61: 45313 | H61: positive behaviour | J61: 1 | T61: 1 | V61: Clear the door from any obstruction if emergency.
A62: 54 | B62: Observed personnel not able to perform boat transfer due to the recommendation from RO,the weather conditionvis not suitable to proceed. | C62: SKA-QEM | D62: BARONIA INDIA | E62: BARONIA INDIA | F62: Abdul Halim | G62: 45314 | H62: unsafe condition | I62: 1 | R62: 1 | V62: RAEUCecommendation from RO,the weather conditionvis not suitable to proceed.
G63: =SUM(I63:P63) -> 54 | I63: =SUM(I9:I62) -> 10 | J63: =SUM(J9:J62) -> 44 | K63: =SUM(K9:K62) -> 0 | L63: =SUM(L9:L62) -> 0 | M63: =SUM(M9:M62) -> 0 | N63: =SUM(N9:N62) -> 0 | O63: =SUM(O9:O62) -> 0 | P63: =SUM(P9:P62) -> 0
A64: *Location : TUKAU A PCSB SKA-QEM | S64: =G79 -> 14 | U64: SUBMISSION
A65: 1 | B65: Observed unfavorable weather such as high wind speed and rainy | C65: SKA-QEM | D65: MPACCT | E65: TUKAU A | F65: Danial Hakim | G65: 45292 | H65: unsafe condition | I65: 1 | R65: 1 | V65: Take shelter inside MPACCT
A66: 2 | B66: Found empty mineral water left on the floor | C66: SKA-QEM | D66: MPACCT | E66: TUKAU A | F66: Danial Hakim | G66: 45292 | H66: unsafe condition | I66: 1 | R66: 1 | V66: Pick and throw it in the designated bin
A67: 3 | B67: Found used glove at working site | C67: SKA-QEM | D67: maindeck | E67: TUKAU A | F67: Mohamad Sahir | G67: 45323 | H67: unsafe condition | I67: 1 | R67: 1 | V67: Housekeeping and throw away used gloves into designated bin
A68: 4 | B68: Personnel reminding crew to not rush when decending the stairs | C68: SKA-QEM | D68: maindeck | E68: TUKAU A | F68: Mohamad Sahir | G68: 45323 | H68: unsafe act | M68: 1 | R68: 1 | V68: Good reminder
A69: 5 | B69: Observed leak at lubricator above BOP | C69: SKA-QEM | D69: maindeck | E69: TUKAU A | F69: Danial Hakim | G69: 45352 | H69: unsafe condition | I69: 1 | R69: 1 | V69: Use spill kits to wipe the spill
A70: 6 | B70: Observed oil spill at the maindeck around BOP area | C70: SKA-QEM | D70: maindeck | E70: TUKAU A | F70: Danial Hakim | G70: 45352 | H70: unsafe condition | I70: 1 | R70: 1 | V70: Lay down lubricator and change out lubricator o-ring
A71: 7 | B71: Observed sharp object on the floor | C71: SKA-QEM | D71: MPACCT | E71: TUKAU A | F71: Mohamad Sahir | G71: 45383 | H71: unsafe condition | I71: 1 | R71: 1 | V71: Pick it and throw it into designated bin
A72: 8 | B72: Observed heavy rain and high wind speed | C72: SKA-QEM | D72: MPACCT | E72: TUKAU A | F72: Mohamad Sahir | G72: 45383 | H72: unsafe condition | I72: 1 | R72: 1 | V72: Take shelter inside MPACCT
A73: 9 | B73: Observed slippery floor of the bridge | C73: SKA-QEM | D73: TUKAU-A | E73: TUKAU A | F73: Danial Hakim | G73: 45413 | H73: unsafe condition | I73: 1 | R73: 1 | V73: Wipe it out and put warning signage
A74: 10 | B74: Observed high wave and swell during boat transfer to TKA | C74: SKA-QEM | D74: FCB | E74: TUKAU A | F74: Danial Hakim | G74: 45413 | H74: unsafe condition | I74: 1 | R74: 1 | V74: Decided to return back to MPACCT
A75: 11 | B75: Found water ponding near the equipment | C75: SKA-QEM | D75: maindeck | E75: TUKAU A | F75: Mohamad Sahir | G75: 45444 | H75: unsafe condition | I75: 1 | R75: 1 | V75: Mop and wipe the area
A76: 12 | B76: Observed handrail at maindeck dirty and oily | C76: SKA-QEM | D76: maindeck | E76: TUKAU A | F76: Mohamad Sahir | G76: 45444 | H76: unsafe condition | I76: 1 | R76: 1 | V76: Housekeeping
A77: 13 | B77: Hand tool scattered and not placed correctly on maindeck | C77: SKA-QEM | D77: maindeck | E77: TUKAU A | F77: Danial Hakim | G77: 45505 | H77: unsafe condition | I77: 1 | R77: 1 | V77: housekeeping and keep handtools in store house properly
A78: 14 | B78: Observed oil on the maindeck near BOP | C78: SKA-QEM | D78: maindeck | E78: TUKAU A | F78: Danial Hakim | G78: 45505 | H78: unsafe condition | I78: 1 | R78: 1 | V78: Wipe and clean out that area
G79: =SUM(I79:P79) -> 14 | I79: =SUM(I64:I78) -> 13 | J79: =SUM(J65:J78) -> 0 | K79: =SUM(K65:K72) -> 0 | L79: =SUM(L65:L72) -> 0 | M79: =SUM(M65:M78) -> 1 | N79: =SUM(N65:N72) -> 0 | O79: =SUM(O65:O72) -> 0 | P79: =SUM(P65:P72) -> 0
A80: *Location : BAYAN A PCSB SKG-QEB | S80: =G82 -> 0 | U80: SUBMISSION
A81: 1 | B81: NA
G82: =SUM(I82:P82) -> 0 | I82: =SUM(I81:I81) -> 0 | J82: =SUM(J81:J81) -> 0 | K82: =SUM(K64:K81) -> 0 | L82: =SUM(L64:L81) -> 0 | M82: =SUM(M81:M81) -> 0 | N82: =SUM(N64:N81) -> 0 | O82: =SUM(O64:O81) -> 0 | P82: =SUM(P64:P81) -> 0
A83: *Location : KNNAG C PCSB SBA | S83: =G96 -> 12 | U83: SUBMISSION
A84: 1 | B84: OBSERVED PERSONNEL USE TAGLINE TO CONTROL EQUIPMENT WHEN PERFORM LIFTING WORK. | C84: SBA | D84: MAINDECK | E84: KNJT-C | F84: Mathias Rauth | G84: 1.1.24 | H84: positive behaviour | J84: 1 | T84: 1 | V84: Good practice.
A85: 2 | B85: OBSERVED PERSONNEL CLEAN SLIPPERY WORK AREA USING DEGREASER. | C85: SBA | D85: MAINDECK | E85: KNJT-C | F85: Amirul Asyraf | G85: 1.1.24 | H85: positive behaviour | J85: 1 | T85: 1 | V85: Good practice.
A86: 3 | B86: OBSERVED PERSONNEL PRACTICE BUDDY SYSTEM WHEN PERFORMING WORK TASK | C86: SBA | D86: MAINDECK | E86: KNJT-C | F86: Campbell Clarence | G86: 1.1.24 | H86: positive behaviour | J86: 1 | T86: 1 | V86: Good practice.
A87: 4 | B87: OBSERVED PERSONNEL USE HAND SIGNAL TO COMMUNICATE DURING WORK. | C87: SBA | D87: MAINDECK | E87: KNJT-C | F87: Wan Saufi Amri | G87: 1.1.24 | H87: positive behaviour | J87: 1 | T87: 1 | V87: Good practice.
A88: 5 | B88: OBSERVED PERSONNEL USE HAND GLOVE WHEN SPRAYING COLOUR CODE AT EQUIPMENT. | C88: SBA | D88: MAINDECK | E88: KNJT-C | F88: Mathias Rauth | G88: 2.1.24 | H88: positive behaviour | J88: 1 | T88: 1 | V88: Good practice.
A89: 6 | B89: OBSERVED PERSONNEL USE HANDRAIL WHEN GOING DOWN STAIRCASE. | C89: SBA | D89: MAINDECK | E89: KNJT-C | F89: Mathias Rauth | G89: 2.1.24 | H89: positive behaviour | J89: 1 | T89: 1 | V89: Good practice.
A90: 7 | B90: OBSERVED PERSONNEL USE LIFEJACKET PRIOR TO BOAT TRANSFER. | C90: SBA | D90: MAINDECK | E90: KNJT-C | F90: Campbell Clarence | G90: 2.1.24 | H90: positive behaviour | J90: 1 | T90: 1 | V90: Good practice.
A91: 8 | B91: OBSERVED PERSONNEL PERFORM EXERCISE AT HELIDECK AFTER WORK. | C91: SBA | D91: MAINDECK | E91: KNJT-C | F91: Wan Saufi Amri | G91: 2.1.24 | H91: positive behaviour | J91: 1 | T91: 1 | V91: Good practice.
A92: 9 | B92: OBSERVED PERSONNEL USE EARMUFF WHEN WORKING AT NOISY AREA. | C92: SBA | D92: MAINDECK | E92: KNJT-C | F92: Mathias Rauth | G92: 3.1.24 | H92: positive behaviour | J92: 1 | T92: 1 | V92: Good practice.
A93: 10 | B93: OBSERVED PERSONNEL PERFORM UAUC HUNT DURING TOFS | C93: SBA | D93: MAINDECK | E93: KNJT-C | F93: Amirul Asyraf | G93: 3.1.24 | H93: positive behaviour | J93: 1 | T93: 1 | V93: Good practice.
A94: 11 | B94: OBSERVED PERSONNEL BARRICADE UNUSED GRATING AT CELLAR DECK | C94: SBA | D94: MAINDECK | E94: KNJT-C | F94: Campbell Clarence | G94: 3.1.24 | H94: positive behaviour | J94: 1 | T94: 1 | V94: Good practice.
A95: 12 | B95: OBSERVED PERSONNEL USE PROPER PROTECTIVE SUITE WHEN PERFORMING SAND BLASTING WORK. | C95: SBA | D95: MAINDECK | E95: KNJT-C | F95: Wan Saufi Amri | G95: 3.1.24 | H95: positive behaviour | J95: 1 | T95: 1 | V95: Good practice.
G96: =SUM(I96:P96) -> 12 | J96: =SUM(J84:J95) -> 12 | K96: =SUM(K64:K95) -> 0 | L96: =SUM(L64:L95) -> 0 | M96: =SUM(M84:M95) -> 0 | N96: =SUM(N64:N95) -> 0 | O96: =SUM(O64:O95) -> 0 | P96: =SUM(P64:P95) -> 0
A97: *Location :BASE,EMO | N97: TOTAL : | S97: =G124 -> 24 | U97: SUBMISSION
A98: No | B98: Description of Observation | C98: Client | D98: Location | E98: Location | F98: Owner | G98: Dated | H98: Observation | I98: Observation | R98: Act | V98: Description of Act
A99: 1 | B99: Observed there are many mosquitoes at workshop area. May cause health disease. | C99: BASE,EMO | D99: LABUAN | E99: Workshop | F99: Khairi Abdullah | G99: 45061.337 | H99: unsafe condition | I99: 1 | R99: 1 | V99: Highlight to HSSE for further action
A100: 2 | B100: Pigeon drop found out infront door office | C100: BASE,EMO | D100: LABUAN | E100: OFFICE BUILDING | F100: Arsad Ladolo | G100: 45092.714 | H100: unsafe condition | I100: 1 | R100: 1 | V100: Raised to respective personnel on the issue
A101: 3 | B101: Terdapat banyak nyamuk di workshop area | C101: BASE,EMO | D101: LABUAN | E101: WORKSHOP | F101: Khairi Abdullah | G101: 45099.855 | H101: unsafe condition | I101: 1 | R101: 1 | V101: Buat housekeeping
A102: 4 | B102: No safety pin attach on shackle. | C102: BASE,EMO | D102: LABUAN | E102: BUILDING COMPOUND | F102: Khairi Abdullah | G102: 45099.856 | H102: unsafe condition | I102: 1 | R102: 1 | V102: Put safety pin
A103: 5 | B103: Terdapat burung di atas siling ofis menyebabkan habuk habuk dan bulu burung bersepah di atas meja. | C103: BASE,EMO | D103: LABUAN | E103: OFFICE BUILDING | F103: Khairi Abdullah | G103: 45099.858 | H103: unsafe condition | I103: 1 | R103: 1 | V103: Halau burung secepat yang mungkin sebelum lagi ramai burung di siling hinga menyebabkan penyakit.
...

Sheet FEB
B2: HAZARD HUNT SUMMARY REPORT FEBRUARY 2024
N4: TOTAL : | Q4: =S8+S18+S21+S56+S60+S13+S65+S100 -> 69 | S4: SUBMISSION
A6: No | B6: Description of Observation | C6: Client | D6: Platform | E6: Location | F6: Owner | G6: Dated | H6: Observation | I6: Observation | R6: Act | V6: Description of Act | W6: Status
I7: unsafe condition | J7: positive Observation | K7: safety suggestion | L7: security | M7: unsafe behaviour | N7: near miss | O7: issue concern | P7: others | R7: Corrective action | S7: Stop Job/Task | T7: Positive Intervention | U7: Review procedure/JSA | W7: Closed | X7: Open
A8: *Location : PCSB -QEM TUKAU A | S8: =G11 -> 2 | U8: SUBMISSION
A9: 1 | B9: observed personnel use ear plug when arriving at Quaters Platform | C9: SKA-QEM | D9: TUKAU A | E9: TUKAU A | F9: Razwan Roslan | G9: 45341 | H9: positive behaviour | J9: 1 | T9: 1 | V9: good safety practice
A10: 2 | B10: observed personnel test the swing rope during boat transfer | C10: SKA-QEM | D10: TUKAU A | E10: TUKAU A | F10: Azham Hamalee | G10: 45341 | H10: positive behaviour | J10: 1 | T10: 1 | V10: good safety practice
G11: =SUM(I11:P11) -> 2 | I11: =SUM(I9:I10) -> 0 | J11: =SUM(J9:J10) -> 2 | K11: =SUM(K9:K10) -> 0 | L11: =SUM(L9:L10) -> 0 | M11: =SUM(M9:M10) -> 0 | N11: =SUM(N9:N10) -> 0 | O11: =SUM(O9:O10) -> 0 | P11: =SUM(P9:P10) -> 0
A13: *Location : PCSB -QEM WEST LUTONG | S13: =G16 -> 2 | U13: SUBMISSION
A14: 1 | B14: observed personnel wearing H2S meter and bring the SCBA before entering H2S area | C14: SKA-QEM | D14: WEST LUTONG | E14: WEST LUTONG | F14: Razwan Roslan | G14: 45342 | H14: positive behaviour | J14: 1 | T14: 1 | V14: good safety practice
A15: 2 | B15: Personnel reminding crew to check their safety boot condition | C15: SKA-QEM | D15: WEST LUTONG | E15: WEST LUTONG | F15: Azham Hamalee | G15: 45342 | H15: positive behaviour | J15: 1 | T15: 1 | V15: good reminder
G16: =SUM(I16:P16) -> 2 | I16: =SUM(I14:I15) -> 0 | J16: =SUM(J14:J15) -> 2 | K16: =SUM(K14:K15) -> 0 | L16: =SUM(L14:L15) -> 0 | M16: =SUM(M14:M15) -> 0 | N16: =SUM(N14:N15) -> 0 | O16: =SUM(O14:O15) -> 0 | P16: =SUM(P14:P15) -> 0
A18: *Location : PCSB -QEM BARONIA A | S18: =G20 -> 0 | U18: SUBMISSION
A19: 1 | B19: NA
G20: =SUM(I20:P20) -> 0 | I20: =SUM(I19:I19) -> 0 | J20: =SUM(J19:J19) -> 0 | K20: =SUM(K19:K19) -> 0 | L20: =SUM(L19:L19) -> 0 | M20: =SUM(M19:M19) -> 0 | N20: =SUM(N19:N19) -> 0 | O20: =SUM(O19:O19) -> 0 | P20: =SUM(P19:P19) -> 0
A21: *Location : PCSB -QEM BARONIA INDIA | S21: =G55 -> 33 | U21: SUBMISSION
A22: 1 | B22: Personnel reminding crew to use impact glove during manual handling | C22: SKA-QEM | D22: BARONIA INDIA | E22: BARONIA INDIA | F22: Jacob Jimbat | G22: 45340 | H22: positive behaviour | J22: 1 | T22: 1
A23: 2 | B23: Observe all crew having a great communication during Rig-Down 70ft telescopic hydraulic mast | C23: SKA-QEM | D23: BARONIA INDIA | E23: BARONIA INDIA | F23: Keith Ramba | G23: 45340 | H23: positive behaviour | J23: 1 | T23: 1
A24: 3 | B24: Observe all crew wear ear plug | C24: SKA-QEM | D24: BARONIA INDIA | E24: BARONIA INDIA | F24: Jacob Jimbat | G24: 45338 | H24: positive behaviour | J24: 1 | T24: 1
A25: 4 | B25: Personnel reminding all crew to wear suitable hand glove during work on the platform | C25: SKA-QEM | D25: BARONIA INDIA | E25: BARONIA INDIA | F25: Keith Ramba | G25: 45338 | H25: positive behaviour | J25: 1 | T25: 1
A26: 5 | B26: Personnel reminding all crew to hold swing rope tidely during boat transfer | C26: SKA-QEM | D26: BARONIA INDIA | E26: BARONIA INDIA | F26: Jacob Jimbat | G26: 45337 | H26: positive behaviour | J26: 1 | T26: 1
A27: 6 | B27: Observe personnel sweeping floor at the pantry to maintain a good hygene | C27: SKA-QEM | D27: BARONIA INDIA | E27: BARONIA INDIA | F27: Keith Ramba | G27: 45337 | H27: positive behaviour | J27: 1 | T27: 1
A28: 7 | B28: Personel reminded crew to check safety boot condition | C28: SKA-QEM | D28: BARONIA INDIA | E28: BARONIA INDIA | F28: Jacob Jimbat | G28: 45336 | H28: positive behaviour | J28: 1 | T28: 1
A29: 8 | B29: Personnel reminding crew to becareful of potential slip area during this rainy days | C29: SKA-QEM | D29: BARONIA INDIA | E29: BARONIA INDIA | F29: Keith Ramba | G29: 45336 | H29: positive behaviour | J29: 1 | T29: 1
A30: 9 | B30: Personnel reminding all crew to use stop work policy when observing unsafe condition/act during operation | C30: SKA-QEM | D30: BARONIA INDIA | E30: BARONIA INDIA | F30: Jacob Jimbat | G30: 45334 | H30: positive behaviour | J30: 1 | T30: 1
A31: 10 | B31: Personnel reminding all crew to check tagline condition before using it and replace if it is unsafe | C31: SKA-QEM | D31: BARONIA INDIA | E31: BARONIA INDIA | F31: Keith Ramba | G31: 45334 | H31: positive behaviour | J31: 1 | T31: 1
A32: 11 | B32: Personnel reminding all crew to always aware on lifting operation | C32: SKA-QEM | D32: BARONIA INDIA | E32: BARONIA INDIA | F32: Jacob Jimbat | G32: 45333 | H32: positive behaviour | J32: 1 | T32: 1
A33: 12 | B33: Personel reminding crew on pinch point area | C33: SKA-QEM | D33: BARONIA INDIA | E33: BARONIA INDIA | F33: Keith Ramba | G33: 45333 | H33: positive behaviour | J33: 1 | T33: 1
... A54: 33 | B54: personnel reminding all crew to aware on weather forecast on weather changing | C54: SKA-QEM | D54: BARONIA INDIA | E54: BARONIA INDIA | F54: Keith Ramba | G54: 45325 | H54: positive behaviour | J54: 1 | T54: 1
G55: =SUM(I55:P55) -> 33 | I55: =SUM(I21:I54) -> 0 | J55: =SUM(J22:J54) -> 33 | K55: =SUM(K22:K29) -> 0 | L55: =SUM(L22:L29) -> 0 | M55: =SUM(M22:M54) -> 0 | N55: =SUM(N22:N29) -> 0 | O55: =SUM(O22:O29) -> 0 | P55: =SUM(P22:P29) -> 0
A56: *Location : PCSB -QEM BARAM A | S56: =G59 -> 0 | U56: SUBMISSION
A57: 1 | B57: NA
A58: 2
G59: =SUM(I59:P59) -> 0 | I59: =SUM(I57:I58) -> 0 | J59: =SUM(J57:J58) -> 0 | K59: =SUM(K21:K58) -> 0 | L59: =SUM(L21:L58) -> 0 | M59: =SUM(M57:M58) -> 0 | N59: =SUM(N21:N58) -> 0 | O59: =SUM(O21:O58) -> 0 | P59: =SUM(P21:P58) -> 0
A60: *Location : PCSB QEB -E11 | S60: =G63 -> 0 | U60: SUBMISSION
A61: 1 | B61: NA
A62: 2
G63: =SUM(I63:P63) -> 0 | I63: =SUM(I61:I62) -> 0 | J63: =SUM(J61:J62) -> 0 | K63: =SUM(K61:K62) -> 0 | L63: =SUM(L61:L62) -> 0 | M63: =SUM(M61:M62) -> 0 | N63: =SUM(N61:N62) -> 0 | O63: =SUM(O61:O62) -> 0 | P63: =SUM(P61:P62) -> 0
A65: *Location : PCSB SBA-SUMANDAK | S65: =G98 -> 32 | U65: SUBMISSION
A66: 1 | B66: OBSERVED PERSONNEL TRANSFER BOAT WITHOUT WEARING CHAIN STRIP | C66: SBA | D66: SUMANDAK | E66: FCB | F66: Ikram Muslim | G66: 45344 | H66: unsafe act | M66: 1 | R66: 1 | V66: ADVICE PERSONNEL TO WEAR CHAIN STRIP FOR NEXT BOAT TRANSFER
A67: 2 | B67: OBSERVED PERSONNEL BLOCKING PTB AREA ON FCB DURING LIFTING ACTIVITIES | C67: SBA | D67: SUMANDAK | E67: FCB | F67: Mohd Faizol | G67: 45344 | H67: unsafe act | M67: 1 | R67: 1 | V67: MARINE CREW GIVE INSTRUCTION FOR THEM TO CLEAR PTB AREA
A68: 3 | B68: OBSERVED PERSONNEL DO NOT CLOSE THE DOOR DURING BOAT MOVEMENT | C68: SBA | D68: SUMANDAK | E68: FCB | F68: Mohd Rosli | G68: 45344 | H68: unsafe act | M68: 1 | R68: 1 | V68: CLOSE THE DOOR AS TO PREVENT ANY INCIDENT HAPPEN
A69: 4 | B69: PERSONNEL WEARING EAR PLUG DURING WALKING AT NOISY AREA | C69: SBA | D69: SUMANDAK | E69: MAIN DECK | F69: Campbell Clarence | G69: 45344 | H69: positive behaviour | J69: 1 | T69: 1 | V69: GOOD ACTION
A70: 5 | B70: PERSONNEL WEARING CORRECT HAND GLOVE FOR HOLDING THE ROPE WHILE DOING BOAT TRANSFER | C70: SBA | D70: SUMANDAK | E70: FCB | F70: Ikram Muslim | G70: 45345 | H70: positive behaviour | J70: 1 | T70: 1 | V70: GOOD ACTION
A71: 6 | B71: PERSONNEL DO NOT WEAR HIGH IMPACT GLOVE DURING LIFTING ACTIVITIES | C71: SBA | D71: SUMANDAK | E71: MAIN DECK | F71: Mohd Faizol | G71: 45345 | H71: unsafe act | M71: 1 | R71: 1 | V71: IMMEDIATE STOP A PERSONNEL AND LET HIM WEAR THE HIGH IMPACT GLOVE BEFORE PROCEED WORK
A72: 7 | B72: PERSONNEL STANDING BELOW LIFTINGEQUIPMENTS DURING LIFTING ACTIVITIES | C72: SBA | D72: SUMANDAK | E72: MAIN DECK | F72: Mohd Rosli | G72: 45345 | H72: unsafe condition | I72: 1 | R72: 1 | V72: GIVE INSTRUCTION FOR A PERSONNEL TO STAY AWAY FROM DANGER ZONE
A73: 8 | B73: PERSONNEL LIFT PCE PARTS WITHOUT PROPER HAND TOOLS AND TECHNIQUE | C73: SBA | D73: SUMANDAK | E73: MAIN DECK | F73: Campbell Clarence | G73: 45345 | H73: unsafe act | M73: 1 | R73: 1 | V73: TEACH A PERSONNEL CORRECT ERGONOMIC AND HAND TOOLS TO LIFT PCE PARTS
A74: 9 | B74: PERSONNEL COMMUNICATE WELL WITH CRANE OPERATOR DURING LIFTING ACTIVITIES | C74: SBA | D74: SUMANDAK | E74: MAIN DECK | F74: Ikram Muslim | G74: 45346 | H74: positive behaviour | J74: 1 | T74: 1 | V74: GOOD ACTION
A75: 10 | B75: PERSONNEL WEARING SAFETY GLASS DURING CUTTING WIRELINE CABLE | C75: SBA | D75: SUMANDAK | E75: MAIN DECK | F75: Mohd Faizol | G75: 45346 | H75: positive behaviour | J75: 1 | T75: 1 | V75: GOOD ACTION
A76: 11 | B76: OBSERVED GROUNDING CABLE NOT SECURE PROPERLY | C76: SBA | D76: SUMANDAK | E76: MAIN DECK | F76: Mohd Rosli | G76: 45346 | H76: unsafe condition | I76: 1 | R76: 1 | V76: TIGHTEN THE GROUND CABLE PROPERLY
A77: 12 | B77: USE BUDDY SYSTEM WHILE LIFTING HEAVY ITEM | C77: SBA | D77: SUMANDAK | E77: MAIN DECK | F77: Campbell Clarence | G77: 45346 | H77: positive behaviour | J77: 1 | T77: 1 | V77: GOOD ACTION
A78: 13 | B78: PERSONNEL DID NOT HOLD HANDRAIL DURING DOWNSTAIR THE STAIRCASE | C78: SBA | D78: SUMANDAK | E78: MAIN DECK | F78: Ikram Muslim | G78: 45347 | H78: unsafe act | M78: 1 | R78: 1 | V78: STOP A PERSONNEL AND ADVICE TO HOLD A HANDRAIL
A79: 14 | B79: DB CREW PERFORM HOUSEKEEPING AFTER FINISH THE JOB | C79: SBA | D79: SUMANDAK | E79: MAIN DECK | F79: Mohd Faizol | G79: 45347 | H79: positive behaviour | J79: 1 | T79: 1 | V79: GOOD ACTION
A80: 15 | B80: OBSERVED WET FLOOR AT MAINDECK | C80: SBA | D80: SUMANDAK | E80: MAIN DECK | F80: Mohd Rosli | G80: 45347 | H80: unsafe condition | I80: 1 | R80: 1 | V80: WIPED IT OUT AND PUT THE OIL ABSORBENT
A81: 16 | B81: OBSERVED 240V PLUG WAS NOT TURNED OFF WITHOUT ANY ELECTRICAL INSTRUMENTAL | C81: SBA | D81: SUMANDAK | E81: MAIN DECK | F81: Campbell Clarence | G81: 45347 | H81: unsafe condition | I81: 1 | R81: 1 | V81: TURN THE PLUG OFF AS TO AVOID ANY ENERGY WASTE
A82: 17 | B82: CONDUCTED TOOLBOX TALK AMONG WELL INTERVENTION TEAM TO ENSURE ALL PERSONNEL AWARE HAZARDS AND RISK INVOLVED | C82: SBA | D82: SUMANDAK | E82: MAIN DECK | F82: Ikram Muslim | G82: 45348 | H82: positive behaviour | J82: 1 | T82: 1 | V82: GOOD ACTION
A83: 18 | B83: OBSERVED PERSONNEL PERFORMING WALK AROUND THE WORK AREA BEFORE AND AFTER WORK AS TO ENSURE THERE ARE NO ADDITIONAL HAZARDS WITHIN THE AREA | C83: SBA | D83: SUMANDAK | E83: MAIN DECK | F83: Mohd Faizol | G83: 45348 | H83: positive behaviour | J83: 1 | T83: 1 | V83: GOOD ACTION
A84: 19 | B84: Observed the water tap at public toiler was not properly close | C84: SBA | D84: SUMANDAK | E84: LQ | F84: Mohd Rosli | G84: 45348 | H84: unsafe condition | I84: 1 | R84: 1 | V84: Close the water tap tigahtly to avoid water spillage
A85: 20 | B85: Observed the rain may damage the radio transmitter | C85: SBA | D85: SUMANDAK | E85: Main deck | F85: Campbell Clarence | G85: 45348 | H85: unsafe condition | I85: 1 | R85: 1 | V85: Wrapped the radio transmitter with plastic wrapping
A86: 21 | B86: Observed the tagline was worn out may cause further damage | C86: SBA | D86: SUMANDAK | E86: Main deck | F86: Ikram Muslim | G86: 45349 | H86: unsafe condition | I86: 1 | R86: 1 | V86: Swapped the worn tag line with the new one
A87: 22 | B87: Observed the box matches was on the floor | C87: SBA | D87: SUMANDAK | E87: Main deck | F87: Mohd Faizol | G87: 45349 | H87: unsafe condition | I87: 1 | R87: 1 | V87: Put the box match at the proper place
A88: 23 | B88: Observed the well site area barricade was damaged due to rain | C88: SBA | D88: SUMANDAK | E88: Main deck | F88: Mohd Rosli | G88: 45349 | H88: unsafe condition | I88: 1 | R88: 1 | V88: Replace the barricade with new tape to secure it
A89: 24 | B89: Observe glove was worn out during performing job | C89: SBA | D89: SUMANDAK | E89: Main deck | F89: Campbell Clarence | G89: 45349 | H89: unsafe condition | I89: 1 | R89: 1 | V89: Swapped the worn used glove with new ones
A90: 25 | B90: Observe Wooden Plank blocking the walkway | C90: SBA | D90: SUMANDAK | E90: Main deck | F90: Ikram Muslim | G90: 45350 | H90: unsafe condition | I90: 1 | R90: 1 | V90: Put aside the wooden plank to avoid trip and fall
A91: 26 | B91: Observe rusted and damaged wire at the floor | C91: SBA | D91: SUMANDAK | E91: Main deck | F91: Mohd Faizol | G91: 45350 | H91: unsafe condition | I91: 1 | R91: 1 | V91: Throw out the damaged wire at the proper place to avoid trip and fall.
A92: 27 | B92: Observe oil spillage on the floor, may cause trip and fall | C92: SBA | D92: SUMANDAK | E92: Main deck | F92: Mohd Rosli | G92: 45350 | H92: unsafe condition | I92: 1 | R92: 1 | V92: Put oil absorbent on the oil spill to avoid slipping hazard
A93: 28 | B93: Observe tool has oil droplets may cause oil spill | C93: SBA | D93: SUMANDAK | E93: Main deck | F93: Campbell Clarence | G93: 45350 | H93: unsafe condition | I93: 1 | R93: 1 | V93: Wash down the tool with rags to clean the oil droplets
A94: 29 | B94: Observe glove PPE has worn out may cause injury | C94: SBA | D94: SUMANDAK | E94: Main deck | F94: Ikram Muslim | G94: 45351 | H94: unsafe condition | I94: 1 | R94: 1 | V94: Change the glove PPE to a new backup set
A95: 30 | B95: Observe Main Deck wooden floor has a hole | C95: SBA | D95: SUMANDAK | E95: Main deck | F95: Mohd Faizol | G95: 45351 | H95: unsafe condition | I95: 1 | R95: 1 | V95: Remind crew to becareful at the area when walking
... A97: 32 | B97: Observe oil spillage on the floor, may cause trip and fall | C97: SBA | D97: SUMANDAK | E97: Main deck | F97: Campbell Clarence | G97: 45351 | H97: unsafe condition | I97: 1 | R97: 1 | V97: Put oil absorbent on the oil spill to avoid slipping hazard
G98: =SUM(I98:P98) -> 32 | I98: =SUM(I66:I97) -> 18 | J98: =SUM(J66:J97) -> 8 | K98: =SUM(K66:K97) -> 0 | L98: =SUM(L66:L97) -> 0 | M98: =SUM(M66:M97) -> 6 | N98: =SUM(N66:N97) -> 0 | O98: =SUM(O66:O97) -> 0 | P98: =SUM(P66:P97) -> 0
A100: *Location :BASE,EMO | N100: TOTAL : | S100: =G104 -> 0 | U100: SUBMISSION
A101: No | B101: Description of Observation | C101: Client | D101: Location | E101: Location | F101: Owner | G101: Dated | H101: Observation | I101: Observation | R101: Act | V101: Description of Act
A102: 1 | B102: NA | V102: Highlight to HSSE for further action
V103: Action required: To Replace the current chair with an ergonomic alternative to promote better posture and overall well-being. *Why Switch?: - Ergonomic chairs support natural body alignment, reducing strain on the spine and muscles. - Improved comfort enhances productivity and focus. - Investing in your health now could prevent potential issues in the future. *Remember: Our body deserves the best support. Make the change today and prioritize your well-being. Say no to unergonomic chairs!
G104: =SUM(I104:P104) -> 0 | I104: =SUM(I102:I103) -> 0 | J104: =SUM(J102:J103) -> 0 | K104: =SUM(K102:K103) -> 0 | L104: =SUM(L102:L103) -> 0 | M104: =SUM(M102:M103) -> 0 | N104: =SUM(N102:N103) -> 0 | O104: =SUM(O102:O103) -> 0 | P104: =SUM(P102:P103) -> 0
D107: BASE | E107: BARONIA-INDIA PCSB SKA-QEM | F107: BARONIA-ALPHA PCSB SKA-QEM | G107: TUKAU A PCSB SKA-QEM | H107: WEST LUTONG PCSB SKA-QEM | I107: BARAM A PCSB SKG-QEB | J107: E11 PCSB QEB | K107: SUMANDAK PCSB SBA
C108: EMO | D108: =COUNTIF(C9:C103,Parameters!D23) -> 0 | E108: =COUNTIF(D9:D103,Parameters!F49) -> 33 | F108: =COUNTIF(D9:D103,Parameters!F48) -> 0 | G108: =COUNTIF(D9:D103,Parameters!F53) -> 2 | H108: =COUNTIF(D9:D103,Parameters!F54) -> 2 | I108: =COUNTIF(D9:D103,Parameters!F55) -> 0 | J108: =COUNTIF(D9:D103,Parameters!F57) -> 0 | K108: =COUNTIF(D9:D103,Parameters!F34) -> 32
D109: =SUM(D108:K108) -> 69
B111: HUNT BREAK DOWN
B112: DESCRIPTION | V112: TOTAL
B113: UNSAFE ACT/BEHAVIOUR | K113: *PPE non compliance
K114: *Unsafe position
K115: *Failure to follow procedure/SOP
K116: *Wrong manual handling
K117: *Using wrong tool
K118: *Others
B119: UNSAFE CONDITION | K119: * Poor Housekeeping
K120: * Improper placement/storage
K121: * Defective Equipment
K122: * Defective facility
K123: * Electrical hazards
K124: * Health / hygiene Hazards
K125: * Slipping Hazard
K126: * Tripping Hazard
K127: * Fire And Explosion Hazards
K128: * Congestion / Obstruction
K129: * Protruding hazard
K130: * Pinch point hazard
K131: * Bad weather
...

Sheet MAR
B2: HAZARD HUNT SUMMARY REPORT MARCH 2024
N4: TOTAL : | Q4: =S8+S54+S80+S96+S106+S118+S12+S20+S28+S144 -> 118 | S4: SUBMISSION
A6: No | B6: Description of Observation | C6: Client | D6: Platform | E6: Location | F6: Owner | G6: Dated | H6: Observation | I6: Observation | R6: Act | V6: Description of Act | W6: Status
I7: unsafe condition | J7: positive Observation | K7: safety suggestion | L7: security | M7: unsafe behaviour | N7: near miss | O7: issue concern | P7: others | R7: Corrective action | S7: Stop Job/Task | T7: Positive Intervention | U7: Review procedure/JSA | W7: Closed | X7: Open
A8: *Location : PCSB-QEB BETTY | S8: =G11 -> 2 | U8: SUBMISSION
A9: 1 | B9: Observed personnel wearing H2S meter and bring the SCBA before entering H2S area | C9: SKG-QEB | D9: BETTY | E9: MAINDECK | F9: Razwan Roslan | G9: 45370 | H9: positive behaviour | J9: 1 | T9: 1 | V9: good safety practice
A10: 2 | B10: Personnel reminding crew to check their safety boot condition | C10: SKG-QEB | D10: BETTY | E10: MAINDECK | F10: Jezzie Balang | G10: 45370 | H10: positive behaviour | J10: 1 | T10: 1 | V10: good reminder
G11: =SUM(I11:P11) -> 2 | I11: =SUM(I6:I10) -> 0 | J11: =SUM(J6:J10) -> 2 | K11: =SUM(K6:K10) -> 0 | L11: =SUM(L6:L10) -> 0 | M11: =SUM(M6:M10) -> 0 | N11: =SUM(N6:N10) -> 0 | O11: =SUM(O6:O10) -> 0 | P11: =SUM(P6:P10) -> 0
A12: *Location : PCSB-QEM E11 | S12: =G19 -> 6 | U12: SUBMISSION
A13: 1 | B13: observed personnel use ear plug at a noisy area | C13: SKA-QEM | D13: E11 | E13: MAINDECK | F13: Razwan Roslan | G13: 45381 | H13: positive behaviour | J13: 1 | T13: 1 | V13: good safety practice
A14: 2 | B14: observed personnel test the swing rope during boat transfer | C14: SKA-QEM | D14: E11 | E14: MAINDECK | F14: Mike Weller | G14: 45381 | H14: positive behaviour | J14: 1 | T14: 1 | V14: good safety practice
A15: 3 | B15: observed personnel handling heavy load with proper body posture | C15: SKA-QEM | D15: E11 | E15: MAINDECK | F15: Mohamad Hasbullah | G15: 45381 | H15: positive behaviour | J15: 1 | T15: 1 | V15: good safety practice
A16: 4 | B16: Personnel reminding crew to check their safety boot condition | C16: SKA-QEM | D16: E11 | E16: MAINDECK | F16: Razwan Roslan | G16: 45382 | H16: positive behaviour | J16: 1 | T16: 1 | V16: good reminder
A17: 5 | B17: observed personnel do toolbox meeting before proceed to work at site | C17: SKA-QEM | D17: E11 | E17: MAINDECK | F17: Mike Weller | G17: 45382 | H17: positive behaviour | J17: 1 | T17: 1 | V17: good safety practice
A18: 6 | B18: observed personnel holding handrail when accending and decending stairs | C18: SKA-QEM | D18: E11 | E18: MAINDECK | F18: Mohamad Hasbullah | G18: 45382 | H18: positive behaviour | J18: 1 | T18: 1 | V18: good safety practice
G19: =SUM(I19:P19) -> 6 | I19: =SUM(I9:I10) -> 0 | J19: =SUM(J13:J18) -> 6 | K19: =SUM(K9:K10) -> 0 | L19: =SUM(L9:L10) -> 0 | M19: =SUM(M9:M10) -> 0 | N19: =SUM(N9:N10) -> 0 | O19: =SUM(O9:O10) -> 0 | P19: =SUM(P9:P10) -> 0
A20: *Location : PCSB-QEB D18 | S20: =G27 -> 6 | U20: SUBMISSION
A21: 1 | B21: OBSERVED CABLE SLING BLOCK THE WALKWAY | C21: SKG-QEB | D21: D18 | E21: MAINDECK | F21: Mohd Azmi | G21: 29.3.24 | H21: unsafe condition | I21: 1 | R21: 1 | V21: SECURE THE SLING BLOCK AND MAKE THE WALKWAY CLEAR FROM OBSTRUCTION
A22: 2 | B22: FOUND WATER PONDING AT MAINDECK | C22: SKG-QEB | D22: D18 | E22: MAINDECK | F22: Fletcher Entika | G22: 29.3.24 | H22: unsafe condition | I22: 1 | R22: 1 | V22: REMIND CREW FOR EXTRA PRECAUTION WHILE WALKING ON MAINDECK
A23: 3 | B23: SLIPPERY HANDRAIL AND STAIR DUE TO RAIN | C23: SKG-QEB | D23: D18 | E23: MAINDECK | F23: Mohd Azmi | G23: 30.3.24 | H23: unsafe condition | I23: 1 | R23: 1 | V23: REMIND CREW TO EXTRA PRECAUTION WHILE ASCENDING AND DESCENDING THE STAIR
A24: 4 | B24: FOUND SHARP EDGES WHILE MAKE UP THE TOOLSTRING. | C24: SKG-QEB | D24: D18 | E24: MAINDECK | F24: Fletcher Entika | G24: 30.3.24 | H24: unsafe condition | I24: 1 | R24: 1 | V24: FILING THE SHARP EDGES TO AVOID UNWANTED INCIDENT
A25: 5 | B25: INTERVENE PERSONNEL TO USE RIGHT TO TOOL FOR THE RIGHT JOB. | C25: SKG-QEB | D25: D18 | E25: MAINDECK | F25: Mohd Azmi | G25: 31.3.24 | H25: positive behaviour | J25: 1 | T25: 1
A26: 6 | B26: GOOD COMMUNICATION BETWEEN CREW WHILE HANDLING TOOLSTRING. | C26: SKG-QEB | D26: D18 | E26: MAINDECK | F26: Fletcher Entika | G26: 31.3.24 | H26: positive behaviour | J26: 1 | T26: 1 | V26: GOOD PRACTICE.
G27: =SUM(I27:P27) -> 6 | I27: =SUM(I11:I26) -> 4 | J27: =SUM(J21:J26) -> 2 | K27: =SUM(K11:K26) -> 0 | L27: =SUM(L11:L26) -> 0 | M27: =SUM(M11:M26) -> 0 | N27: =SUM(N11:N26) -> 0 | O27: =SUM(O11:O26) -> 0 | P27: =SUM(P11:P26) -> 0
A28: *Location : PCSB-QEM BARAM A | S28: =G53 -> 24 | U28: SUBMISSION
A29: 1 | B29: Observed personnel using buddy system when working. | C29: SKA-QEM | D29: BARAM A | E29: maindeck | F29: Mohamad Sahir | G29: 45475 | H29: positive behaviour | J29: 1 | T29: 1
A30: 2 | B30: Observed personnel do housekeeping on upperdeck. | C30: SKA-QEM | D30: BARAM A | E30: maindeck | F30: Mohamad Sahir | G30: 45475 | H30: positive behaviour | J30: 1 | T30: 1
A31: 3 | B31: Observed a wooden block obstruct walkway | C31: SKA-QEM | D31: BARAM A | E31: MPACCT | F31: Mohamad Sahir | G31: 45506 | H31: unsafe condition | I31: 1 | R31: 1 | V31: Move the wooden block to a safer place
A32: 4 | B32: Observed paper cup left at smoking area | C32: SKA-QEM | D32: BARAM A | E32: MPACCT | F32: Mohamad Sahir | G32: 45506 | H32: unsafe condition | I32: 1 | R32: 1 | V32: Pick and throw it in the designated bin
A33: 5 | B33: Found dirty absorbent pad at wellhead | C33: SKA-QEM | D33: BARAM A | E33: maindeck | F33: Mohamad Sahir | G33: 45536 | H33: unsafe condition | I33: 1 | R33: 1 | V33: Collect and throw away the dirty pad into a dustbin
A34: 6 | B34: Observed water pooling on maindeck area | C34: SKA-QEM | D34: BARAM A | E34: maindeck | F34: Mohamad Sahir | G34: 45536 | H34: unsafe condition | I34: 1 | R34: 1 | V34: Mop and wipe the area
A35: 7 | B35: Found empty mineral water left on the floor | C35: SKA-QEM | D35: BARAM A | E35: FCB | F35: Mohamad Sahir | G35: 45538 | H35: unsafe condition | I35: 1 | R35: 1 | V35: Pick and throw it in the designated bin
A36: 8 | B36: Observed unfavorable weather such as high swell and high wind speed during personnel transfer to platform. | C36: SKA-QEM | D36: BARAM A | E36: FCB Gen 4 | F36: Mohamad Sahir | G36: 45538 | H36: unsafe condition | I36: 1 | R36: 1 | V36: FCB Gen 4 travels back to MPACCT
A37: 9 | B37: Observed bottle and empty cup on the floor | C37: SKA-QEM | D37: BARAM A | E37: MPACCT | F37: Mohamad Sahir | G37: 45599 | H37: unsafe condition | I37: 1 | R37: 1 | V37: Took it and throw into designated bin
A38: 10 | B38: Observed unfavorable weather such as high wind speed and rough sea | C38: SKA-QEM | D38: BARAM A | E38: MPACCT | F38: Mohamad Sahir | G38: 45599 | H38: unsafe condition | I38: 1 | R38: 1 | V38: Travel to platform has been cancelled
A39: 11 | B39: Observed unfavorable weather such as high wind speed and high swell | C39: SKA-QEM | D39: BARAM A | E39: FCB | F39: Mohamad Sahir | G39: 45629 | H39: unsafe condition | I39: 1 | R39: 1 | V39: Returned back to MPACCT
A40: 12 | B40: Observed sharp object on the floor | C40: SKA-QEM | D40: BARAM A | E40: MPACCT | F40: Mohamad Sahir | G40: 45629 | H40: unsafe condition | I40: 1 | R40: 1 | V40: Pick it and throw it into designated bin
A41: 13 | B41: Observed high wave and swell during personnel transfer to platform | C41: SKA-QEM | D41: BARAM A | E41: FCB | F41: Mohamad Sahir | G41: 13/3/2024 | H41: unsafe condition | I41: 1 | R41: 1 | V41: Stand by onboard and return to MPACCT
A42: 14 | B42: Observed paper cup left at smoking area | C42: SKA-QEM | D42: BARAM A | E42: MPACCT | F42: Mohamad Sahir | G42: 13/3/2024 | H42: unsafe condition | I42: 1 | R42: 1 | V42: Pick and throw it in the designated bin
A43: 15 | B43: Found used glove at working site | C43: SKA-QEM | D43: BARAM A | E43: maindeck | F43: Mohamad Sahir | G43: 14/3/2024 | H43: unsafe condition | I43: 1 | R43: 1 | V43: Housekeeping
A44: 16 | B44: Observed handrail at maindeck dirty and oily | C44: SKA-QEM | D44: BARAM A | E44: maindeck | F44: Mohamad Sahir | G44: 14/3/2024 | H44: unsafe condition | I44: 1 | R44: 1 | V44: Housekeeping
A45: 17 | B45: Observed personnel using buddy system when working which is a good practice | C45: SKA-QEM | D45: BARAM A | E45: maindeck | F45: Mohamad Sahir | G45: 15/3/2024 | H45: positive behaviour | J45: 1 | T45: 1
A46: 18 | B46: Observed personnel do housekeeping on maindeck | C46: SKA-QEM | D46: BARAM A | E46: MAINDECK | F46: Mohamad Sahir | G46: 15/3/2024 | H46: positive behaviour | J46: 1 | T46: 1
A47: 19 | B47: Found used glove at working site | C47: SKA-QEM | D47: BARAM A | E47: MAINDECK | F47: Mohamad Sahir | G47: 16/3/2024 | H47: positive behaviour | J47: 1 | T47: 1 | V47: Housekeeping and throw away used gloves into designated bin
A48: 20 | B48: Observed oily and dirty stairs handrails | C48: SKA-QEM | D48: BARAM A | E48: PLATFORM | F48: Mohamad Sahir | G48: 16/3/2024 | H48: positive behaviour | J48: 1 | T48: 1 | V48: Housekeeping and wipe the handrails
A49: 21 | B49: found used plastic wrap on the floor | C49: SKA-QEM | D49: BARAM A | E49: MPACCT | F49: Mohamad Sahir | G49: 18/3/2024 | H49: positive behaviour | J49: 1 | T49: 1 | V49: housekeeping and throw away plastic wrap
A50: 22 | B50: Observed slippery floor on the walking bridge | C50: SKA-QEM | D50: BARAM A | E50: FCB | F50: Mohamad Sahir | G50: 18/3/2024 | H50: positive behaviour | J50: 1 | T50: 1 | V50: Wipe out the slippery floor and put barricade/ warning signage at the area
A51: 23 | B51: Observed handrail at maindeck dirty and oily | C51: SKA-QEM | D51: BARAM A | E51: MAINDECK | F51: Mohamad Sahir | G51: 19/3/2024 | H51: positive behaviour | J51: 1 | T51: 1 | V51: Housekeeping
A52: 24 | B52: Observed slippery floor on the gangway | C52: SKA-QEM | D52: BARAM A | E52: FCB | F52: Mohamad Sahir | G52: 19/3/2024 | H52: positive behaviour | J52: 1 | T52: 1 | V52: Wipe it out and put warning signage
G53: =SUM(I53:P53) -> 24 | I53: =SUM(I29:I52) -> 14 | J53: =SUM(J29:J52) -> 10 | K53: =SUM(K11:K52) -> 0 | L53: =SUM(L11:L52) -> 0 | M53: =SUM(M11:M52) -> 0 | N53: =SUM(N11:N52) -> 0 | O53: =SUM(O11:O52) -> 0 | P53: =SUM(P11:P52) -> 0
A54: *Location : PCSB SBA,SAMARANG E | S54: =G79 -> 24 | U54: SUBMISSION
A55: 1 | B55: OBSERVE PERSONNEL REMINDING ALL CREW TO USE HANDRAIL DURING USING STAIRS. | C55: SBA | D55: SAMARANG E | E55: MV DB | F55: Nur Iman | G55: 20.3.24 | H55: positive behaviour | J55: 1 | T55: 1 | V55: Good Practice
A56: 2 | B56: OBSERVE PERSONNEL CLEAN THEIR HANDS WITH SOAP TO REMOVE OIL AND GREASE BEFORE EATING TO AVOID FOOD POISONING | C56: SBA | D56: SAMARANG E | E56: MV DB | F56: Nur Iman | G56: 20.3.24 | H56: positive behaviour | J56: 1 | T56: 1 | V56: Good Practice
A57: 3 | B57: OBSERVE PERSONNEL KEEP CLEAR OF UNRELATED PERSONNEL AT SITE LOCATION | C57: SBA | D57: SAMARANG E | E57: MV DB | F57: Nur Iman | G57: 21.3.24 | H57: positive behaviour | J57: 1 | T57: 1 | V57: Good Practice
A58: 4 | B58: OBSERVE PERSONNEL SMOKING AT DESIGNATED AREA, OBEYING HOUSE RULES | C58: SBA | D58: SAMARANG E | E58: MV DB | F58: Nur Iman | G58: 21.3.24 | H58: positive behaviour | J58: 1 | T58: 1 | V58: Good Practice
A59: 5 | B59: OBSERVE PERSONNEL REVIEW JHA PRIOR STARTING WORK | C59: SBA | D59: SAMARANG E | E59: SMJT-E | F59: Nur Iman | G59: 22.3.24 | H59: positive behaviour | J59: 1 | T59: 1 | V59: Good Practice
A60: 6 | B60: OBSERVE PERSONNEL USING CORRECT SWING ROPE TECHNIQUE DURING GANGWAY TRANSFER | C60: SBA | D60: SAMARANG E | E60: MV DB | F60: Nur Iman | G60: 22.3.24 | H60: positive behaviour | J60: 1 | T60: 1 | V60: Good Practice
A61: 7 | B61: OBSERVE PERSONNEL THROW RUBBISH AT DESIGNATED BIN | C61: SBA | D61: SAMARANG E | E61: MV DB | F61: Nur Iman | G61: 23.3.24 | H61: positive behaviour | J61: 1 | T61: 1 | V61: Good Practice
A62: 8 | B62: OBSERVE PERSONNEL THROW CIGARETTE BUTT IN THE ASHTRAY | C62: SBA | D62: SAMARANG E | E62: MV DB | F62: Nur Iman | G62: 23.3.24 | H62: positive behaviour | J62: 1 | T62: 1 | V62: Good Practice
A63: 9 | B63: OBSERVE PERSONNEL USES TAGLINE TO GUIDE EQUIPMENT DURING LIFTING | C63: SBA | D63: SAMARANG E | E63: SMJT-E | F63: Nur Iman | G63: 24.3.24 | H63: positive behaviour | J63: 1 | T63: 1 | V63: Good Practice
A64: 10 | B64: OBSERVE PERSONNEL REVIEW JHA DURING TOOLBOX TALK | C64: SBA | D64: SAMARANG E | E64: SMJT-E | F64: Nur Iman | G64: 24.3.24 | H64: positive behaviour | J64: 1 | T64: 1 | V64: Good Practice
A65: 11 | B65: OBSERVE PERSONNEL PERFORM HOUSEKEEPING BEFORE LEAVING WORK AREA | C65: SBA | D65: SAMARANG E | E65: SMJT-E | F65: Nur Iman | G65: 25.3.24 | H65: positive behaviour | J65: 1 | T65: 1 | V65: Good Practice
A66: 12 | B66: OBSERVE PERSONNEL USES HIGH IMPACT GLOVE DURING LIFTING OPERATION | C66: SBA | D66: SAMARANG E | E66: SMJT-E | F66: Nur Iman | G66: 25.3.24 | H66: positive behaviour | J66: 1 | T66: 1 | V66: Good Practice
... A78: 24 | B78: OBSERVE PERSONNEL SOLE SAFETY SHOES IN GOOD CONDITION | C78: SBA | D78: SAMARANG E | E78: SMJT-E | F78: Nur Iman | G78: 31.3.24 | H78: positive behaviour | J78: 1 | T78: 1 | V78: Good Practice
G79: =SUM(I79:P79) -> 24 | I79: =SUM(I55:I78) -> 0 | J79: =SUM(J55:J78) -> 24 | K79: =SUM(K55:K78) -> 0 | L79: =SUM(L55:L78) -> 0 | M79: =SUM(M55:M78) -> 0 | N79: =SUM(N55:N78) -> 0 | O79: =SUM(O55:O78) -> 0 | P79: =SUM(P55:P78) -> 0
A80: *Location : ROC OIL, D35 | S80: =G95 -> 14 | U80: SUBMISSION
A81: 1 | B81: Observed personnel holding handrail during ascending and descending staircase. | C81: ROC OIL | D81: D35 | E81: DPA | F81: Azriq Afif | G81: 44997 | H81: positive behaviour | J81: 1 | T81: 1 | V81: Good safety practice.
A82: 2 | B82: Observed roomboy make a cleaning and change new bedsheet for incoming crew with neat and tidy | C82: ROC OIL | D82: D35 | E82: DPA | F82: Azriq Afif | G82: 44998 | H82: positive behaviour | J82: 1 | T82: 1 | V82: Good job and keep it up
A83: 3 | B83: Good assist by TEGAS MULIA AB during performed boat transfer. | C83: ROC OIL | D83: D35 | E83: D35DP-A (Main deck) | F83: Azriq Afif | G83: 44999 | H83: positive behaviour | J83: 1 | T83: 1 | V83: Good practice.
A84: 4 | B84: Observed personnel put slippery signage after done mop the floor. Potential hazard of slip and fall. | C84: ROC OIL | D84: D35 | E84: LQ | F84: Azriq Afif | G84: 45000 | H84: positive behaviour | J84: 1 | T84: 1 | V84: Good safety practice.
A85: 5 | B85: Observe personal lifting long item with buddy systems. | C85: ROC OIL | D85: D35 | E85: DPA | F85: Azriq Afif | G85: 45001 | H85: positive behaviour | J85: 1 | T85: 1 | V85: Keep it up.
A86: 6 | B86: observed personnel use the correct body posture during lift the heavy equipment | C86: ROC OIL | D86: D35 | E86: D35LQ-A | F86: Azriq Afif | G86: 45002 | H86: positive behaviour | J86: 1 | T86: 1 | V86: good safety practice
A87: 7 | B87: Observed crew member use impact glove during servicing wireline tools. | C87: ROC OIL | D87: D35 | E87: D35DP-A (main deck) | F87: Azriq Afif | G87: 45003 | H87: positive behaviour | J87: 1 | T87: 1 | V87: Good practice, prevent from sharp edges.
A88: 8 | B88: Observed personnel double check control line hoses before connecting the SSV and SCSSV line to prevent airgap | C88: ROC OIL | D88: D35 | E88: LQ | F88: Azriq Afif | G88: 45004 | H88: positive behaviour | J88: 1 | T88: 1 | V88: Good safety practice
A89: 9 | B89: Observed personnel put the cigarette buut into designated ashtray. | C89: ROC OIL | D89: D35 | E89: D35 | F89: Azriq Afif | G89: 45005 | H89: positive behaviour | J89: 1 | T89: 1 | V89: Good behavior
A90: 10 | B90: Observed crew member secured hand tools during working near the open hatch to prevent from drop objects. | C90: ROC OIL | D90: D35 | E90: Wireline Deck | F90: Azriq Afif | G90: 45006 | H90: positive behaviour | J90: 1 | T90: 1 | V90: Good practice.
A91: 11 | B91: observed personnel personnel use the safety harness during working at gantry crane | C91: ROC OIL | D91: D35 | E91: LQ staircase | F91: Azriq Afif | G91: 45007 | H91: positive behaviour | J91: 1 | T91: 1 | V91: good safety practice
A92: 12 | B92: observed crew member wash the oily wireline deck using degreaser after end of operation | C92: ROC OIL | D92: D35 | E92: D35DP-A (Main deck) | F92: Azriq Afif | G92: 45008 | H92: positive behaviour | J92: 1 | T92: 1 | V92: good safety practice
... A94: 14 | B94: Observed personnel remind crew member to not put hand on pinch point area when install installing the reel skid unit counter head. | C94: ROC OIL | D94: D35 | E94: DPA | F94: Azriq Afif | G94: 45010 | H94: positive behaviour | J94: 1 | T94: 1 | V94: Good safety reminder.
G95: =SUM(I95:P95) -> 14 | I95: =SUM(I80:I94) -> 0 | J95: =SUM(J81:J94) -> 14 | K95: =SUM(K81:K88) -> 0 | L95: =SUM(L81:L88) -> 0 | M95: =SUM(M81:M94) -> 0 | N95: =SUM(N81:N88) -> 0 | O95: =SUM(O81:O88) -> 0 | P95: =SUM(P81:P88) -> 0
A96: *Location : PCSB-SBA, EWB WEST | S96: =G105 -> 8 | U96: SUBMISSION
A97: 1 | B97: Observed personnel perform boat transfer safely | C97: SBA | D97: EWB WEST | E97: MAINDECK | F97: Mathias Rauth | G97: 45366 | H97: positive behaviour | J97: 1 | T97: 1 | V97: Good Job
A98: 2 | B98: Oberved personnel wear full PPE prior to work | C98: SBA | D98: EWB WEST | E98: MAINDECK | F98: Mathias Rauth | G98: 45367 | H98: positive behaviour | J98: 1 | T98: 1 | V98: Good Job
A99: 3 | B99: Observed personnel use safety harness prior performing work at height | C99: SBA | D99: EWB WEST | E99: MAINDECK | F99: Mathias Rauth | G99: 45368 | H99: positive behaviour | J99: 1 | T99: 1 | V99: Good Job
A100: 4 | B100: Observed personnel perform housekeeping before leaving work area | C100: SBA | D100: EWB WEST | E100: MAINDECK | F100: Mathias Rauth | G100: 45369 | H100: positive behaviour | J100: 1 | T100: 1 | V100: Good Job
A101: 5 | B101: Observed personnel use correct tool when make up toolstring | C101: SBA | D101: EWB WEST | E101: MAINDECK | F101: Mathias Rauth | G101: 45370 | H101: positive behaviour | J101: 1 | T101: 1 | V101: Good Job
A102: 6 | B102: Observed personnnel wear impact gloves when handling heavy tool | C102: SBA | D102: EWB WEST | E102: MAINDECK | F102: Mathias Rauth | G102: 45371 | H102: positive behaviour | J102: 1 | T102: 1 | V102: Good Job
A103: 7 | B103: Observed personnel use handrail when using staircase | C103: SBA | D103: EWB WEST | E103: MAINDECK | F103: Mathias Rauth | G103: 45372 | H103: positive behaviour | J103: 1 | T103: 1 | V103: Good Job
A104: 8 | B104: Observed personnel open and close door slowly | C104: SBA | D104: EWB WEST | E104: MAINDECK | F104: Mathias Rauth | G104: 45373 | H104: positive behaviour | J104: 1 | T104: 1 | V104: Good Job
G105: =SUM(I105:P105) -> 8 | I105: =SUM(I97:I104) -> 0 | J105: =SUM(J97:J104) -> 8 | K105: =SUM(K80:K104) -> 0 | L105: =SUM(L80:L104) -> 0 | M105: =SUM(M97:M104) -> 0 | N105: =SUM(N80:N104) -> 0 | O105: =SUM(O80:O104) -> 0 | P105: =SUM(P80:P104) -> 0
A106: *Location : PCSB-SBA EWB WEST | S106: =G117 -> 10 | U106: SUBMISSION
A107: 1 | B107: Oberved good communication between crane and operator and Deleum team while reposition wireline equipment | C107: SBA | D107: EWB WEST | E107: MAINDECK | F107: Syed Ghaffur | G107: 45382 | H107: positive behaviour | J107: 1 | T107: 1 | V107: Good Job
A108: 2 | B108: Oberved personal walk around maindeck area and perform quick toolbox prior performing lifting to ensure everyone is aware of the activity | C108: SBA | D108: EWB WEST | E108: MAINDECK | F108: Syed Ghaffur | G108: 45379 | H108: positive behaviour | J108: 1 | T108: 1 | V108: Good Job
A109: 3 | B109: Oberved personal check lifting equipment/gear prior performing lifting to ensure safe and smooth job | C109: SBA | D109: EWB WEST | E109: MAINDECK | F109: Syed Ghaffur | G109: 45381 | H109: positive behaviour | J109: 1 | T109: 1 | V109: Good Job
A110: 4 | B110: Observed personnel check safety harness condition prior wearing and working | C110: SBA | D110: EWB WEST | E110: MAINDECK | F110: Syed Ghaffur | G110: 45380 | H110: positive behaviour | J110: 1 | T110: 1 | V110: Good Job
A111: 5 | B111: Observed personnel check and tighten winch anchor chain prior start RIH | C111: SBA | D111: EWB WEST | E111: MAINDECK | F111: Syed Ghaffur | G111: 45378 | H111: positive behaviour | J111: 1 | T111: 1 | V111: Good Job
A112: 6 | B112: Observed lifting team barricade and put signage before performing lifting operation | C112: SBA | D112: EWB WEST | E112: MAINDECK | F112: Syed Ghaffur | G112: 45377 | H112: positive behaviour | J112: 1 | T112: 1 | V112: Good Job
A113: 7 | B113: Team leader perform safety sharing on past incident prior start work at site,to ensure all personnel aware of working surrounding | C113: SBA | D113: EWB WEST | E113: MAINDECK | F113: Syed Ghaffur | G113: 45376 | H113: positive behaviour | J113: 1 | T113: 1 | V113: Good Job
A114: 8 | B114: Observed personnel replace old and worn emergency assembly point signage | C114: SBA | D114: EWB WEST | E114: MAINDECK | F114: Syed Ghaffur | G114: 45375 | H114: positive behaviour | J114: 1 | T114: 1 | V114: Good Job
A115: 9 | B115: Observed personnel replace old barricade tape with new tape to increased visibility on the barricade area | C115: SBA | D115: EWB WEST | E115: MAINDECK | F115: Syed Ghaffur | G115: 45374 | H115: positive behaviour | J115: 1 | T115: 1 | V115: Good Job
...

Sheet APRIL
B2: HAZARD HUNT SUMMARY REPORT APRIL 2024
N4: TOTAL : | Q4: =S8+S98+S298+S315+S323+S326+S381+S423+S444 -> 416 | S4: SUBMISSION
A6: No | B6: Description of Observation | C6: Client | D6: Platform | E6: Location | F6: Owner | G6: Dated | H6: Observation | I6: Observation | R6: Act | V6: Description of Act | W6: Status
I7: unsafe condition | J7: positive Observation | K7: safety suggestion | L7: security | M7: unsafe behaviour | N7: near miss | O7: issue concern | P7: others | R7: Corrective action | S7: Stop Job/Task | T7: Positive Intervention | U7: Review procedure/JSA | W7: Closed | X7: Open
A8: *Location : PCSB BARONIA J | S8: =G97 -> 88 | U8: SUBMISSION
A9: 1 | B9: Observed personnel using double ear protection in high noise area | C9: SKA-QEM | D9: BARONIA J | E9: BN-J | F9: Clement Emang | G9: 9.4.2024 | H9: positive behaviour | J9: 1 | T9: 1 | V9: Good Practice
A10: 2 | B10: Observed personnel carry water bottle using correct manual handling technique | C10: SKA-QEM | D10: BARONIA J | E10: BN-J | F10: Amirul Asyraf | G10: 9.4.2024 | H10: positive behaviour | J10: 1 | T10: 1 | V10: Good Practice
A11: 3 | B11: Observed personnel use impact gloves during reposition of wireline lubricator | C11: SKA-QEM | D11: BARONIA J | E11: BN-J | F11: Keith Ramba | G11: 9.4.2024 | H11: positive behaviour | J11: 1 | T11: 1 | V11: Good Practice
A12: 4 | B12: Observed personnel use harness and lanyard while working at height | C12: SKA-QEM | D12: BARONIA J | E12: BN-J | F12: Alexson Tono | G12: 9.4.2024 | H12: positive behaviour | J12: 1 | T12: 1 | V12: Good Practice
A13: 5 | B13: Observed personnel switch off oven after use | C13: SKA-QEM | D13: BARONIA J | E13: BN-Q | F13: Clement Emang | G13: 10.4.2024 | H13: positive behaviour | J13: 1 | T13: 1 | V13: Good Practice
A14: 6 | B14: Observed personnel use full PPE before proceeding to site | C14: SKA-QEM | D14: BARONIA J | E14: BN-Q | F14: Amirul Asyraf | G14: 10.4.2024 | H14: positive behaviour | J14: 1 | T14: 1 | V14: Good Practice
A15: 7 | B15: Observed personnel use both hand to hold the rope when jumping from the boat to the boat landing | C15: SKA-QEM | D15: BARONIA J | E15: BN-Q | F15: Keith Ramba | G15: 10.4.2024 | H15: positive behaviour | J15: 1 | T15: 1 | V15: Good Practice
A16: 8 | B16: Observed personnel put proper signage to prevent other personnel to enter during lifting operation | C16: SKA-QEM | D16: BARONIA J | E16: BN-J | F16: Alexson Tono | G16: 10.4.2024 | H16: positive behaviour | J16: 1 | T16: 1 | V16: Good Practice
A17: 9 | B17: Observed personnel change dirty coverall before entering quarters | C17: SKA-QEM | D17: BARONIA J | E17: BN-Q | F17: Clement Emang | G17: 11.4.2024 | H17: positive behaviour | J17: 1 | T17: 1 | V17: Good Practice
A18: 10 | B18: Observed personnel stop other personnel from moving into line of fire during lifting operation | C18: SKA-QEM | D18: BARONIA J | E18: BN-J | F18: Amirul Asyraf | G18: 11.4.2024 | H18: positive behaviour | J18: 1 | T18: 1 | V18: Good Practice
A19: 11 | B19: Observed personnel perform proper housekeeping before leaving the work site | C19: SKA-QEM | D19: BARONIA J | E19: BN-J | F19: Keith Ramba | G19: 11.4.2024 | H19: positive behaviour | J19: 1 | T19: 1 | V19: Good Practice
A20: 12 | B20: Observed personnel use lanyard and harness when working at height | C20: SKA-QEM | D20: BARONIA J | E20: BN-J | F20: Alexson Tono | G20: 11.4.2024 | H20: positive behaviour | J20: 1 | T20: 1 | V20: Good Practice
... A96: 88 | B96: Observed personnel using 3 point contact during ascending stair | C96: SKA-QEM | D96: BARONIA J | E96: BN-J | F96: Alexson Tono | G96: 30.4.2024 | H96: positive behaviour | J96: 1 | T96: 1 | V96: Good Practice
G97: =SUM(I97:P97) -> 88 | I97: =SUM(I9:I96) -> 0 | J97: =SUM(J9:J96) -> 88 | K97: =SUM(K9:K96) -> 0 | L97: =SUM(L9:L96) -> 0 | M97: =SUM(M9:M96) -> 0 | N97: =SUM(N9:N96) -> 0 | O97: =SUM(O9:O96) -> 0 | P97: =SUM(P9:P96) -> 0
A98: *Location : E11,SKG-QEB | S98: =G297 -> 198 | U98: SUBMISSION
A99: 1 | B99: OBSERVED PERSONNEL NOT PROPERLY ZIPPED AND SECURE HIS LUGGAGE | C99: SKG-QEB | D99: E11 | E99: E11 | F99: Azwan Shahmee | G99: 45386 | H99: unsafe act | M99: 1 | R99: 1 | V99: STOP HIM AND ASK HIM TO SECURE HIS LUGGAGE PROPERLY
A100: 2 | B100: OBSERVED PERSONNEL HOLD ON HANDRAIL WHILE ASCENDING STAIRCASE | C100: SKG-QEB | D100: E11 | E100: E11 | F100: Ikram Muslim | G100: 45386 | H100: positive behaviour | J100: 1 | T100: 1 | V100: GOOD PRACTICE
A101: 3 | B101: OBSERVED BOTTLED SOAP AT EDGE OF SINK MAY DROP AND HURT THE FOOT | C101: SKG-QEB | D101: E11 | E101: E11 | F101: Mohd Rosli | G101: 45386 | H101: unsafe condition | I101: 1 | R101: 1 | V101: PUT THE BOTTLED SOAP AT THE FLOOR TO AVOID HAZARD
A102: 4 | B102: OBSERVED VERY BAD WEATHER CONDITION CAUSES DOOR TO CLOSED HARSHLY | C102: SKG-QEB | D102: E11 | E102: E11 | F102: Mike Weller | G102: 45386 | H102: unsafe condition | I102: 1 | R102: 1 | V102: CLOSED THE DOOR TO SECURE IT AND AVOID FINGER INJURY
A103: 5 | B103: OBSERVED 240V PLUG WAS NOT TURNED OFF WITHOUT ANY ELECTRICAL INSTRUMENT | C103: SKG-QEB | D103: E11 | E103: E11 | F103: Mohd Faizol | G103: 45386 | H103: unsafe condition | I103: 1 | R103: 1 | V103: TURN THE PLUG OFF TO AVOID ANY ENERGY WASTAGE
A104: 6 | B104: OBSERVED PERSONNEL TELL ABOUT EGG THAT WAS NOT FULLY COOKED | C104: SKG-QEB | D104: E11 | E104: E11 | F104: Mohamad Hasbullah | G104: 45386 | H104: positive behaviour | J104: 1 | T104: 1 | V104: GOOD PRACTICE
A105: 7 | B105: OBSERVED THE LIGHTS WERE TURN ON WITHOUT BEING COMPANIED | C105: SKG-QEB | D105: E11 | E105: E11 | F105: Razwan Roslan | G105: 45386 | H105: unsafe condition | I105: 1 | R105: 1 | V105: TURN OFF THE LIGHTS
A106: 8 | B106: OBSERVED PERSONNEL HAVING TOOLBOX TALK TO ENSURE ALL PERSONNEL AWARE OF THE HAZARDS AND RISK INVOLVED IN THE WORK THAT IS ABOUT TO BE CONDUCTED | C106: SKG-QEB | D106: E11 | E106: E11 | F106: Campbell Clarence | G106: 45386 | H106: positive behaviour | J106: 1 | T106: 1 | V106: GOOD PRACTICE
A107: 9 | B107: ROOM AC WAS NOT WORKING | C107: SKG-QEB | D107: E11 | E107: E11 | F107: Azwan Shahmee | G107: 45387 | H107: positive behaviour | J107: 1 | T107: 1 | V107: INFORMED THE BOAT CREW, THE TOOK ACTION AND SERVICE THE AC
A108: 10 | B108: SAW CLEANER CLEANING THE TOILET EVERYDAY | C108: SKG-QEB | D108: E11 | E108: E11 | F108: Ikram Muslim | G108: 45387 | H108: positive behaviour | J108: 1 | T108: 1 | V108: TO MAKE SURE HYGIENE AND NO SLIPPERY FLOOR
A109: 11 | B109: OBSERVED THE SLIPPERS WERE MESSY OUTSIDE OF ROOM | C109: SKG-QEB | D109: E11 | E109: E11 | F109: Mohd Rosli | G109: 45387 | H109: unsafe condition | I109: 1 | R109: 1 | V109: PERFORM HOUSEKEEPING TO KEEP IT TIDY
A110: 12 | B110: OBSERVED THE BED CURTAINS HAS FALLEN DUE TO THE HOOK WAS OUT | C110: SKG-QEB | D110: E11 | E110: E11 | F110: Mike Weller | G110: 45387 | H110: unsafe condition | I110: 1 | R110: 1 | V110: HOOK THE CURTAIN BACK TO ITS ROLLER TO ESCURE IT
A111: 13 | B111: OBSERVED THE WEATHER IS GETTING WORSE MAY CAUSE INJURY IF THE PERSONNEL IS STAYING OUTSIDE | C111: SKG-QEB | D111: E11 | E111: E11 | F111: Mohd Faizol | G111: 45387 | H111: unsafe condition | I111: 1 | R111: 1 | V111: REMIND PERSONNEL TO BE AWARE OF CAPTAIN'S INSTRUCTION OF STAYING INSIDE THE LQ
A112: 14 | B112: OBSERVED THE USED INSTANT NOODLES PLASTICS WERE LEFT ON THE TABLE, MIGHT CAUSE PESTS | C112: SKG-QEB | D112: E11 | E112: E11 | F112: Mohamad Hasbullah | G112: 45387 | H112: unsafe condition | I112: 1 | R112: 1 | V112: PERFORM HOUSEKEEPING AND THROW IT ONTO THE DUSTBIN
A113: 15 | B113: OBSERVED THE DOOR MIGHT SPRING OPEN DUE TO PRESSURE DIFFERENTIAL BETWEEN ROOMS | C113: SKG-QEB | D113: E11 | E113: E11 | F113: Razwan Roslan | G113: 45387 | H113: unsafe condition | I113: 1 | R113: 1 | V113: REMIND PERSONNEL TO CLEAR OUT THE AREA BEFORE OPENING THE DOOR
A114: 16 | B114: OBSERVED THE CHAIR WAS BLOCKING THE WALKWAY | C114: SKG-QEB | D114: E11 | E114: E11 | F114: Campbell Clarence | G114: 45387 | H114: unsafe condition | I114: 1 | R114: 1 | V114: PUT THE CHAIRS ASIDE AWAY FROM BLOCKING THE WALKWAY
A115: 17 | B115: OBSERVED THE CIGARETTE BUDS WERE PUT OUTSIDE OF ASHTRAY | C115: SKG-QEB | D115: E11 | E115: E11 | F115: Azwan Shahmee | G115: 45388 | H115: unsafe condition | I115: 1 | R115: 1 | V115: PERFORM HOUSEKEEPING TO CLEAN THE TABLE
A116: 18 | B116: OBSERVED PLASTIC CUPS ON THE FLOOR | C116: SKG-QEB | D116: E11 | E116: E11 | F116: Ikram Muslim | G116: 45388 | H116: unsafe condition | I116: 1 | R116: 1 | V116: PERFORM HOUSEKEEPING TO KEEP IT CLEAN AND TIDY
A117: 19 | B117: SAW CREW WAS WALKING DOWN THE STAIR WITHOUT HOLDING THE HANDRAILS | C117: SKG-QEB | D117: E11 | E117: E11 | F117: Mohd Rosli | G117: 45388 | H117: unsafe condition | I117: 1 | R117: 1 | V117: ADVISE HIM TO USE IT SINCE THE BOAT MOVEMENT IS BIG DUE TO THE STRONG WAVE
A118: 20 | B118: SAW A LOOSEN NUT ON THE FLOOR OF THE GYM ROOM | C118: SKG-QEB | D118: E11 | E118: E11 | F118: Mike Weller | G118: 45388 | H118: unsafe condition | I118: 1 | R118: 1 | V118: PICKED IT UP AND PUT IT AT PROPER PLACE
A119: 21 | B119: OBSERVED THE COFFEE BOTTLE WAS NOT PROPERLY TIGHTEN MIGHT ATTRACT PESTS | C119: SKG-QEB | D119: E11 | E119: E11 | F119: Mohd Faizol | G119: 45388 | H119: unsafe condition | I119: 1 | R119: 1 | V119: TIGHTEN THE BOTTLE TO SECURE IT
A120: 22 | B120: OBSERVED THE CUP MAY FALL DOWN DUE TO THE ROCKING BOAT | C120: SKG-QEB | D120: E11 | E120: E11 | F120: Mohamad Hasbullah | G120: 45388 | H120: unsafe condition | I120: 1 | R120: 1 | V120: PUT TISSUE AT THE BOTTOM TO AVOID SPILLAGE
A121: 23 | B121: OBSERVED THE TABLE HAS FEW FOOD SPILLAGE | C121: SKG-QEB | D121: E11 | E121: E11 | F121: Razwan Roslan | G121: 45388 | H121: unsafe condition | I121: 1 | R121: 1 | V121: PERFORM HOUSEKEEPING AND THROW AWAY THE FOOD ONTO THE DUSTBIN
A122: 24 | B122: OBSERVED PERSONNEL SECURING WEIGHTS PROPERLY AFTER USE | C122: SKG-QEB | D122: E11 | E122: E11 | F122: Campbell Clarence | G122: 45388 | H122: positive behaviour | J122: 1 | T122: 1 | V122: GOOD PRACTICE
A123: 25 | B123: OBSERVED THE DOOR WAS NOT SECURED AT WALL MIGHT CAUSE INJURY | C123: SKG-QEB | D123: E11 | E123: E11 | F123: Azwan Shahmee | G123: 45389 | H123: positive behaviour | J123: 1 | T123: 1 | V123: PUSH THE DOOR TO THE LOCK AT THE WALL TO SECURE IT
A124: 26 | B124: OBSERVED PERSONNEL SEGREGATING WASTE IN THE PROPER TRASH BIN | C124: SKG-QEB | D124: E11 | E124: E11 | F124: Ikram Muslim | G124: 45389 | H124: positive behaviour | J124: 1 | T124: 1 | V124: GOOD PRACTICE
A125: 27 | B125: OBSERVED PROPER SINGNAGE PLACED FOR SLIPPERY SURFACE WHEN MOPPING ACTIVITIES WERE BEING DONE IN THE ACCOMONDATION AREA | C125: SKG-QEB | D125: E11 | E125: E11 | F125: Mohd Rosli | G125: 45389 | H125: positive behaviour | J125: 1 | T125: 1 | V125: TO HELP ALERT PEOPLE WALKING IN THE AREA SO THAT THEY BE MORE CAREFULL WHEN PASSING BY
A126: 28 | B126: OBSERVED THE TABLE CLOTH WAS NOT PROPERLY SPREAD ON TOP OF THE TABLE | C126: SKG-QEB | D126: E11 | E126: E11 | F126: Mike Weller | G126: 45389 | H126: unsafe condition | I126: 1 | R126: 1 | V126: PERFORM HOUSEKEEPING AND KEEP THE TABLE CLOTH TIDY
A127: 29 | B127: WET SURFACE ON THE CORRIDOR BEING SWEPT BY THE CREW | C127: SKG-QEB | D127: E11 | E127: E11 | F127: Mohd Faizol | G127: 45389 | H127: positive behaviour | J127: 1 | T127: 1 | V127: GOOD PRACTICE
A128: 30 | B128: OBSERVED PERSONNEL PLACING HIS EGGS IN A BOWL TO PREVENT IT FROM FALLING WHEN BOAT IS ROLLING | C128: SKG-QEB | D128: E11 | E128: E11 | F128: Mohamad Hasbullah | G128: 45389 | H128: positive behaviour | J128: 1 | T128: 1 | V128: GOOD PRACTICE
A129: 31 | B129: Found drinking cup on the floor. | C129: SKG-QEB | D129: E11 | E129: E11 | F129: Razwan Roslan | G129: 45389 | H129: unsafe condition | I129: 1 | R129: 1 | V129: Perform Housekeeping.
A130: 32 | B130: Sugar box was not properly closed. | C130: SKG-QEB | D130: E11 | E130: E11 | F130: Campbell Clarence | G130: 45389 | H130: unsafe condition | I130: 1 | R130: 1 | V130: Close it properly to prevent pest.
A131: 33 | B131: Water tap was not properly sealed. | C131: SKG-QEB | D131: E11 | E131: E11 | F131: Azwan Shahmee | G131: 45390 | H131: unsafe condition | I131: 1 | R131: 1 | V131: Secure the water tap.
A132: 34 | B132: Found drinking cup on the floor. | C132: SKG-QEB | D132: E11 | E132: E11 | F132: Ikram Muslim | G132: 45390 | H132: unsafe condition | I132: 1 | R132: 1 | V132: Perform Housekeeping.
A133: 35 | B133: Sugar box was not properly closed. | C133: SKG-QEB | D133: E11 | E133: E11 | F133: Mohd Rosli | G133: 45390 | H133: unsafe condition | I133: 1 | R133: 1 | V133: Close it properly to prevent pest.
A134: 36 | B134: Water tap was not properly sealed. | C134: SKG-QEB | D134: E11 | E134: E11 | F134: Mike Weller | G134: 45390 | H134: unsafe condition | I134: 1 | R134: 1 | V134: Secure the water tap.
A135: 37 | B135: Oily floor at the work site area may causes slip and fall. | C135: SKG-QEB | D135: E11 | E135: E11 | F135: Mohd Faizol | G135: 45390 | H135: unsafe condition | I135: 1 | R135: 1 | V135: Put oil absorbent on the floor to avoid slip and fall.
A136: 38 | B136: Slippery floor after rain at the work site area may causes slip and fall. | C136: SKG-QEB | D136: E11 | E136: E11 | F136: Mohamad Hasbullah | G136: 45390 | H136: unsafe condition | I136: 1 | R136: 1 | V136: Put rags on the floor to avoid slip and fall.
A137: 39 | B137: Observed Worn Rag on Grating. | C137: SKG-QEB | D137: E11 | E137: E11 | F137: Razwan Roslan | G137: 45390 | H137: unsafe condition | I137: 1 | R137: 1 | V137: Throw out the worn rag.
A138: 40 | B138: Door near smoking room inside LQ not fully close. | C138: SKG-QEB | D138: E11 | E138: E11 | F138: Campbell Clarence | G138: 45390 | H138: unsafe condition | I138: 1 | R138: 1 | V138: Close it properly
A139: 41 | B139: Sugar box was not properly closed. | C139: SKG-QEB | D139: E11 | E139: E11 | F139: Azwan Shahmee | G139: 45391 | H139: unsafe condition | I139: 1 | R139: 1 | V139: Close it properly to prevent pest.
A140: 42 | B140: Water tap was not properly sealed. | C140: SKG-QEB | D140: E11 | E140: E11 | F140: Ikram Muslim | G140: 45391 | H140: unsafe condition | I140: 1 | R140: 1 | V140: Secure the water tap.
... A158: 60 | B158: Sugar box was not properly closed. | C158: SKG-QEB | D158: E11 | E158: E11 | F158: Mike Weller | G158: 45393 | H158: unsafe condition | I158: 1 | R158: 1 | V158: Close it properly to prevent pest.
A159: 61 | B159: OBSERVED PERSONNEL CHANGING THE SAFETY PIN AT THE SHACKLE BECAUSE IT HAS PARTED. THIS IS TO PREVENT THE SCREW ON THE SHACKLE TO BACKOFF DURING LIFTING OPERATION AND TO AVOID EQUIPMENT DAMAGE AND PERSONNEL INJURY. | C159: SKG-QEB | D159: E11 | E159: E11 | F159: Mohd Faizol | G159: 45393 | H159: positive behaviour | J159: 1 | T159: 1 | V159: Good practice
A160: 62 | B160: OBSERVED PERSONNEL PLACING SAFETY PIN ON SHACKLES. THIS IS TO ENSURE THE SHACKLES DO NOT BACKOF WHEN LIFTING IS BEING DONE. | C160: SKG-QEB | D160: E11 | E160: E11 | F160: Mohamad Hasbullah | G160: 45393 | H160: positive behaviour | J160: 1 | T160: 1 | V160: Good practice
A161: 63 | B161: Observe personel install tag line before perform lifting. | C161: SKG-QEB | D161: E11 | E161: E11 | F161: Razwan Roslan | G161: 45393 | H161: positive behaviour | J161: 1 | T161: 1 | V161: Good practice
A162: 64 | B162: OBSERVED PERSONNEL USING PROPPER HAND SIGNALS DURING WINCHING OPERATION. | C162: SKG-QEB | D162: E11 | E162: E11 | F162: Campbell Clarence | G162: 45393 | H162: positive behaviour | J162: 1 | T162: 1 | V162: Good practice
A163: 65 | B163: Eccessive load when lifting manually. All personnel to adhere to the manual lifting guideline to avoid injury caused by the lifting excessive load. | C163: SKG-QEB | D163: E11 | E163: E11 | F163: Azwan Shahmee | G163: 45394 | H163: positive behaviour | J163: 1 | T163: 1 | V163: Good practice
A164: 66 | B164: OBSERVED PERSONNEL CLOSE THE POWERPACK DOORS AFTER OPENING IT TO KEEP THE SOUD LEVELS FROM THE POWER PACK AT LOWER LEVELS. THIS HELPS REDUCE THE RISK OF HEARING IMPAIRMENT. | C164: SKG-QEB | D164: E11 | E164: E11 | F164: Ikram Muslim | G164: 45394 | H164: positive behaviour | J164: 1 | T164: 1 | V164: Good practice
A165: 67 | B165: Observed personnel wearing H2s meter when going to the wellhead area. | C165: SKG-QEB | D165: E11 | E165: E11 | F165: Mohd Rosli | G165: 45394 | H165: positive behaviour | J165: 1 | T165: 1 | V165: Good practice
A166: 68 | B166: OBSERVED PERSONNEL PLACING BARRIER TAPE AROUND THE WORK AREA WHERE SLIP,TRIP AND FALL HAZARD IS PRESENT. | C166: SKG-QEB | D166: E11 | E166: E11 | F166: Mike Weller | G166: 45394 | H166: positive behaviour | J166: 1 | T166: 1 | V166: Good practice
A167: 69 | B167: OBSERVED PERSONNEL WEARING CORRECT GLOVES WHEN HANDLING DEISEL. | C167: SKG-QEB | D167: E11 | E167: E11 | F167: Mohd Faizol | G167: 45394 | H167: positive behaviour | J167: 1 | T167: 1 | V167: Good practice
A168: 70 | B168: OBSERVED PERSONNEL PERFORMING WALKAROUND THE WORK AREA BEFORE STARTING THE JOB TO ESNURE THAT THERE ARE NO ADDITIONAL HAZARDS THAT IS IN THE AREA. | C168: SKG-QEB | D168: E11 | E168: E11 | F168: Mohamad Hasbullah | G168: 45394 | H168: positive behaviour | J168: 1 | T168: 1 | V168: Good practice
A169: 71 | B169: OBSERVED PERSONNEL CONDUCTING TOOLBOX MEETING PRIOR TO WORK COMMENCING. THIS IS TO ENSURE EVERYONE IS ON THE SAME PAGE AND KNOW THEIR ROLES AND RESPONSIBILITY AS WELL AS TO HIGHLIGHT THE POTENTIAL HAZARDS BY READING THROUGH THE JHA. | C169: SKG-QEB | D169: E11 | E169: E11 | F169: Razwan Roslan | G169: 45394 | H169: positive behaviour | J169: 1 | T169: 1 | V169: Good practice
A170: 72 | B170: OBSERVED PERSONNEL PLACING HAND IN CORRECT AREA WHEN CLOSING THE TOOLBOX DOORS. THIS IS TO AVOID PINCH POINT AND FINGER INJURY. | C170: SKG-QEB | D170: E11 | E170: E11 | F170: Campbell Clarence | G170: 45394 | H170: positive behaviour | J170: 1 | T170: 1 | V170: Good practice
... A198: 100 | B198: OBSERVED PERSONNEL USING PROPPER HAND SIGNALS DURING LIFTING OF PCE SECTION. | C198: SKG-QEB | D198: E11 | E198: E11 | F198: Mohamad Hasbullah | G198: 45400 | H198: positive behaviour | J198: 1 | T198: 1 | V198: Good practice
A199: 101 | B199: Door near smoking room inside LQ not fully close. | C199: SKG-QEB | D199: E11 | E199: E11 | F199: Razwan Roslan | G199: 45400 | H199: unsafe condition | I199: 1 | R199: 1 | V199: Close it properly
A200: 102 | B200: Sugar box was not properly closed. | C200: SKG-QEB | D200: E11 | E200: E11 | F200: Campbell Clarence | G200: 45400 | H200: unsafe condition | I200: 1 | R200: 1 | V200: Close it properly to prevent pest.
A201: 103 | B201: Water tap was not properly sealed. | C201: SKG-QEB | D201: E11 | E201: E11 | F201: Azwan Shahmee | G201: 45401 | H201: unsafe condition | I201: 1 | R201: 1 | V201: Secure the water tap.
A202: 104 | B202: Observed worn tag line on the floor. | C202: SKG-QEB | D202: E11 | E202: E11 | F202: Ikram Muslim | G202: 45401 | H202: unsafe condition | I202: 1 | R202: 1 | V202: Throw out the worn tag line.
A203: 105 | B203: Found life jacket not propely stored. May exposed to rain. | C203: SKG-QEB | D203: E11 | E203: E11 | F203: Mohd Rosli | G203: 45401 | H203: unsafe condition | I203: 1 | R203: 1 | V203: Store it properly.
A204: 106 | B204: Found drinking box left on table at mess room. Poor housekeeping | C204: SKG-QEB | D204: E11 | E204: E11 | F204: Mike Weller | G204: 45401 | H204: unsafe condition | I204: 1 | R204: 1 | V204: Store it properly.
A205: 107 | B205: Found empty cup in the smoking room. | C205: SKG-QEB | D205: E11 | E205: E11 | F205: Mohd Faizol | G205: 45401 | H205: unsafe condition | I205: 1 | R205: 1 | V205: Throw it at the dustbin.
A206: 108 | B206: Found empty cup in the smoking room. | C206: SKG-QEB | D206: E11 | E206: E11 | F206: Mohamad Hasbullah | G206: 45401 | H206: unsafe condition | I206: 1 | R206: 1 | V206: Close it properly to prevent pest.
A207: 109 | B207: Water tap was not properly sealed. | C207: SKG-QEB | D207: E11 | E207: E11 | F207: Razwan Roslan | G207: 45401 | H207: unsafe condition | I207: 1 | R207: 1 | V207: Secure the water tap.
A208: 110 | B208: Observed worn tag line on the floor. | C208: SKG-QEB | D208: E11 | E208: E11 | F208: Campbell Clarence | G208: 45401 | H208: unsafe condition | I208: 1 | R208: 1 | V208: Throw out the worn tag line.
A209: 111 | B209: Found life jacket not propely stored. May exposed to rain. | C209: SKG-QEB | D209: E11 | E209: E11 | F209: Azwan Shahmee | G209: 45402 | H209: unsafe condition | I209: 1 | R209: 1 | V209: Store it properly.
A210: 112 | B210: Sugar box was not properly closed. | C210: SKG-QEB | D210: E11 | E210: E11 | F210: Ikram Muslim | G210: 45402 | H210: unsafe condition | I210: 1 | R210: 1 | V210: Close it properly to prevent pest.
... A229: 131 | B229: Wet and slippery condition on the stair. | C229: SKG-QEB | D229: E11 | E229: E11 | F229: Mohd Faizol | G229: 45404 | H229: unsafe condition | I229: 1 | R229: 1 | V229: Walk slowly
A230: 132 | B230: Found a personnel did not wear ear plug during working at high noise place. | C230: SKG-QEB | D230: E11 | E230: E11 | F230: Mohamad Hasbullah | G230: 45404 | H230: unsafe act | M230: 1 | R230: 1 | V230: Give ear plug to him
A231: 133 | B231: Observed personnel did not wear ear plug while working in maindeck | C231: SKG-QEB | D231: E11 | E231: E11 | F231: Razwan Roslan | G231: 45404 | H231: unsafe act | M231: 1 | R231: 1 | V231: Advise personnel
A232: 134 | B232: Wet and slippery condition on the stair. | C232: SKG-QEB | D232: E11 | E232: E11 | F232: Campbell Clarence | G232: 45404 | H232: unsafe condition | I232: 1 | R232: 1 | V232: Informed personnel to be extra careful when using that stair.
A233: 135 | B233: Observe life jacket secure line not properly hook | C233: SKG-QEB | D233: E11 | E233: E11 | F233: Azwan Shahmee | G233: 45405 | H233: unsafe condition | I233: 1 | R233: 1 | V233: Inform personnel to hook it up.
A234: 136 | B234: Found empty drinking cup | C234: SKG-QEB | D234: E11 | E234: E11 | F234: Ikram Muslim | G234: 45405 | H234: unsafe condition | I234: 1 | R234: 1 | V234: Take it and put in dustbin
A235: 137 | B235: Found stappler bullet at meeting room floor | C235: SKG-QEB | D235: E11 | E235: E11 | F235: Mohd Rosli | G235: 45405 | H235: unsafe condition | I235: 1 | R235: 1 | V235: take it and throw into dustbin
A236: 138 | B236: Paper cup was found at level 2 | C236: SKG-QEB | D236: E11 | E236: E11 | F236: Mike Weller | G236: 45405 | H236: unsafe condition | I236: 1 | R236: 1 | V236: Take and throw them away into dustbin
A237: 139 | B237: Observe wireline crew lift lubricator with buddy system. | C237: SKG-QEB | D237: E11 | E237: E11 | F237: Mohd Faizol | G237: 45405 | H237: positive behaviour | J237: 1 | T237: 1 | V237: Good practice can avoid back pain.
A238: 140 | B238: Observe personnel check safety pin before lifting. | C238: SKG-QEB | D238: E11 | E238: E11 | F238: Mohamad Hasbullah | G238: 45405 | H238: positive behaviour | J238: 1 | T238: 1 | V238: Good practice.
A239: 141 | B239: Found unused nut on equipment before lifting. | C239: SKG-QEB | D239: E11 | E239: E11 | F239: Razwan Roslan | G239: 45405 | H239: positive behaviour | J239: 1 | T239: 1 | V239: Secure it and can avoid drop object hazard.
A240: 142 | B240: Personnel not wearing helmet strap during heavy wind | C240: SKG-QEB | D240: E11 | E240: E11 | F240: Campbell Clarence | G240: 45405 | H240: unsafe act | M240: 1 | R240: 1 | V240: Advise perosonnel to wear the helmet strap
...

Sheet MAY
B2: HAZARD HUNT SUMMARY REPORT MAY 2024
N4: TOTAL : | Q4: =S8+S162+S218+S236+S338+S165+S169+S239+S285+S302+S305+S582+S590 -> 552 | S4: SUBMISSION
A6: No | B6: Description of Observation | C6: Client | D6: Platform | E6: Location | F6: Owner | G6: Dated | H6: Observation | I6: Observation | R6: Act | V6: Description of Act | W6: Status
I7: unsafe condition | J7: positive Observation | K7: safety suggestion | L7: security | M7: unsafe behaviour | N7: near miss | O7: issue concern | P7: others | R7: Corrective action | S7: Stop Job/Task | T7: Positive Intervention | U7: Review procedure/JSA | W7: Closed | X7: Open
A8: *Location : PCSB-QEM BETTY | S8: =G161 -> 152 | U8: SUBMISSION
A9: 1 | B9: Observe personnel holding handrail when using the staircase | C9: SKA-QEM | D9: BETTY | E9: MAINDECK | F9: Walter Pedrison | G9: 45413 | H9: positive behaviour | J9: 1 | T9: 1 | V9: Keep it up
A10: 2 | B10: Observe personnel throw away rubbish at designated area | C10: SKA-QEM | D10: BETTY | E10: MAINDECK | F10: Keith Ramba | G10: 45413 | H10: positive behaviour | J10: 1 | T10: 1 | V10: Keep it up
A11: 3 | B11: Observe personnel recheck their PPE before going to worksite. | C11: SKA-QEM | D11: BETTY | E11: MAINDECK | F11: Alexson Tono | G11: 45413 | H11: positive behaviour | J11: 1 | T11: 1 | V11: Keep it up
A12: 4 | B12: Observe personnel check safety shoes soles condition before going to worksite | C12: SKA-QEM | D12: BETTY | E12: MAINDECK | F12: Nur Iman | G12: 45414 | H12: positive behaviour | J12: 1 | T12: 1 | V12: Keep it up
A13: 5 | B13: Observe personnel wash their hands before eating to avoid food poisoning | C13: SKA-QEM | D13: BETTY | E13: MAINDECK | F13: Walter Pedrison | G13: 45415 | H13: positive behaviour | J13: 1 | T13: 1 | V13: Keep it up
A14: 6 | B14: Observe personnel reminding others to keep away from the line of fire of object under tension | C14: SKA-QEM | D14: BETTY | E14: MAINDECK | F14: Keith Ramba | G14: 45415 | H14: positive behaviour | J14: 1 | T14: 1 | V14: Keep it up
A15: 7 | B15: Observe personnel discuss the JHA prior to start work. | C15: SKA-QEM | D15: BETTY | E15: MAINDECK | F15: Alexson Tono | G15: 45415 | H15: positive behaviour | J15: 1 | T15: 1 | V15: Keep it up
A16: 8 | B16: Observe personnel use the correct rope swing technique during boat transfer | C16: SKA-QEM | D16: BETTY | E16: MAINDECK | F16: Nur Iman | G16: 45415 | H16: positive behaviour | J16: 1 | T16: 1 | V16: Keep it up
A17: 9 | B17: Observe personnel check safety shoes soles condition before going to worksite | C17: SKA-QEM | D17: BETTY | E17: MAINDECK | F17: Walter Pedrison | G17: 45416 | H17: positive behaviour | J17: 1 | T17: 1 | V17: Keep it up
A18: 10 | B18: Observe personnel wear impact gloves during lifting | C18: SKA-QEM | D18: BETTY | E18: MAINDECK | F18: Keith Ramba | G18: 45416 | H18: positive behaviour | J18: 1 | T18: 1 | V18: Keep it up
A19: 11 | B19: Observe personnel perform housekeeping before leaving work area | C19: SKA-QEM | D19: BETTY | E19: MAINDECK | F19: Nur Iman | G19: 45416 | H19: positive behaviour | J19: 1 | T19: 1 | V19: Keep it up
A20: 12 | B20: Observe personnel uses buddy system when doing manual handling | C20: SKA-QEM | D20: BETTY | E20: MAINDECK | F20: Alexson Tono | G20: 45416 | H20: positive behaviour | J20: 1 | T20: 1 | V20: Keep it up
... A160: 152 | B160: Observed personnel put oil absorbant on the spilled diesel | C160: SKA-QEM | D160: BETTY | E160: MAINDECK | F160: Ikram Muslim | G160: 45443 | H160: positive behaviour | J160: 1 | T160: 1 | V160: Keep it up
G161: =SUM(I161:P161) -> 152 | I161: =SUM(I9:I160) -> 0 | J161: =SUM(J9:J160) -> 152 | K161: =SUM(K9:K160) -> 0 | L161: =SUM(L9:L160) -> 0 | M161: =SUM(M9:M160) -> 0 | N161: =SUM(N9:N160) -> 0 | O161: =SUM(O9:O160) -> 0 | P161: =SUM(P9:P160) -> 0
A162: *Location : PCSB-QEM BARONIA J | S162: =G164 -> 0 | U162: SUBMISSION
A163: 1 | B163: NA
G164: =SUM(I164:P164) -> 0 | I164: =SUM(I12:I163) -> 0 | J164: =SUM(J163) -> 0 | K164: =SUM(K12:K163) -> 0 | L164: =SUM(L12:L163) -> 0 | M164: =SUM(M12:M163) -> 0 | N164: =SUM(N12:N163) -> 0 | O164: =SUM(O12:O163) -> 0 | P164: =SUM(P12:P163) -> 0
A165: *Location : PCSB-QEM BARAM A | S165: =G167 -> 0 | U165: SUBMISSION
A166: 1 | B166: NA
G167: =SUM(I167:P167) -> 0 | I167: =SUM(I15:I166) -> 0 | J167: =SUM(J166) -> 0 | K167: =SUM(K15:K166) -> 0 | L167: =SUM(L15:L166) -> 0 | M167: =SUM(M15:M166) -> 0 | N167: =SUM(N15:N166) -> 0 | O167: =SUM(O15:O166) -> 0 | P167: =SUM(P15:P166) -> 0
A168: 6
A169: *Location : PCSB-QEB TEMANA B | S169: =G217 -> 47 | U169: SUBMISSION
A170: 1 | B170: Observe good communication between banksman and crane operator during lifting activity. | C170: SKG-QEB | D170: TEMANA | E170: MAINDECK | F170: Arzizi Syaffiq | G170: 45413 | H170: positive behaviour | J170: 1 | T170: 1 | V170: Remain with good communication to avoid any miscommunication which lead to any injury.
A171: 2 | B171: Personnel reminded crew to be aware of potential pinch points | C171: SKG-QEB | D171: TEMANA | E171: MAINDECK | F171: Zubir Zakaria | G171: 45413 | H171: positive behaviour | J171: 1 | T171: 1 | V171: Keep implementing good practice
A172: 3 | B172: Personnel reminded crew to always aware on potential hazard during lifting operation. | C172: SKG-QEB | D172: TEMANA | E172: MAINDECK | F172: Azham Hamalee | G172: 45413 | H172: positive behaviour | J172: 1 | T172: 1 | V172: Good advice to be follow
A173: 4 | B173: Personnel remained careful when using the ladders on platform | C173: SKG-QEB | D173: TEMANA | E173: MAINDECK | F173: Arzizi Syaffiq | G173: 45414 | H173: positive behaviour | J173: 1 | T173: 1 | V173: Keep implementing good practice
A174: 5 | B174: Personnel reminded crew to be mindful of potential gaps on grating | C174: SKG-QEB | D174: TEMANA | E174: MAINDECK | F174: Zubir Zakaria | G174: 45414 | H174: positive behaviour | J174: 1 | T174: 1 | V174: Good practice
A175: 6 | B175: Personnel reminded crew to aware on slippery floor. | C175: SKG-QEB | D175: TEMANA | E175: MAINDECK | F175: Azham Hamalee | G175: 45414 | H175: positive behaviour | J175: 1 | T175: 1 | V175: All crew aware on every step taken.
A176: 7 | B176: Personnel reminding all crew to stay hydrated during working. | C176: SKG-QEB | D176: TEMANA | E176: MAINDECK | F176: Arzizi Syaffiq | G176: 45415 | H176: positive behaviour | J176: 1 | T176: 1 | V176: All crew stay hydrated to prevent dehydration which can lead to heat stroke.
A177: 8 | B177: Observe crew holding swing rope with both hand tightly during boat to platform transfer. | C177: SKG-QEB | D177: TEMANA | E177: MAINDECK | F177: Zubir Zakaria | G177: 45415 | H177: positive behaviour | J177: 1 | T177: 1 | V177: All crew aware and follow to prevent man-overboard incident.
A178: 9 | B178: Observe DB crew perform housekeeping on maindeck area. | C178: SKG-QEB | D178: TEMANA | E178: MAINDECK | F178: Azham Hamalee | G178: 45415 | H178: positive behaviour | J178: 1 | T178: 1 | V178: Keep implementing good practice
A179: 10 | B179: Observe personnel using impact glove during lifting activity. | C179: SKG-QEB | D179: TEMANA | E179: MAINDECK | F179: Arzizi Syaffiq | G179: 45416 | H179: positive behaviour | J179: 1 | T179: 1 | V179: Keep implementing good practice
A180: 11 | B180: Observe team leader sharing about back pain experience and awareness during morning meeting. | C180: SKG-QEB | D180: TEMANA | E180: MAINDECK | F180: Zubir Zakaria | G180: 45416 | H180: positive behaviour | J180: 1 | T180: 1 | V180: Good advice to be follow
A181: 12 | B181: Personnel reminding banksman to check radio condition prior lifting activity. | C181: SKG-QEB | D181: TEMANA | E181: MAINDECK | F181: Azham Hamalee | G181: 45416 | H181: positive behaviour | J181: 1 | T181: 1 | V181: Banksman aware and recheck radio (walkie-talkie) condition to prevent miscommunication during lifting.
... A216: 47 | B216: Observed wear an clean clothes when entering mess room. | C216: SKG-QEB | D216: TEMANA | E216: MAINDECK | F216: Azham Hamalee | G216: 45435 | H216: positive behaviour | J216: 1 | T216: 1 | V216: Good Action
G217: =SUM(I217:P217) -> 47 | I217: =SUM(I163:I216) -> 0 | J217: =SUM(J163:J216) -> 47 | K217: =SUM(K163:K216) -> 0 | L217: =SUM(L163:L216) -> 0 | M217: =SUM(M163:M216) -> 0 | N217: =SUM(N163:N216) -> 0 | O217: =SUM(O163:O216) -> 0 | P217: =SUM(P163:P216) -> 0
A218: *Location : PCSB-QEB E11 | S218: =G235 -> 16 | U218: SUBMISSION
A219: 1 | B219: Changing o-ring without proper tool | C219: SKG-QEB | D219: E11 | E219: E11 | F219: Azwan Shahmee | G219: 45413 | H219: unsafe condition | I219: 1 | R219: 1 | V219: Ask the person to use appropriate hand tool
A220: 2 | B220: Found dirty plastic at worksite area | C220: SKG-QEB | D220: E11 | E220: E11 | F220: Ikram Muslim | G220: 45413 | H220: unsafe condition | I220: 1 | R220: 1 | V220: Took it and throw into rubbish bin
A221: 3 | B221: Found handtool not in the proper place | C221: SKG-QEB | D221: E11 | E221: E11 | F221: Mohd Rosli | G221: 45413 | H221: unsafe condition | I221: 1 | R221: 1 | V221: Secure it
A222: 4 | B222: Found dirty handglove at worksite area | C222: SKG-QEB | D222: E11 | E222: E11 | F222: Mike Weller | G222: 45413 | H222: unsafe condition | I222: 1 | R222: 1 | V222: Took it and throw into rubbish bin
A223: 5 | B223: Tool stand mess on maindeck floor | C223: SKG-QEB | D223: E11 | E223: E11 | F223: Mohd Faizol | G223: 45413 | H223: unsafe condition | I223: 1 | R223: 1 | V223: Take it and secure it
A224: 6 | B224: Grease sludge found on BOP body | C224: SKG-QEB | D224: E11 | E224: E11 | F224: Wan Saufi Amri | G224: 45413 | H224: unsafe condition | I224: 1 | R224: 1 | V224: Clean the cement sludge before its hardened
A225: 7 | B225: Found tool mess on maindeck floor. | C225: SKG-QEB | D225: E11 | E225: E11 | F225: Razwan Roslan | G225: 45413 | H225: unsafe condition | I225: 1 | R225: 1 | V225: Took and secure them properly
A226: 8 | B226: Observe hydraulic hoses mess on maindeck | C226: SKG-QEB | D226: E11 | E226: E11 | F226: Campbell Clarence | G226: 45413 | H226: unsafe condition | I226: 1 | R226: 1 | V226: Took and secure them properly
A227: 9 | B227: Observed one of our flood light malfunction. | C227: SKG-QEB | D227: E11 | E227: E11 | F227: Azwan Shahmee | G227: 45414 | H227: unsafe condition | I227: 1 | R227: 1 | V227: Repair and found loose wire.
A228: 10 | B228: Observed torch light on top of mast intensifier. Can cause drop object | C228: SKG-QEB | D228: E11 | E228: E11 | F228: Ikram Muslim | G228: 45414 | H228: unsafe condition | I228: 1 | R228: 1 | V228: Take it and put inside tool house.
A229: 11 | B229: Found lubricator oring broken. It can cause pressure leak to connection. | C229: SKG-QEB | D229: E11 | E229: E11 | F229: Mohd Rosli | G229: 45414 | H229: unsafe condition | I229: 1 | R229: 1 | V229: Replace new one.
A230: 12 | B230: Found unused oily cotton rag near at emergency escape rroute floor area. | C230: SKG-QEB | D230: E11 | E230: E11 | F230: Mike Weller | G230: 45414 | H230: unsafe condition | I230: 1 | R230: 1 | V230: Take it and throw it at designated area.
... A232: 14 | B232: Found tool stand block walk way line | C232: SKG-QEB | D232: E11 | E232: E11 | F232: Wan Saufi Amri | G232: 45414 | H232: unsafe condition | I232: 1 | R232: 1 | V232: Rearrange the tool stand and put at safe place
A233: 15 | B233: Remind crew to be careful due to slippery floor. | C233: SKG-QEB | D233: E11 | E233: E11 | F233: Razwan Roslan | G233: 45414 | H233: positive behaviour | J233: 1 | T233: 1 | V233: Keep it up
A234: 16 | B234: Observed crew going down the stairs using handrail. | C234: SKG-QEB | D234: E11 | E234: E11 | F234: Campbell Clarence | G234: 45414 | H234: positive behaviour | J234: 1 | T234: 1 | V234: Good practise
G235: =SUM(I235:P235) -> 16 | I235: =SUM(I218:I234) -> 14 | J235: =SUM(J219:J234) -> 2 | K235: =SUM(K219:K226) -> 0 | L235: =SUM(L219:L226) -> 0 | M235: =SUM(M219:M234) -> 0 | N235: =SUM(N219:N226) -> 0 | O235: =SUM(O219:O226) -> 0 | P235: =SUM(P219:P226) -> 0
A236: *Location : PCSB-QEB D18 | S236: =G238 -> 0 | U236: SUBMISSION
A237: 1 | B237: NA
G238: =SUM(I238:P238) -> 0 | I238: =SUM(I237) -> 0 | J238: =SUM(J237) -> 0 | K238: =SUM(K237) -> 0 | L238: =SUM(L237) -> 0 | M238: =SUM(M237) -> 0 | N238: =SUM(N237) -> 0 | O238: =SUM(O237) -> 0 | P238: =SUM(P237) -> 0
A239: *Location : PCSB-QEB BAYAN | S239: =G284 -> 44 | U239: SUBMISSION
A240: 1 | B240: Observed personnel perform Tug test on swing rope and wait till the boat on perfect position prior performing boat transferfrom platform to boat | C240: SKG-QEB | D240: BAYAN | E240: MV DAYANG PERTAMA | F240: Syed Ghaffur | G240: 45428 | H240: positive behaviour | J240: 1 | T240: 1 | V240: GOOD PRACTICE
A241: 2 | B241: Observed personnel perform quick toolbox talk/briefing prior performing lifting to ensure other aware of the job sequence | C241: SKG-QEB | D241: BAYAN | E241: BYDP-B MAINDECK | F241: Syed Ghaffur | G241: 45429 | H241: positive behaviour | J241: 1 | T241: 1 | V241: GOOD PRACTICE
A242: 3 | B242: Observed personnel change old baricade tape to new barricade tape to increased visibility on the hazards area | C242: SKG-QEB | D242: BAYAN | E242: BYDP-B MAINDECK | F242: Syed Ghaffur | G242: 45430 | H242: positive behaviour | J242: 1 | T242: 1 | V242: GOOD PRACTICE
A243: 4 | B243: Team leader perform safety sharing on past incident prior start work at worksite to ensure all personnel aware of working surounding | C243: SKG-QEB | D243: BAYAN | E243: BYDP-B MAINDECK | F243: Syed Ghaffur | G243: 45431 | H243: positive behaviour | J243: 1 | T243: 1 | V243: GOOD PRACTICE
A244: 5 | B244: Observed personnel clean oily hand tool prior use and put inside toolbox to avoid slip next time other person using it | C244: SKG-QEB | D244: BAYAN | E244: BYDP-B MAINDECK | F244: Syed Ghaffur | G244: 45432 | H244: positive behaviour | J244: 1 | T244: 1 | V244: GOOD PRACTICE
A245: 6 | B245: Observed personnel use buddy system while lifting long equipment to avoid back injury | C245: SKG-QEB | D245: BAYAN | E245: BYDP-B MAINDECK | F245: Syed Ghaffur | G245: 45433 | H245: positive behaviour | J245: 1 | T245: 1 | V245: GOOD PRACTICE
A246: 7 | B246: Observed personnel perform quick toolbox talk/briefing prior performing pressure test on equipment | C246: SKG-QEB | D246: BAYAN | E246: BYDP-B MAINDECK | F246: Syed Ghaffur | G246: 45434 | H246: positive behaviour | J246: 1 | T246: 1 | V246: GOOD PRACTICE
A247: 8 | B247: Observed personnel perform tug test on swing rope prior performing boat transfer | C247: SKG-QEB | D247: BAYAN | E247: BYDP-B BOAT LANDING | F247: Syed Ghaffur | G247: 45435 | H247: positive behaviour | J247: 1 | T247: 1 | V247: GOOD PRACTICE
A248: 9 | B248: Observed personnel secure loose item at maindeck due to weather warning from mv dayang pertama | C248: SKG-QEB | D248: BAYAN | E248: BYDP-B MAINDECK | F248: Syed Ghaffur | G248: 45436 | H248: positive behaviour | J248: 1 | T248: 1 | V248: GOOD PRACTICE
A249: 10 | B249: Observed personnel remind other not to lean on the door to avoid fall when other openning the door | C249: SKG-QEB | D249: BAYAN | E249: BYDP-B MAINDECK | F249: Syed Ghaffur | G249: 45437 | H249: positive behaviour | J249: 1 | T249: 1 | V249: GOOD PRACTICE
A250: 11 | B250: Observed personnel baricade hogh tension area to avoid other from stayong near the area and crossing the area | C250: SKG-QEB | D250: BAYAN | E250: EWDPA-A MAINDECK | F250: Syed Ghaffur | G250: 45438 | H250: positive behaviour | J250: 1 | T250: 1 | V250: GOOD PRACTICE
A251: 12 | B251: Observed personnel remind other to check PPE condition prior use and replace PPE if damage | C251: SKG-QEB | D251: BAYAN | E251: BYDP-B MAINDECK | F251: Syed Ghaffur | G251: 45439 | H251: positive behaviour | J251: 1 | T251: 1 | V251: GOOD PRACTICE
... A283: 44 | B283: OBSERVED PERSONNEL USE RAINCOAT DURING RAINING CONDITION. | C283: SKG-QEB | D283: BAYAN | E283: MAINDECK | F283: Mathias Rauth | G283: 45443 | H283: positive behaviour | J283: 1 | T283: 1 | V283: Good awareness
G284: =SUM(I284:P284) -> 44 | I284: =SUM(I237:I283) -> 0 | J284: =SUM(J237:J283) -> 44 | K284: =SUM(K218:K283) -> 0 | L284: =SUM(L218:L283) -> 0 | M284: =SUM(M237:M283) -> 0 | N284: =SUM(N218:N283) -> 0 | O284: =SUM(O218:O283) -> 0 | P284: =SUM(P218:P283) -> 0
A285: *Location : PCSB-SBA, SAMARANG D | S285: =G301 -> 15 | U285: SUBMISSION
A286: 1 | B286: Observed personnel using double ear protection in high noise area | C286: SBA | D286: SAMARANG D | E286: SMJT-D | F286: Clement Emang | G286: 15.5.2024 | H286: positive behaviour | J286: 1 | T286: 1 | V286: Good Practice
A287: 2 | B287: Observed personnel carry water bottle using correct manual handling technique | C287: SBA | D287: SAMARANG D | E287: SMJT-D | F287: Clement Emang | G287: 16.5.2024 | H287: positive behaviour | J287: 1 | T287: 1 | V287: Good Practice
A288: 3 | B288: Observed personnel use impact gloves during reposition of wireline lubricator | C288: SBA | D288: SAMARANG D | E288: SMJT-D | F288: Clement Emang | G288: 17.5.2024 | H288: positive behaviour | J288: 1 | T288: 1 | V288: Good Practice
A289: 4 | B289: Observed personnel use harness and lanyard while working at height | C289: SBA | D289: SAMARANG D | E289: SMJT-D | F289: Clement Emang | G289: 18.5.2024 | H289: positive behaviour | J289: 1 | T289: 1 | V289: Good Practice
A290: 5 | B290: Observed personnel switch off oven after use | C290: SBA | D290: SAMARANG D | E290: DAYANG BERLIAN | F290: Clement Emang | G290: 19.5.2024 | H290: positive behaviour | J290: 1 | T290: 1 | V290: Good Practice
A291: 6 | B291: Observed personnel use full PPE before proceeding to site | C291: SBA | D291: SAMARANG D | E291: SMJT-D | F291: Clement Emang | G291: 20.5.2024 | H291: positive behaviour | J291: 1 | T291: 1 | V291: Good Practice
A292: 7 | B292: Observed personnel use both hand to hold the rope when jumping from the boat to the boat landing | C292: SBA | D292: SAMARANG D | E292: SMJT-D | F292: Clement Emang | G292: 21.5.2024 | H292: positive behaviour | J292: 1 | T292: 1 | V292: Good Practice
A293: 8 | B293: Observed personnel put proper signage to prevent other personnel to enter during lifting operation | C293: SBA | D293: SAMARANG D | E293: SMJT-D | F293: Clement Emang | G293: 22.5.2024 | H293: positive behaviour | J293: 1 | T293: 1 | V293: Good Practice
A294: 9 | B294: Observed personnel change dirty coverall before entering quarters | C294: SBA | D294: SAMARANG D | E294: SMQ-A | F294: Clement Emang | G294: 23.5.2024 | H294: positive behaviour | J294: 1 | T294: 1 | V294: Good Practice
A295: 10 | B295: Observed personnel hold handrail when decending the staircase | C295: SBA | D295: SAMARANG D | E295: SMJT-D | F295: Clement Emang | G295: 24.5.2024 | H295: positive behaviour | J295: 1 | T295: 1 | V295: Good Practice
A296: 11 | B296: Observed personnel threw the food waste into the proper rubbish bin | C296: SBA | D296: SAMARANG D | E296: SMQ-A | F296: Clement Emang | G296: 25.5.2024 | H296: positive behaviour | J296: 1 | T296: 1 | V296: Good Practice
A297: 12 | B297: Observed personnel switch off toaster after use | C297: SBA | D297: SAMARANG D | E297: SMQ-A | F297: Clement Emang | G297: 26.5.2024 | H297: positive behaviour | J297: 1 | T297: 1 | V297: Good Practice
... A300: 15 | B300: Observed personnel use full PPE before proceeding to site | C300: SBA | D300: SAMARANG D | E300: SMJT-D | F300: Clement Emang | G300: 29.5.2024 | H300: positive behaviour | J300: 1 | T300: 1 | V300: Good Practice
G301: =SUM(I301:P301) -> 15 | I301: =SUM(I254:I300) -> 0 | J301: =SUM(J286:J300) -> 15 | K301: =SUM(K235:K300) -> 0 | L301: =SUM(L235:L300) -> 0 | M301: =SUM(M254:M300) -> 0 | N301: =SUM(N235:N300) -> 0 | O301: =SUM(O235:O300) -> 0 | P301: =SUM(P235:P300) -> 0
A302: *Location : PCSB-SBA, SAMARANG E | S302: =G304 -> 0 | U302: SUBMISSION
A303: 1 | B303: NA
G304: =SUM(I304:P304) -> 0 | I304: =SUM(I257:I303) -> 0 | J304: =SUM(J303) -> 0 | K304: =SUM(K238:K303) -> 0 | L304: =SUM(L238:L303) -> 0 | M304: =SUM(M257:M303) -> 0 | N304: =SUM(N238:N303) -> 0 | O304: =SUM(O238:O303) -> 0 | P304: =SUM(P238:P303) -> 0
A305: *Location : PCSB-SBA, EWB WEST | S305: =G337 -> 31 | U305: SUBMISSION
