Workbook

Sheet GENERAL
D2: H9:H340
E3: OFFSHORE | S3: BASE
C4: NAME | D4: POSITION | E4: TOTAL | F4: JAN | G4: FEB | H4: MAR | I4: APR | J4: MAY | K4: JUNE | L4: JULY | M4: AUG | N4: SEPT | O4: OCT | P4: NOV | Q4: DEC | S4: TOTAL | T4: JAN | U4: FEB | V4: MAR | W4: APR | X4: MAY | Y4: JUNE | Z4: JULY | AA4: AUG | AB4: SEPT | AC4: OCT | AD4: NOV | AE4: DEC
B5: 1 | C5: Abdul Rahman B Kamal | D5: WMO Field Service Manager | E5: =SUM(F5:Q5) -> #REF! | F5: =COUNTIF(#REF!,Parameters!B4) -> #REF! | G5: =COUNTIF(#REF!,Parameters!B4) -> #REF! | H5: =COUNTIF(#REF!,Parameters!B4) -> #REF! | I5: =COUNTIF(#REF!,Parameters!B4) -> #REF! | J5: =COUNTIF(#REF!,Parameters!B4) -> #REF! | K5: =COUNTIF(#REF!,Parameters!B4) -> #REF! | L5: =COUNTIF(#REF!,Parameters!B4) -> #REF! | M5: =COUNTIF(#REF!,Parameters!B4) -> #REF! | N5: =COUNTIF(#REF!,Parameters!B4) -> #REF! | O5: =COUNTIF(#REF!,Parameters!B4) -> #REF! | S5: =SUM(T5:AE5) -> #REF! | T5: =COUNTIF(#REF!,Parameters!B4) -> #REF! | U5: =COUNTIF(#REF!,Parameters!B4) -> #REF! | V5: =COUNTIF(#REF!,Parameters!B4) -> #REF! | W5: =COUNTIF(#REF!,Parameters!B4) -> #REF! | X5: =COUNTIF(#REF!,Parameters!B4) -> #REF! | Y5: =COUNTIF(#REF!,Parameters!B4) -> #REF! | Z5: =COUNTIF(#REF!,Parameters!B4) -> #REF! | AA5: =COUNTIF(#REF!,Parameters!B4) -> #REF! | AB5: =COUNTIF(#REF!,Parameters!B4) -> #REF! | AC5: =COUNTIF(#REF!,Parameters!B4) -> #REF! | AD5: =COUNTIF(#REF!,Parameters!B4) -> #REF! | AE5: =COUNTIF(#REF!,Parameters!B4) -> #REF!
B6: 2 | C6: Mohd Ismady B Ismail | D6: Head of Perforation | E6: =SUM(F6:Q6) -> #REF! | F6: =COUNTIF(#REF!,Parameters!B5) -> #REF! | G6: =COUNTIF(#REF!,Parameters!B5) -> #REF! | H6: =COUNTIF(#REF!,Parameters!B5) -> #REF! | I6: =COUNTIF(#REF!,Parameters!B5) -> #REF! | J6: =COUNTIF(#REF!,Parameters!B5) -> #REF! | K6: =COUNTIF(#REF!,Parameters!B5) -> #REF! | L6: =COUNTIF(#REF!,Parameters!B5) -> #REF! | M6: =COUNTIF(#REF!,Parameters!B5) -> #REF! | N6: =COUNTIF(#REF!,Parameters!B5) -> #REF! | O6: =COUNTIF(#REF!,Parameters!B5) -> #REF! | S6: =SUM(T6:AE6) -> #REF! | T6: =COUNTIF(#REF!,Parameters!B5) -> #REF! | U6: =COUNTIF(#REF!,Parameters!B5) -> #REF! | V6: =COUNTIF(#REF!,Parameters!B5) -> #REF! | W6: =COUNTIF(#REF!,Parameters!B5) -> #REF! | X6: =COUNTIF(#REF!,Parameters!B5) -> #REF! | Y6: =COUNTIF(#REF!,Parameters!B5) -> #REF! | Z6: =COUNTIF(#REF!,Parameters!B5) -> #REF! | AA6: =COUNTIF(#REF!,Parameters!B5) -> #REF! | AB6: =COUNTIF(#REF!,Parameters!B5) -> #REF! | AC6: =COUNTIF(#REF!,Parameters!B5) -> #REF! | AD6: =COUNTIF(#REF!,Parameters!B5) -> #REF! | AE6: =COUNTIF(#REF!,Parameters!B5) -> #REF!
B7: 3 | C7: Mohd Aminul Fahmi B Ahmad Jalalin | D7: Operation Engineer | E7: =SUM(F7:Q7) -> #REF! | F7: =COUNTIF(#REF!,Parameters!#REF!) -> #REF! | G7: =COUNTIF(#REF!,Parameters!#REF!) -> #REF! | H7: =COUNTIF(#REF!,Parameters!#REF!) -> #REF! | I7: =COUNTIF(#REF!,Parameters!#REF!) -> #REF! | J7: =COUNTIF(#REF!,Parameters!#REF!) -> #REF! | K7: =COUNTIF(#REF!,Parameters!#REF!) -> #REF! | L7: =COUNTIF(#REF!,Parameters!#REF!) -> #REF! | M7: =COUNTIF(#REF!,Parameters!#REF!) -> #REF! | ... O7: =COUNTIF(#REF!,Parameters!#REF!) -> #REF! | S7: =SUM(T7:AE7) -> #REF! | T7: =COUNTIF(#REF!,Parameters!#REF!) -> #REF! | U7: =COUNTIF(#REF!,Parameters!#REF!) -> #REF! | V7: =COUNTIF(#REF!,Parameters!#REF!) -> #REF! | W7: =COUNTIF(#REF!,Parameters!#REF!) -> #REF! | X7: =COUNTIF(#REF!,Parameters!#REF!) -> #REF! | Y7: =COUNTIF(#REF!,Parameters!#REF!) -> #REF! | Z7: =COUNTIF(#REF!,Parameters!#REF!) -> #REF! | AA7: =COUNTIF(#REF!,Parameters!#REF!) -> #REF! | ... AE7: =COUNTIF(#REF!,Parameters!#REF!) -> #REF!
B8: 4 | C8: Mohd Ismail Shazli B Mohamad | D8: Snr. Field Engineer I | E8: =SUM(F8:Q8) -> #REF! | F8: =COUNTIF(#REF!,Parameters!B6) -> #REF! | G8: =COUNTIF(#REF!,Parameters!B6) -> #REF! | H8: =COUNTIF(#REF!,Parameters!B6) -> #REF! | I8: =COUNTIF(#REF!,Parameters!B7) -> #REF! | J8: =COUNTIF(#REF!,Parameters!B7) -> #REF! | K8: =COUNTIF(#REF!,Parameters!B7) -> #REF! | L8: =COUNTIF(#REF!,Parameters!B7) -> #REF! | M8: =COUNTIF(#REF!,Parameters!B7) -> #REF! | N8: =COUNTIF(#REF!,Parameters!B7) -> #REF! | O8: =COUNTIF(#REF!,Parameters!B7) -> #REF! | P8: =COUNTIF(#REF!,Parameters!B7) -> #REF! | Q8: =COUNTIF(#REF!,Parameters!B7) -> #REF! | S8: =SUM(T8:AE8) -> #REF! | T8: =COUNTIF(#REF!,Parameters!B6) -> #REF! | U8: =COUNTIF(#REF!,Parameters!B6) -> #REF! | V8: =COUNTIF(#REF!,Parameters!B6) -> #REF! | W8: =COUNTIF(#REF!,Parameters!B6) -> #REF! | X8: =COUNTIF(#REF!,Parameters!B6) -> #REF! | Y8: =COUNTIF(#REF!,Parameters!B6) -> #REF! | Z8: =COUNTIF(#REF!,Parameters!B6) -> #REF! | AA8: =COUNTIF(#REF!,Parameters!B6) -> #REF! | AB8: =COUNTIF(#REF!,Parameters!B6) -> #REF! | AC8: =COUNTIF(#REF!,Parameters!B6) -> #REF! | AD8: =COUNTIF(#REF!,Parameters!B6) -> #REF! | AE8: =COUNTIF(#REF!,Parameters!B6) -> #REF!
B9: 5 | C9: Mohd Azmi B Ahmad | D9: Snr. Field Engineer I | E9: =SUM(F9:Q9) -> #REF! | F9: =COUNTIF(#REF!,Parameters!B7) -> #REF! | G9: =COUNTIF(#REF!,Parameters!B7) -> #REF! | H9: =COUNTIF(#REF!,Parameters!B7) -> #REF! | I9: =COUNTIF(#REF!,Parameters!B8) -> #REF! | J9: =COUNTIF(#REF!,Parameters!B8) -> #REF! | K9: =COUNTIF(#REF!,Parameters!B8) -> #REF! | L9: =COUNTIF(#REF!,Parameters!B8) -> #REF! | M9: =COUNTIF(#REF!,Parameters!B8) -> #REF! | N9: =COUNTIF(#REF!,Parameters!B8) -> #REF! | O9: =COUNTIF(#REF!,Parameters!B8) -> #REF! | P9: =COUNTIF(#REF!,Parameters!B8) -> #REF! | Q9: =COUNTIF(#REF!,Parameters!B8) -> #REF! | S9: =SUM(T9:AE9) -> #REF! | T9: =COUNTIF(#REF!,Parameters!B7) -> #REF! | U9: =COUNTIF(#REF!,Parameters!B7) -> #REF! | V9: =COUNTIF(#REF!,Parameters!B7) -> #REF! | W9: =COUNTIF(#REF!,Parameters!B7) -> #REF! | X9: =COUNTIF(#REF!,Parameters!B7) -> #REF! | Y9: =COUNTIF(#REF!,Parameters!B7) -> #REF! | Z9: =COUNTIF(#REF!,Parameters!B7) -> #REF! | AA9: =COUNTIF(#REF!,Parameters!B7) -> #REF! | AB9: =COUNTIF(#REF!,Parameters!B7) -> #REF! | AC9: =COUNTIF(#REF!,Parameters!B7) -> #REF! | AD9: =COUNTIF(#REF!,Parameters!B7) -> #REF! | AE9: =COUNTIF(#REF!,Parameters!B7) -> #REF!
B10: 6 | C10: Muhammad Azriq Afif B Azhari | D10: Snr. Field Engineer I | E10: =SUM(F10:Q10) -> #REF! | F10: =COUNTIF(#REF!,Parameters!B8) -> #REF! | G10: =COUNTIF(#REF!,Parameters!B8) -> #REF! | H10: =COUNTIF(#REF!,Parameters!B8) -> #REF! | I10: =COUNTIF(#REF!,Parameters!B9) -> #REF! | J10: =COUNTIF(#REF!,Parameters!B9) -> #REF! | K10: =COUNTIF(#REF!,Parameters!B9) -> #REF! | L10: =COUNTIF(#REF!,Parameters!B9) -> #REF! | M10: =COUNTIF(#REF!,Parameters!B9) -> #REF! | N10: =COUNTIF(#REF!,Parameters!B9) -> #REF! | O10: =COUNTIF(#REF!,Parameters!B9) -> #REF! | P10: =COUNTIF(#REF!,Parameters!B9) -> #REF! | Q10: =COUNTIF(#REF!,Parameters!B9) -> #REF! | S10: =SUM(T10:AE10) -> #REF! | T10: =COUNTIF(#REF!,Parameters!B8) -> #REF! | U10: =COUNTIF(#REF!,Parameters!B8) -> #REF! | V10: =COUNTIF(#REF!,Parameters!B8) -> #REF! | W10: =COUNTIF(#REF!,Parameters!B8) -> #REF! | X10: =COUNTIF(#REF!,Parameters!B8) -> #REF! | Y10: =COUNTIF(#REF!,Parameters!B8) -> #REF! | Z10: =COUNTIF(#REF!,Parameters!B8) -> #REF! | AA10: =COUNTIF(#REF!,Parameters!B8) -> #REF! | AB10: =COUNTIF(#REF!,Parameters!B8) -> #REF! | AC10: =COUNTIF(#REF!,Parameters!B8) -> #REF! | AD10: =COUNTIF(#REF!,Parameters!B8) -> #REF! | AE10: =COUNTIF(#REF!,Parameters!B8) -> #REF!
B11: 7 | C11: Kamel Faizeen Bin Abdullah @ Mohd Nor | D11: Snr.Field Engineer I | E11: =SUM(F11:Q11) -> #REF! | F11: =COUNTIF(#REF!,Parameters!B9) -> #REF! | G11: =COUNTIF(#REF!,Parameters!B9) -> #REF! | H11: =COUNTIF(#REF!,Parameters!B9) -> #REF! | I11: =COUNTIF(#REF!,Parameters!B10) -> #REF! | J11: =COUNTIF(#REF!,Parameters!B10) -> #REF! | K11: =COUNTIF(#REF!,Parameters!B10) -> #REF! | L11: =COUNTIF(#REF!,Parameters!B10) -> #REF! | M11: =COUNTIF(#REF!,Parameters!B10) -> #REF! | N11: =COUNTIF(#REF!,Parameters!B10) -> #REF! | O11: =COUNTIF(#REF!,Parameters!B10) -> #REF! | P11: =COUNTIF(#REF!,Parameters!B10) -> #REF! | Q11: =COUNTIF(#REF!,Parameters!B10) -> #REF! | S11: =SUM(T11:AE11) -> #REF! | T11: =COUNTIF(#REF!,Parameters!B9) -> #REF! | U11: =COUNTIF(#REF!,Parameters!B9) -> #REF! | V11: =COUNTIF(#REF!,Parameters!B9) -> #REF! | W11: =COUNTIF(#REF!,Parameters!B9) -> #REF! | X11: =COUNTIF(#REF!,Parameters!B9) -> #REF! | Y11: =COUNTIF(#REF!,Parameters!B9) -> #REF! | Z11: =COUNTIF(#REF!,Parameters!B9) -> #REF! | AA11: =COUNTIF(#REF!,Parameters!B9) -> #REF! | AB11: =COUNTIF(#REF!,Parameters!B9) -> #REF! | AC11: =COUNTIF(#REF!,Parameters!B9) -> #REF! | AD11: =COUNTIF(#REF!,Parameters!B9) -> #REF! | AE11: =COUNTIF(#REF!,Parameters!B9) -> #REF!
B12: 8 | C12: Mohamad Firdaus B Ibrahim | D12: Snr.Field Engineer I | E12: =SUM(F12:Q12) -> #REF! | F12: =COUNTIF(#REF!,Parameters!B10) -> #REF! | G12: =COUNTIF(#REF!,Parameters!B10) -> #REF! | H12: =COUNTIF(#REF!,Parameters!B10) -> #REF! | I12: =COUNTIF(#REF!,Parameters!B11) -> #REF! | J12: =COUNTIF(#REF!,Parameters!B11) -> #REF! | K12: =COUNTIF(#REF!,Parameters!B11) -> #REF! | L12: =COUNTIF(#REF!,Parameters!B11) -> #REF! | M12: =COUNTIF(#REF!,Parameters!B11) -> #REF! | N12: =COUNTIF(#REF!,Parameters!B11) -> #REF! | O12: =COUNTIF(#REF!,Parameters!B11) -> #REF! | P12: =COUNTIF(#REF!,Parameters!B11) -> #REF! | Q12: =COUNTIF(#REF!,Parameters!B11) -> #REF! | S12: =SUM(T12:AE12) -> #REF! | T12: =COUNTIF(#REF!,Parameters!B10) -> #REF! | U12: =COUNTIF(#REF!,Parameters!B10) -> #REF! | V12: =COUNTIF(#REF!,Parameters!B10) -> #REF! | W12: =COUNTIF(#REF!,Parameters!B10) -> #REF! | X12: =COUNTIF(#REF!,Parameters!B10) -> #REF! | Y12: =COUNTIF(#REF!,Parameters!B10) -> #REF! | Z12: =COUNTIF(#REF!,Parameters!B10) -> #REF! | AA12: =COUNTIF(#REF!,Parameters!B10) -> #REF! | AB12: =COUNTIF(#REF!,Parameters!B10) -> #REF! | AC12: =COUNTIF(#REF!,Parameters!B10) -> #REF! | AD12: =COUNTIF(#REF!,Parameters!B10) -> #REF! | AE12: =COUNTIF(#REF!,Parameters!B10) -> #REF!
B13: 9 | C13: Mohammad Azwan Shahmee B Mohd Rosdee | D13: Field Engineer II | E13: =SUM(F13:Q13) -> #REF! | F13: =COUNTIF(#REF!,Parameters!B11) -> #REF! | G13: =COUNTIF(#REF!,Parameters!B11) -> #REF! | H13: =COUNTIF(#REF!,Parameters!B11) -> #REF! | I13: =COUNTIF(#REF!,Parameters!B12) -> #REF! | J13: =COUNTIF(#REF!,Parameters!B12) -> #REF! | K13: =COUNTIF(#REF!,Parameters!B12) -> #REF! | L13: =COUNTIF(#REF!,Parameters!B12) -> #REF! | M13: =COUNTIF(#REF!,Parameters!B12) -> #REF! | N13: =COUNTIF(#REF!,Parameters!B12) -> #REF! | O13: =COUNTIF(#REF!,Parameters!B12) -> #REF! | P13: =COUNTIF(#REF!,Parameters!B12) -> #REF! | Q13: =COUNTIF(#REF!,Parameters!B12) -> #REF! | S13: =SUM(T13:AE13) -> #REF! | T13: =COUNTIF(#REF!,Parameters!B11) -> #REF! | U13: =COUNTIF(#REF!,Parameters!B11) -> #REF! | V13: =COUNTIF(#REF!,Parameters!B11) -> #REF! | W13: =COUNTIF(#REF!,Parameters!B11) -> #REF! | X13: =COUNTIF(#REF!,Parameters!B11) -> #REF! | Y13: =COUNTIF(#REF!,Parameters!B11) -> #REF! | Z13: =COUNTIF(#REF!,Parameters!B11) -> #REF! | AA13: =COUNTIF(#REF!,Parameters!B11) -> #REF! | AB13: =COUNTIF(#REF!,Parameters!B11) -> #REF! | AC13: =COUNTIF(#REF!,Parameters!B11) -> #REF! | AD13: =COUNTIF(#REF!,Parameters!B11) -> #REF! | AE13: =COUNTIF(#REF!,Parameters!B11) -> #REF!
B14: 10 | C14: Azrul Rezuan B Azman | D14: Field Engineer I | E14: =SUM(F14:Q14) -> #REF! | F14: =COUNTIF(#REF!,Parameters!B12) -> #REF! | G14: =COUNTIF(#REF!,Parameters!B12) -> #REF! | H14: =COUNTIF(#REF!,Parameters!B12) -> #REF! | I14: =COUNTIF(#REF!,Parameters!#REF!) -> #REF! | J14: =COUNTIF(#REF!,Parameters!#REF!) -> #REF! | K14: =COUNTIF(#REF!,Parameters!#REF!) -> #REF! | L14: =COUNTIF(#REF!,Parameters!#REF!) -> #REF! | M14: =COUNTIF(#REF!,Parameters!#REF!) -> #REF! | N14: =COUNTIF(#REF!,Parameters!#REF!) -> #REF! | O14: =COUNTIF(#REF!,Parameters!#REF!) -> #REF! | P14: =COUNTIF(#REF!,Parameters!#REF!) -> #REF! | Q14: =COUNTIF(#REF!,Parameters!#REF!) -> #REF! | S14: =SUM(T14:AE14) -> #REF! | T14: =COUNTIF(#REF!,Parameters!B12) -> #REF! | U14: =COUNTIF(#REF!,Parameters!B12) -> #REF! | V14: =COUNTIF(#REF!,Parameters!B12) -> #REF! | W14: =COUNTIF(#REF!,Parameters!B12) -> #REF! | X14: =COUNTIF(#REF!,Parameters!B12) -> #REF! | Y14: =COUNTIF(#REF!,Parameters!B12) -> #REF! | Z14: =COUNTIF(#REF!,Parameters!B12) -> #REF! | AA14: =COUNTIF(#REF!,Parameters!B12) -> #REF! | AB14: =COUNTIF(#REF!,Parameters!B12) -> #REF! | AC14: =COUNTIF(#REF!,Parameters!B12) -> #REF! | AD14: =COUNTIF(#REF!,Parameters!B12) -> #REF! | AE14: =COUNTIF(#REF!,Parameters!B12) -> #REF!
B15: 11 | C15: Ahmad Farhan B Murad | D15: Field Engineer I | E15: =SUM(F15:Q15) -> #REF! | F15: =COUNTIF(#REF!,Parameters!B13) -> #REF! | G15: =COUNTIF(#REF!,Parameters!B13) -> #REF! | H15: =COUNTIF(#REF!,Parameters!B13) -> #REF! | I15: =COUNTIF(#REF!,Parameters!B16) -> #REF! | J15: =COUNTIF(#REF!,Parameters!B16) -> #REF! | K15: =COUNTIF(#REF!,Parameters!B16) -> #REF! | L15: =COUNTIF(#REF!,Parameters!B16) -> #REF! | M15: =COUNTIF(#REF!,Parameters!B16) -> #REF! | N15: =COUNTIF(#REF!,Parameters!B16) -> #REF! | O15: =COUNTIF(#REF!,Parameters!B16) -> #REF! | P15: =COUNTIF(#REF!,Parameters!B16) -> #REF! | Q15: =COUNTIF(#REF!,Parameters!B16) -> #REF! | S15: =SUM(T15:AE15) -> #REF! | T15: =COUNTIF(#REF!,Parameters!B13) -> #REF! | U15: =COUNTIF(#REF!,Parameters!B13) -> #REF! | V15: =COUNTIF(#REF!,Parameters!B13) -> #REF! | W15: =COUNTIF(#REF!,Parameters!B13) -> #REF! | X15: =COUNTIF(#REF!,Parameters!B13) -> #REF! | Y15: =COUNTIF(#REF!,Parameters!B13) -> #REF! | Z15: =COUNTIF(#REF!,Parameters!B13) -> #REF! | AA15: =COUNTIF(#REF!,Parameters!B13) -> #REF! | AB15: =COUNTIF(#REF!,Parameters!B13) -> #REF! | AC15: =COUNTIF(#REF!,Parameters!B13) -> #REF! | AD15: =COUNTIF(#REF!,Parameters!B13) -> #REF! | AE15: =COUNTIF(#REF!,Parameters!B13) -> #REF!
B16: 12 | C16: Mohd Amirul Adli b Che Mansor | D16: Junior Field Engineer | E16: =SUM(F16:Q16) -> #REF! | F16: =COUNTIF(#REF!,Parameters!B14) -> #REF! | G16: =COUNTIF(#REF!,Parameters!B14) -> #REF! | H16: =COUNTIF(#REF!,Parameters!B14) -> #REF! | I16: =COUNTIF(#REF!,Parameters!B17) -> #REF! | J16: =COUNTIF(#REF!,Parameters!B17) -> #REF! | K16: =COUNTIF(#REF!,Parameters!B17) -> #REF! | L16: =COUNTIF(#REF!,Parameters!B17) -> #REF! | M16: =COUNTIF(#REF!,Parameters!B17) -> #REF! | N16: =COUNTIF(#REF!,Parameters!B17) -> #REF! | O16: =COUNTIF(#REF!,Parameters!B17) -> #REF! | P16: =COUNTIF(#REF!,Parameters!B17) -> #REF! | Q16: =COUNTIF(#REF!,Parameters!B17) -> #REF! | S16: =SUM(T16:AE16) -> #REF! | T16: =COUNTIF(#REF!,Parameters!B14) -> #REF! | U16: =COUNTIF(#REF!,Parameters!B14) -> #REF! | V16: =COUNTIF(#REF!,Parameters!B14) -> #REF! | W16: =COUNTIF(#REF!,Parameters!B14) -> #REF! | X16: =COUNTIF(#REF!,Parameters!B14) -> #REF! | Y16: =COUNTIF(#REF!,Parameters!B14) -> #REF! | Z16: =COUNTIF(#REF!,Parameters!B14) -> #REF! | AA16: =COUNTIF(#REF!,Parameters!B14) -> #REF! | AB16: =COUNTIF(#REF!,Parameters!B14) -> #REF! | AC16: =COUNTIF(#REF!,Parameters!B14) -> #REF! | AD16: =COUNTIF(#REF!,Parameters!B14) -> #REF! | AE16: =COUNTIF(#REF!,Parameters!B14) -> #REF!
B17: 13 | C17: Muhammad Ariffin Sabri b Za’imuddin | D17: Junior Field Engineer | E17: =SUM(F17:Q17) -> #REF! | F17: =COUNTIF(#REF!,Parameters!B15) -> #REF! | G17: =COUNTIF(#REF!,Parameters!B15) -> #REF! | H17: =COUNTIF(#REF!,Parameters!B15) -> #REF! | I17: =COUNTIF(#REF!,Parameters!B18) -> #REF! | J17: =COUNTIF(#REF!,Parameters!B18) -> #REF! | K17: =COUNTIF(#REF!,Parameters!B18) -> #REF! | L17: =COUNTIF(#REF!,Parameters!B18) -> #REF! | M17: =COUNTIF(#REF!,Parameters!B18) -> #REF! | N17: =COUNTIF(#REF!,Parameters!B18) -> #REF! | O17: =COUNTIF(#REF!,Parameters!B18) -> #REF! | P17: =COUNTIF(#REF!,Parameters!B18) -> #REF! | Q17: =COUNTIF(#REF!,Parameters!B18) -> #REF! | S17: =SUM(T17:AE17) -> #REF! | T17: =COUNTIF(#REF!,Parameters!B15) -> #REF! | U17: =COUNTIF(#REF!,Parameters!B15) -> #REF! | V17: =COUNTIF(#REF!,Parameters!B15) -> #REF! | W17: =COUNTIF(#REF!,Parameters!B15) -> #REF! | X17: =COUNTIF(#REF!,Parameters!B15) -> #REF! | Y17: =COUNTIF(#REF!,Parameters!B15) -> #REF! | Z17: =COUNTIF(#REF!,Parameters!B15) -> #REF! | AA17: =COUNTIF(#REF!,Parameters!B15) -> #REF! | AB17: =COUNTIF(#REF!,Parameters!B15) -> #REF! | AC17: =COUNTIF(#REF!,Parameters!B15) -> #REF! | AD17: =COUNTIF(#REF!,Parameters!B15) -> #REF! | AE17: =COUNTIF(#REF!,Parameters!B15) -> #REF!
B18: 14 | C18: Wan Mohd Zailani B Wan Ali | D18: Foreman | J18: =COUNTIF(#REF!,Parameters!#REF!) -> #REF! | S18: =SUM(T18:AE18) -> #REF! | T18: =COUNTIF(#REF!,Parameters!#REF!) -> #REF! | U18: =COUNTIF(#REF!,Parameters!#REF!) -> #REF! | V18: =COUNTIF(#REF!,Parameters!#REF!) -> #REF! | W18: =COUNTIF(#REF!,Parameters!#REF!) -> #REF! | X18: =COUNTIF(#REF!,Parameters!#REF!) -> #REF! | Y18: =COUNTIF(#REF!,Parameters!#REF!) -> #REF! | Z18: =COUNTIF(#REF!,Parameters!#REF!) -> #REF! | AA18: =COUNTIF(#REF!,Parameters!#REF!) -> #REF! | ... AE18: =COUNTIF(#REF!,Parameters!#REF!) -> #REF!
B19: 15 | C19: Kamarol Harfizi B Haris | D19: Snr. Crew Chief | E19: =SUM(F19:Q19) -> #REF! | F19: =COUNTIF(#REF!,Parameters!B16) -> #REF! | G19: =COUNTIF(#REF!,Parameters!B16) -> #REF! | H19: =COUNTIF(#REF!,Parameters!B16) -> #REF! | I19: =COUNTIF(#REF!,Parameters!B22) -> #REF! | J19: =COUNTIF(#REF!,Parameters!B22) -> #REF! | K19: =COUNTIF(#REF!,Parameters!B22) -> #REF! | L19: =COUNTIF(#REF!,Parameters!B22) -> #REF! | M19: =COUNTIF(#REF!,Parameters!B22) -> #REF! | N19: =COUNTIF(#REF!,Parameters!B22) -> #REF! | O19: =COUNTIF(#REF!,Parameters!B22) -> #REF! | P19: =COUNTIF(#REF!,Parameters!B22) -> #REF! | Q19: =COUNTIF(#REF!,Parameters!B22) -> #REF! | S19: =SUM(T19:AE19) -> #REF! | T19: =COUNTIF(#REF!,Parameters!B16) -> #REF! | U19: =COUNTIF(#REF!,Parameters!B16) -> #REF! | V19: =COUNTIF(#REF!,Parameters!B16) -> #REF! | W19: =COUNTIF(#REF!,Parameters!B16) -> #REF! | X19: =COUNTIF(#REF!,Parameters!B16) -> #REF! | Y19: =COUNTIF(#REF!,Parameters!B16) -> #REF! | Z19: =COUNTIF(#REF!,Parameters!B16) -> #REF! | AA19: =COUNTIF(#REF!,Parameters!B16) -> #REF! | AB19: =COUNTIF(#REF!,Parameters!B16) -> #REF! | AC19: =COUNTIF(#REF!,Parameters!B16) -> #REF! | AD19: =COUNTIF(#REF!,Parameters!B16) -> #REF! | AE19: =COUNTIF(#REF!,Parameters!B16) -> #REF!
B20: 16 | C20: Mohd Norasmadi B Abd Latif | D20: Snr. Crew Chief | E20: =SUM(F20:Q20) -> #REF! | F20: =COUNTIF(#REF!,Parameters!B17) -> #REF! | G20: =COUNTIF(#REF!,Parameters!B17) -> #REF! | H20: =COUNTIF(#REF!,Parameters!B17) -> #REF! | I20: =COUNTIF(#REF!,Parameters!#REF!) -> #REF! | J20: =COUNTIF(#REF!,Parameters!#REF!) -> #REF! | K20: =COUNTIF(#REF!,Parameters!#REF!) -> #REF! | L20: =COUNTIF(#REF!,Parameters!#REF!) -> #REF! | M20: =COUNTIF(#REF!,Parameters!#REF!) -> #REF! | N20: =COUNTIF(#REF!,Parameters!#REF!) -> #REF! | O20: =COUNTIF(#REF!,Parameters!#REF!) -> #REF! | P20: =COUNTIF(#REF!,Parameters!#REF!) -> #REF! | Q20: =COUNTIF(#REF!,Parameters!#REF!) -> #REF! | S20: =SUM(T20:AE20) -> #REF! | T20: =COUNTIF(#REF!,Parameters!B17) -> #REF! | U20: =COUNTIF(#REF!,Parameters!B17) -> #REF! | V20: =COUNTIF(#REF!,Parameters!B17) -> #REF! | W20: =COUNTIF(#REF!,Parameters!B17) -> #REF! | X20: =COUNTIF(#REF!,Parameters!B17) -> #REF! | Y20: =COUNTIF(#REF!,Parameters!B17) -> #REF! | Z20: =COUNTIF(#REF!,Parameters!B17) -> #REF! | AA20: =COUNTIF(#REF!,Parameters!B17) -> #REF! | AB20: =COUNTIF(#REF!,Parameters!B17) -> #REF! | AC20: =COUNTIF(#REF!,Parameters!B17) -> #REF! | AD20: =COUNTIF(#REF!,Parameters!B17) -> #REF! | AE20: =COUNTIF(#REF!,Parameters!B17) -> #REF!
B21: 17 | C21: Mohd Tarmizie B Abas | D21: Snr. Crew Chief | E21: =SUM(F21:Q21) -> #REF! | F21: =COUNTIF(#REF!,Parameters!B18) -> #REF! | G21: =COUNTIF(#REF!,Parameters!B18) -> #REF! | H21: =COUNTIF(#REF!,Parameters!B18) -> #REF! | I21: =COUNTIF(#REF!,Parameters!B23) -> #REF! | J21: =COUNTIF(#REF!,Parameters!B23) -> #REF! | K21: =COUNTIF(#REF!,Parameters!B23) -> #REF! | L21: =COUNTIF(#REF!,Parameters!B23) -> #REF! | M21: =COUNTIF(#REF!,Parameters!B23) -> #REF! | N21: =COUNTIF(#REF!,Parameters!B23) -> #REF! | O21: =COUNTIF(#REF!,Parameters!B23) -> #REF! | P21: =COUNTIF(#REF!,Parameters!B23) -> #REF! | Q21: =COUNTIF(#REF!,Parameters!B23) -> #REF! | S21: =SUM(T21:AE21) -> #REF! | T21: =COUNTIF(#REF!,Parameters!B18) -> #REF! | U21: =COUNTIF(#REF!,Parameters!B18) -> #REF! | V21: =COUNTIF(#REF!,Parameters!B18) -> #REF! | W21: =COUNTIF(#REF!,Parameters!B18) -> #REF! | X21: =COUNTIF(#REF!,Parameters!B18) -> #REF! | Y21: =COUNTIF(#REF!,Parameters!B18) -> #REF! | Z21: =COUNTIF(#REF!,Parameters!B18) -> #REF! | AA21: =COUNTIF(#REF!,Parameters!B18) -> #REF! | AB21: =COUNTIF(#REF!,Parameters!B18) -> #REF! | AC21: =COUNTIF(#REF!,Parameters!B18) -> #REF! | AD21: =COUNTIF(#REF!,Parameters!B18) -> #REF! | AE21: =COUNTIF(#REF!,Parameters!B18) -> #REF!
B22: 18 | C22: Mohd Ridzuan B Jusoh | D22: Snr. Crew Chief | E22: =SUM(F22:Q22) -> #REF! | F22: =COUNTIF(#REF!,Parameters!B19) -> #REF! | G22: =COUNTIF(#REF!,Parameters!B19) -> #REF! | H22: =COUNTIF(#REF!,Parameters!B19) -> #REF! | I22: =COUNTIF(#REF!,Parameters!B24) -> #REF! | J22: =COUNTIF(#REF!,Parameters!B24) -> #REF! | K22: =COUNTIF(#REF!,Parameters!B24) -> #REF! | L22: =COUNTIF(#REF!,Parameters!B24) -> #REF! | M22: =COUNTIF(#REF!,Parameters!B24) -> #REF! | N22: =COUNTIF(#REF!,Parameters!B24) -> #REF! | O22: =COUNTIF(#REF!,Parameters!B24) -> #REF! | P22: =COUNTIF(#REF!,Parameters!B24) -> #REF! | Q22: =COUNTIF(#REF!,Parameters!B24) -> #REF! | S22: =SUM(T22:AE22) -> #REF! | T22: =COUNTIF(#REF!,Parameters!B19) -> #REF! | U22: =COUNTIF(#REF!,Parameters!B19) -> #REF! | V22: =COUNTIF(#REF!,Parameters!B19) -> #REF! | W22: =COUNTIF(#REF!,Parameters!B19) -> #REF! | X22: =COUNTIF(#REF!,Parameters!B19) -> #REF! | Y22: =COUNTIF(#REF!,Parameters!B19) -> #REF! | Z22: =COUNTIF(#REF!,Parameters!B19) -> #REF! | AA22: =COUNTIF(#REF!,Parameters!B19) -> #REF! | AB22: =COUNTIF(#REF!,Parameters!B19) -> #REF! | AC22: =COUNTIF(#REF!,Parameters!B19) -> #REF! | AD22: =COUNTIF(#REF!,Parameters!B19) -> #REF! | AE22: =COUNTIF(#REF!,Parameters!B19) -> #REF!
B23: 19 | C23: Zubir B Zakaria | D23: Crew Chief | E23: =SUM(F23:Q23) -> #REF! | F23: =COUNTIF(#REF!,Parameters!B20) -> #REF! | G23: =COUNTIF(#REF!,Parameters!B20) -> #REF! | H23: =COUNTIF(#REF!,Parameters!B20) -> #REF! | I23: =COUNTIF(#REF!,Parameters!B25) -> #REF! | J23: =COUNTIF(#REF!,Parameters!B25) -> #REF! | K23: =COUNTIF(#REF!,Parameters!B25) -> #REF! | L23: =COUNTIF(#REF!,Parameters!B25) -> #REF! | M23: =COUNTIF(#REF!,Parameters!B25) -> #REF! | N23: =COUNTIF(#REF!,Parameters!B25) -> #REF! | O23: =COUNTIF(#REF!,Parameters!B25) -> #REF! | P23: =COUNTIF(#REF!,Parameters!B25) -> #REF! | Q23: =COUNTIF(#REF!,Parameters!B25) -> #REF! | S23: =SUM(T23:AE23) -> #REF! | T23: =COUNTIF(#REF!,Parameters!B20) -> #REF! | U23: =COUNTIF(#REF!,Parameters!B20) -> #REF! | V23: =COUNTIF(#REF!,Parameters!B20) -> #REF! | W23: =COUNTIF(#REF!,Parameters!B20) -> #REF! | X23: =COUNTIF(#REF!,Parameters!B20) -> #REF! | Y23: =COUNTIF(#REF!,Parameters!B20) -> #REF! | Z23: =COUNTIF(#REF!,Parameters!B20) -> #REF! | AA23: =COUNTIF(#REF!,Parameters!B20) -> #REF! | AB23: =COUNTIF(#REF!,Parameters!B20) -> #REF! | AC23: =COUNTIF(#REF!,Parameters!B20) -> #REF! | AD23: =COUNTIF(#REF!,Parameters!B20) -> #REF! | AE23: =COUNTIF(#REF!,Parameters!B20) -> #REF!
B24: 20 | C24: Mohamad Hasbullah B Sapie | D24: Crew Chief | E24: =SUM(F24:Q24) -> #REF! | F24: =COUNTIF(#REF!,Parameters!B21) -> #REF! | G24: =COUNTIF(#REF!,Parameters!B21) -> #REF! | H24: =COUNTIF(#REF!,Parameters!B21) -> #REF! | I24: =COUNTIF(#REF!,Parameters!B26) -> #REF! | J24: =COUNTIF(#REF!,Parameters!B26) -> #REF! | K24: =COUNTIF(#REF!,Parameters!B26) -> #REF! | L24: =COUNTIF(#REF!,Parameters!B26) -> #REF! | M24: =COUNTIF(#REF!,Parameters!B26) -> #REF! | N24: =COUNTIF(#REF!,Parameters!B26) -> #REF! | O24: =COUNTIF(#REF!,Parameters!B26) -> #REF! | P24: =COUNTIF(#REF!,Parameters!B26) -> #REF! | Q24: =COUNTIF(#REF!,Parameters!B26) -> #REF! | S24: =SUM(T24:AE24) -> #REF! | T24: =COUNTIF(#REF!,Parameters!B21) -> #REF! | U24: =COUNTIF(#REF!,Parameters!B21) -> #REF! | V24: =COUNTIF(#REF!,Parameters!B21) -> #REF! | W24: =COUNTIF(#REF!,Parameters!B21) -> #REF! | X24: =COUNTIF(#REF!,Parameters!B21) -> #REF! | Y24: =COUNTIF(#REF!,Parameters!B21) -> #REF! | Z24: =COUNTIF(#REF!,Parameters!B21) -> #REF! | AA24: =COUNTIF(#REF!,Parameters!B21) -> #REF! | AB24: =COUNTIF(#REF!,Parameters!B21) -> #REF! | AC24: =COUNTIF(#REF!,Parameters!B21) -> #REF! | AD24: =COUNTIF(#REF!,Parameters!B21) -> #REF! | AE24: =COUNTIF(#REF!,Parameters!B21) -> #REF!
B25: 21 | C25: Mohd Rosli B Muda | D25: Crew Chief | E25: =SUM(F25:Q25) -> #REF! | F25: =COUNTIF(#REF!,Parameters!B22) -> #REF! | G25: =COUNTIF(#REF!,Parameters!B22) -> #REF! | H25: =COUNTIF(#REF!,Parameters!B22) -> #REF! | I25: =COUNTIF(#REF!,Parameters!B27) -> #REF! | J25: =COUNTIF(#REF!,Parameters!B27) -> #REF! | K25: =COUNTIF(#REF!,Parameters!B27) -> #REF! | L25: =COUNTIF(#REF!,Parameters!B27) -> #REF! | M25: =COUNTIF(#REF!,Parameters!B27) -> #REF! | N25: =COUNTIF(#REF!,Parameters!B27) -> #REF! | O25: =COUNTIF(#REF!,Parameters!B27) -> #REF! | P25: =COUNTIF(#REF!,Parameters!B27) -> #REF! | Q25: =COUNTIF(#REF!,Parameters!B27) -> #REF! | S25: =SUM(T25:AE25) -> #REF! | T25: =COUNTIF(#REF!,Parameters!B22) -> #REF! | U25: =COUNTIF(#REF!,Parameters!B22) -> #REF! | V25: =COUNTIF(#REF!,Parameters!B22) -> #REF! | W25: =COUNTIF(#REF!,Parameters!B22) -> #REF! | X25: =COUNTIF(#REF!,Parameters!B22) -> #REF! | Y25: =COUNTIF(#REF!,Parameters!B22) -> #REF! | Z25: =COUNTIF(#REF!,Parameters!B22) -> #REF! | AA25: =COUNTIF(#REF!,Parameters!B22) -> #REF! | AB25: =COUNTIF(#REF!,Parameters!B22) -> #REF! | AC25: =COUNTIF(#REF!,Parameters!B22) -> #REF! | AD25: =COUNTIF(#REF!,Parameters!B22) -> #REF! | AE25: =COUNTIF(#REF!,Parameters!B22) -> #REF!
B26: 22 | C26: Mike Weller Ghana ak Timi | D26: Crew Chief | E26: =SUM(F26:Q26) -> #REF! | F26: =COUNTIF(#REF!,Parameters!#REF!) -> #REF! | G26: =COUNTIF(#REF!,Parameters!#REF!) -> #REF! | H26: =COUNTIF(#REF!,Parameters!#REF!) -> #REF! | I26: =COUNTIF(#REF!,Parameters!B28) -> #REF! | J26: =COUNTIF(#REF!,Parameters!B28) -> #REF! | K26: =COUNTIF(#REF!,Parameters!B28) -> #REF! | L26: =COUNTIF(#REF!,Parameters!B28) -> #REF! | M26: =COUNTIF(#REF!,Parameters!B28) -> #REF! | N26: =COUNTIF(#REF!,Parameters!B28) -> #REF! | O26: =COUNTIF(#REF!,Parameters!B28) -> #REF! | P26: =COUNTIF(#REF!,Parameters!B28) -> #REF! | Q26: =COUNTIF(#REF!,Parameters!B28) -> #REF! | S26: =SUM(T26:AE26) -> #REF! | T26: =COUNTIF(#REF!,Parameters!#REF!) -> #REF! | U26: =COUNTIF(#REF!,Parameters!#REF!) -> #REF! | V26: =COUNTIF(#REF!,Parameters!#REF!) -> #REF! | W26: =COUNTIF(#REF!,Parameters!#REF!) -> #REF! | X26: =COUNTIF(#REF!,Parameters!#REF!) -> #REF! | Y26: =COUNTIF(#REF!,Parameters!#REF!) -> #REF! | Z26: =COUNTIF(#REF!,Parameters!#REF!) -> #REF! | AA26: =COUNTIF(#REF!,Parameters!#REF!) -> #REF! | ... AE26: =COUNTIF(#REF!,Parameters!#REF!) -> #REF!
B27: 23 | C27: Wan Saufi Amri Wan Jusoh | D27: Crew Chief | E27: =SUM(F27:Q27) -> #REF! | F27: =COUNTIF(#REF!,Parameters!B23) -> #REF! | G27: =COUNTIF(#REF!,Parameters!B23) -> #REF! | H27: =COUNTIF(#REF!,Parameters!B23) -> #REF! | I27: =COUNTIF(#REF!,Parameters!B29) -> #REF! | J27: =COUNTIF(#REF!,Parameters!B29) -> #REF! | K27: =COUNTIF(#REF!,Parameters!B29) -> #REF! | L27: =COUNTIF(#REF!,Parameters!B29) -> #REF! | M27: =COUNTIF(#REF!,Parameters!B29) -> #REF! | N27: =COUNTIF(#REF!,Parameters!B29) -> #REF! | O27: =COUNTIF(#REF!,Parameters!B29) -> #REF! | P27: =COUNTIF(#REF!,Parameters!B29) -> #REF! | Q27: =COUNTIF(#REF!,Parameters!B29) -> #REF! | S27: =SUM(T27:AE27) -> #REF! | T27: =COUNTIF(#REF!,Parameters!B23) -> #REF! | U27: =COUNTIF(#REF!,Parameters!B23) -> #REF! | V27: =COUNTIF(#REF!,Parameters!B23) -> #REF! | W27: =COUNTIF(#REF!,Parameters!B23) -> #REF! | X27: =COUNTIF(#REF!,Parameters!B23) -> #REF! | Y27: =COUNTIF(#REF!,Parameters!B23) -> #REF! | Z27: =COUNTIF(#REF!,Parameters!B23) -> #REF! | AA27: =COUNTIF(#REF!,Parameters!B23) -> #REF! | AB27: =COUNTIF(#REF!,Parameters!B23) -> #REF! | AC27: =COUNTIF(#REF!,Parameters!B23) -> #REF! | AD27: =COUNTIF(#REF!,Parameters!B23) -> #REF! | AE27: =COUNTIF(#REF!,Parameters!B23) -> #REF!
B28: 24 | C28: Mohd Hafiz Mohd Rahim | D28: Crew Chief | E28: =SUM(F28:Q28) -> #REF! | F28: =COUNTIF(#REF!,Parameters!B24) -> #REF! | G28: =COUNTIF(#REF!,Parameters!B24) -> #REF! | H28: =COUNTIF(#REF!,Parameters!B24) -> #REF! | I28: =COUNTIF(#REF!,Parameters!B29) -> #REF! | J28: =COUNTIF(#REF!,Parameters!B29) -> #REF! | K28: =COUNTIF(#REF!,Parameters!B29) -> #REF! | L28: =COUNTIF(#REF!,Parameters!B29) -> #REF! | M28: =COUNTIF(#REF!,Parameters!B29) -> #REF! | N28: =COUNTIF(#REF!,Parameters!B29) -> #REF! | O28: =COUNTIF(#REF!,Parameters!B29) -> #REF! | P28: =COUNTIF(#REF!,Parameters!B29) -> #REF! | Q28: =COUNTIF(#REF!,Parameters!B29) -> #REF! | S28: =SUM(T28:AE28) -> #REF! | T28: =COUNTIF(#REF!,Parameters!B24) -> #REF! | U28: =COUNTIF(#REF!,Parameters!B24) -> #REF! | V28: =COUNTIF(#REF!,Parameters!B24) -> #REF! | W28: =COUNTIF(#REF!,Parameters!B24) -> #REF! | X28: =COUNTIF(#REF!,Parameters!B24) -> #REF! | Y28: =COUNTIF(#REF!,Parameters!B24) -> #REF! | Z28: =COUNTIF(#REF!,Parameters!B24) -> #REF! | AA28: =COUNTIF(#REF!,Parameters!B24) -> #REF! | AB28: =COUNTIF(#REF!,Parameters!B24) -> #REF! | AC28: =COUNTIF(#REF!,Parameters!B24) -> #REF! | AD28: =COUNTIF(#REF!,Parameters!B24) -> #REF! | AE28: =COUNTIF(#REF!,Parameters!B24) -> #REF!
B29: 25 | C29: Mohd Asrul Nizam Nong | D29: Crew Chief | E29: =SUM(F29:Q29) -> #REF! | F29: =COUNTIF(#REF!,Parameters!B25) -> #REF! | G29: =COUNTIF(#REF!,Parameters!B25) -> #REF! | H29: =COUNTIF(#REF!,Parameters!B25) -> #REF! | I29: =COUNTIF(#REF!,Parameters!B30) -> #REF! | J29: =COUNTIF(#REF!,Parameters!B30) -> #REF! | K29: =COUNTIF(#REF!,Parameters!B30) -> #REF! | L29: =COUNTIF(#REF!,Parameters!B30) -> #REF! | M29: =COUNTIF(#REF!,Parameters!B30) -> #REF! | N29: =COUNTIF(#REF!,Parameters!B30) -> #REF! | O29: =COUNTIF(#REF!,Parameters!B30) -> #REF! | P29: =COUNTIF(#REF!,Parameters!B30) -> #REF! | Q29: =COUNTIF(#REF!,Parameters!B30) -> #REF! | S29: =SUM(T29:AE29) -> #REF! | T29: =COUNTIF(#REF!,Parameters!B25) -> #REF! | U29: =COUNTIF(#REF!,Parameters!B25) -> #REF! | V29: =COUNTIF(#REF!,Parameters!B25) -> #REF! | W29: =COUNTIF(#REF!,Parameters!B25) -> #REF! | X29: =COUNTIF(#REF!,Parameters!B25) -> #REF! | Y29: =COUNTIF(#REF!,Parameters!B25) -> #REF! | Z29: =COUNTIF(#REF!,Parameters!B25) -> #REF! | AA29: =COUNTIF(#REF!,Parameters!B25) -> #REF! | AB29: =COUNTIF(#REF!,Parameters!B25) -> #REF! | AC29: =COUNTIF(#REF!,Parameters!B25) -> #REF! | AD29: =COUNTIF(#REF!,Parameters!B25) -> #REF! | AE29: =COUNTIF(#REF!,Parameters!B25) -> #REF!
B30: 26 | C30: Mohd Faizol Abu Bakar | D30: Trainee Crew Chief | E30: =SUM(F30:Q30) -> #REF! | F30: =COUNTIF(#REF!,Parameters!B26) -> #REF! | G30: =COUNTIF(#REF!,Parameters!B26) -> #REF! | H30: =COUNTIF(#REF!,Parameters!B26) -> #REF! | I30: =COUNTIF(#REF!,Parameters!B31) -> #REF! | J30: =COUNTIF(#REF!,Parameters!B31) -> #REF! | K30: =COUNTIF(#REF!,Parameters!B31) -> #REF! | L30: =COUNTIF(#REF!,Parameters!B31) -> #REF! | M30: =COUNTIF(#REF!,Parameters!B31) -> #REF! | N30: =COUNTIF(#REF!,Parameters!B31) -> #REF! | O30: =COUNTIF(#REF!,Parameters!B31) -> #REF! | P30: =COUNTIF(#REF!,Parameters!B31) -> #REF! | Q30: =COUNTIF(#REF!,Parameters!B31) -> #REF! | S30: =SUM(T30:AE30) -> #REF! | T30: =COUNTIF(#REF!,Parameters!B26) -> #REF! | U30: =COUNTIF(#REF!,Parameters!B26) -> #REF! | V30: =COUNTIF(#REF!,Parameters!B26) -> #REF! | W30: =COUNTIF(#REF!,Parameters!B26) -> #REF! | X30: =COUNTIF(#REF!,Parameters!B26) -> #REF! | Y30: =COUNTIF(#REF!,Parameters!B26) -> #REF! | Z30: =COUNTIF(#REF!,Parameters!B26) -> #REF! | AA30: =COUNTIF(#REF!,Parameters!B26) -> #REF! | AB30: =COUNTIF(#REF!,Parameters!B26) -> #REF! | AC30: =COUNTIF(#REF!,Parameters!B26) -> #REF! | AD30: =COUNTIF(#REF!,Parameters!B26) -> #REF! | AE30: =COUNTIF(#REF!,Parameters!B26) -> #REF!
B31: 27 | C31: Mohd Al Amin Ngah | D31: Snr. Field Operator | E31: =SUM(F31:Q31) -> #REF! | F31: =COUNTIF(#REF!,Parameters!B27) -> #REF! | G31: =COUNTIF(#REF!,Parameters!B27) -> #REF! | H31: =COUNTIF(#REF!,Parameters!B27) -> #REF! | I31: =COUNTIF(#REF!,Parameters!B32) -> #REF! | J31: =COUNTIF(#REF!,Parameters!B32) -> #REF! | K31: =COUNTIF(#REF!,Parameters!B32) -> #REF! | L31: =COUNTIF(#REF!,Parameters!B32) -> #REF! | M31: =COUNTIF(#REF!,Parameters!B32) -> #REF! | N31: =COUNTIF(#REF!,Parameters!B32) -> #REF! | O31: =COUNTIF(#REF!,Parameters!B32) -> #REF! | P31: =COUNTIF(#REF!,Parameters!B32) -> #REF! | Q31: =COUNTIF(#REF!,Parameters!B32) -> #REF! | S31: =SUM(T31:AE31) -> #REF! | T31: =COUNTIF(#REF!,Parameters!B27) -> #REF! | U31: =COUNTIF(#REF!,Parameters!B27) -> #REF! | V31: =COUNTIF(#REF!,Parameters!B27) -> #REF! | W31: =COUNTIF(#REF!,Parameters!B27) -> #REF! | X31: =COUNTIF(#REF!,Parameters!B27) -> #REF! | Y31: =COUNTIF(#REF!,Parameters!B27) -> #REF! | Z31: =COUNTIF(#REF!,Parameters!B27) -> #REF! | AA31: =COUNTIF(#REF!,Parameters!B27) -> #REF! | AB31: =COUNTIF(#REF!,Parameters!B27) -> #REF! | AC31: =COUNTIF(#REF!,Parameters!B27) -> #REF! | AD31: =COUNTIF(#REF!,Parameters!B27) -> #REF! | AE31: =COUNTIF(#REF!,Parameters!B27) -> #REF!
B32: 28 | C32: Muhamad Azham Hamalee | D32: Snr. Field Operator | E32: =SUM(F32:Q32) -> #REF! | F32: =COUNTIF(#REF!,Parameters!B28) -> #REF! | G32: =COUNTIF(#REF!,Parameters!B28) -> #REF! | H32: =COUNTIF(#REF!,Parameters!B28) -> #REF! | I32: =COUNTIF(#REF!,Parameters!B34) -> #REF! | J32: =COUNTIF(#REF!,Parameters!B34) -> #REF! | K32: =COUNTIF(#REF!,Parameters!B34) -> #REF! | L32: =COUNTIF(#REF!,Parameters!B34) -> #REF! | M32: =COUNTIF(#REF!,Parameters!B34) -> #REF! | N32: =COUNTIF(#REF!,Parameters!B34) -> #REF! | O32: =COUNTIF(#REF!,Parameters!B34) -> #REF! | P32: =COUNTIF(#REF!,Parameters!B34) -> #REF! | Q32: =COUNTIF(#REF!,Parameters!B34) -> #REF! | S32: =SUM(T32:AE32) -> #REF! | T32: =COUNTIF(#REF!,Parameters!B28) -> #REF! | U32: =COUNTIF(#REF!,Parameters!B28) -> #REF! | V32: =COUNTIF(#REF!,Parameters!B28) -> #REF! | W32: =COUNTIF(#REF!,Parameters!B28) -> #REF! | X32: =COUNTIF(#REF!,Parameters!B28) -> #REF! | Y32: =COUNTIF(#REF!,Parameters!B28) -> #REF! | Z32: =COUNTIF(#REF!,Parameters!B28) -> #REF! | AA32: =COUNTIF(#REF!,Parameters!B28) -> #REF! | AB32: =COUNTIF(#REF!,Parameters!B28) -> #REF! | AC32: =COUNTIF(#REF!,Parameters!B28) -> #REF! | AD32: =COUNTIF(#REF!,Parameters!B28) -> #REF! | AE32: =COUNTIF(#REF!,Parameters!B28) -> #REF!
B33: 29 | C33: Mohd Hashfizol Abu Hassan | D33: Snr. Field Operator | E33: =SUM(F33:Q33) -> #REF! | F33: =COUNTIF(#REF!,Parameters!B29) -> #REF! | G33: =COUNTIF(#REF!,Parameters!B29) -> #REF! | H33: =COUNTIF(#REF!,Parameters!B29) -> #REF! | I33: =COUNTIF(#REF!,Parameters!B35) -> #REF! | J33: =COUNTIF(#REF!,Parameters!B35) -> #REF! | K33: =COUNTIF(#REF!,Parameters!B35) -> #REF! | L33: =COUNTIF(#REF!,Parameters!B35) -> #REF! | M33: =COUNTIF(#REF!,Parameters!B35) -> #REF! | N33: =COUNTIF(#REF!,Parameters!B35) -> #REF! | O33: =COUNTIF(#REF!,Parameters!B35) -> #REF! | P33: =COUNTIF(#REF!,Parameters!B35) -> #REF! | Q33: =COUNTIF(#REF!,Parameters!B35) -> #REF! | S33: =SUM(T33:AE33) -> #REF! | T33: =COUNTIF(#REF!,Parameters!B29) -> #REF! | U33: =COUNTIF(#REF!,Parameters!B29) -> #REF! | V33: =COUNTIF(#REF!,Parameters!B29) -> #REF! | W33: =COUNTIF(#REF!,Parameters!B29) -> #REF! | X33: =COUNTIF(#REF!,Parameters!B29) -> #REF! | Y33: =COUNTIF(#REF!,Parameters!B29) -> #REF! | Z33: =COUNTIF(#REF!,Parameters!B29) -> #REF! | AA33: =COUNTIF(#REF!,Parameters!B29) -> #REF! | AB33: =COUNTIF(#REF!,Parameters!B29) -> #REF! | AC33: =COUNTIF(#REF!,Parameters!B29) -> #REF! | AD33: =COUNTIF(#REF!,Parameters!B29) -> #REF! | AE33: =COUNTIF(#REF!,Parameters!B29) -> #REF!
B34: 30 | C34: Mohd Hafizzudin Ngah | D34: Snr. Field Operator | E34: =SUM(F34:Q34) -> #REF! | F34: =COUNTIF(#REF!,Parameters!B30) -> #REF! | G34: =COUNTIF(#REF!,Parameters!B30) -> #REF! | H34: =COUNTIF(#REF!,Parameters!B30) -> #REF! | I34: =COUNTIF(#REF!,Parameters!#REF!) -> #REF! | J34: =COUNTIF(#REF!,Parameters!#REF!) -> #REF! | K34: =COUNTIF(#REF!,Parameters!#REF!) -> #REF! | L34: =COUNTIF(#REF!,Parameters!#REF!) -> #REF! | M34: =COUNTIF(#REF!,Parameters!#REF!) -> #REF! | N34: =COUNTIF(#REF!,Parameters!#REF!) -> #REF! | O34: =COUNTIF(#REF!,Parameters!#REF!) -> #REF! | P34: =COUNTIF(#REF!,Parameters!#REF!) -> #REF! | Q34: =COUNTIF(#REF!,Parameters!#REF!) -> #REF! | S34: =SUM(T34:AE34) -> #REF! | T34: =COUNTIF(#REF!,Parameters!B30) -> #REF! | U34: =COUNTIF(#REF!,Parameters!B30) -> #REF! | V34: =COUNTIF(#REF!,Parameters!B30) -> #REF! | W34: =COUNTIF(#REF!,Parameters!B30) -> #REF! | X34: =COUNTIF(#REF!,Parameters!B30) -> #REF! | Y34: =COUNTIF(#REF!,Parameters!B30) -> #REF! | Z34: =COUNTIF(#REF!,Parameters!B30) -> #REF! | AA34: =COUNTIF(#REF!,Parameters!B30) -> #REF! | AB34: =COUNTIF(#REF!,Parameters!B30) -> #REF! | AC34: =COUNTIF(#REF!,Parameters!B30) -> #REF! | AD34: =COUNTIF(#REF!,Parameters!B30) -> #REF! | AE34: =COUNTIF(#REF!,Parameters!B30) -> #REF!
B35: 31 | C35: Saiful Azlansyah Azli Abd Aziz | D35: Field Operator | E35: =SUM(F35:Q35) -> #REF! | F35: =COUNTIF(#REF!,Parameters!#REF!) -> #REF! | G35: =COUNTIF(#REF!,Parameters!#REF!) -> #REF! | H35: =COUNTIF(#REF!,Parameters!#REF!) -> #REF! | I35: =COUNTIF(#REF!,Parameters!B39) -> #REF! | J35: =COUNTIF(#REF!,Parameters!B39) -> #REF! | K35: =COUNTIF(#REF!,Parameters!B39) -> #REF! | L35: =COUNTIF(#REF!,Parameters!B39) -> #REF! | M35: =COUNTIF(#REF!,Parameters!B39) -> #REF! | N35: =COUNTIF(#REF!,Parameters!B39) -> #REF! | O35: =COUNTIF(#REF!,Parameters!B39) -> #REF! | P35: =COUNTIF(#REF!,Parameters!B39) -> #REF! | Q35: =COUNTIF(#REF!,Parameters!B39) -> #REF! | S35: =SUM(T35:AE35) -> #REF! | T35: =COUNTIF(#REF!,Parameters!#REF!) -> #REF! | U35: =COUNTIF(#REF!,Parameters!#REF!) -> #REF! | V35: =COUNTIF(#REF!,Parameters!#REF!) -> #REF! | W35: =COUNTIF(#REF!,Parameters!#REF!) -> #REF! | X35: =COUNTIF(#REF!,Parameters!#REF!) -> #REF! | Y35: =COUNTIF(#REF!,Parameters!#REF!) -> #REF! | Z35: =COUNTIF(#REF!,Parameters!#REF!) -> #REF! | AA35: =COUNTIF(#REF!,Parameters!#REF!) -> #REF! | ... AE35: =COUNTIF(#REF!,Parameters!#REF!) -> #REF!
B36: 32 | C36: Tuan Mohd Tarmizi Tuan Ahmad | D36: Field Operator | E36: =SUM(F36:Q36) -> #REF! | F36: =COUNTIF(#REF!,Parameters!B31) -> #REF! | G36: =COUNTIF(#REF!,Parameters!B31) -> #REF! | H36: =COUNTIF(#REF!,Parameters!B31) -> #REF! | I36: =COUNTIF(#REF!,Parameters!B41) -> #REF! | J36: =COUNTIF(#REF!,Parameters!B41) -> #REF! | K36: =COUNTIF(#REF!,Parameters!B41) -> #REF! | L36: =COUNTIF(#REF!,Parameters!B41) -> #REF! | M36: =COUNTIF(#REF!,Parameters!B41) -> #REF! | N36: =COUNTIF(#REF!,Parameters!B41) -> #REF! | O36: =COUNTIF(#REF!,Parameters!B41) -> #REF! | P36: =COUNTIF(#REF!,Parameters!B41) -> #REF! | Q36: =COUNTIF(#REF!,Parameters!B41) -> #REF! | S36: =SUM(T36:AE36) -> #REF! | T36: =COUNTIF(#REF!,Parameters!B31) -> #REF! | U36: =COUNTIF(#REF!,Parameters!B31) -> #REF! | V36: =COUNTIF(#REF!,Parameters!B31) -> #REF! | W36: =COUNTIF(#REF!,Parameters!B31) -> #REF! | X36: =COUNTIF(#REF!,Parameters!B31) -> #REF! | Y36: =COUNTIF(#REF!,Parameters!B31) -> #REF! | Z36: =COUNTIF(#REF!,Parameters!B31) -> #REF! | AA36: =COUNTIF(#REF!,Parameters!B31) -> #REF! | AB36: =COUNTIF(#REF!,Parameters!B31) -> #REF! | AC36: =COUNTIF(#REF!,Parameters!B31) -> #REF! | AD36: =COUNTIF(#REF!,Parameters!B31) -> #REF! | AE36: =COUNTIF(#REF!,Parameters!B31) -> #REF!
B37: 33 | C37: Mohamad Hamizan B Abd Razak | D37: Junior Field Operator | E37: =SUM(F37:Q37) -> #REF! | F37: =COUNTIF(#REF!,Parameters!B32) -> #REF! | G37: =COUNTIF(#REF!,Parameters!B32) -> #REF! | H37: =COUNTIF(#REF!,Parameters!B32) -> #REF! | I37: =COUNTIF(#REF!,Parameters!B42) -> #REF! | J37: =COUNTIF(#REF!,Parameters!B42) -> #REF! | K37: =COUNTIF(#REF!,Parameters!B42) -> #REF! | L37: =COUNTIF(#REF!,Parameters!B42) -> #REF! | M37: =COUNTIF(#REF!,Parameters!B42) -> #REF! | N37: =COUNTIF(#REF!,Parameters!B42) -> #REF! | O37: =COUNTIF(#REF!,Parameters!B42) -> #REF! | P37: =COUNTIF(#REF!,Parameters!B42) -> #REF! | Q37: =COUNTIF(#REF!,Parameters!B42) -> #REF! | S37: =SUM(T37:AE37) -> #REF! | T37: =COUNTIF(#REF!,Parameters!B32) -> #REF! | U37: =COUNTIF(#REF!,Parameters!B32) -> #REF! | V37: =COUNTIF(#REF!,Parameters!B32) -> #REF! | W37: =COUNTIF(#REF!,Parameters!B32) -> #REF! | X37: =COUNTIF(#REF!,Parameters!B32) -> #REF! | Y37: =COUNTIF(#REF!,Parameters!B32) -> #REF! | Z37: =COUNTIF(#REF!,Parameters!B32) -> #REF! | AA37: =COUNTIF(#REF!,Parameters!B32) -> #REF! | AB37: =COUNTIF(#REF!,Parameters!B32) -> #REF! | AC37: =COUNTIF(#REF!,Parameters!B32) -> #REF! | AD37: =COUNTIF(#REF!,Parameters!B32) -> #REF! | AE37: =COUNTIF(#REF!,Parameters!B32) -> #REF!
B38: 34 | C38: Tengku Mohd Shazwan B Tengku Subini | D38: Junior Field Operator | E38: =SUM(F38:Q38) -> #REF! | F38: =COUNTIF(#REF!,Parameters!B33) -> #REF! | G38: =COUNTIF(#REF!,Parameters!B33) -> #REF! | H38: =COUNTIF(#REF!,Parameters!B33) -> #REF! | I38: =COUNTIF(#REF!,Parameters!B43) -> #REF! | J38: =COUNTIF(#REF!,Parameters!B43) -> #REF! | K38: =COUNTIF(#REF!,Parameters!B43) -> #REF! | L38: =COUNTIF(#REF!,Parameters!B43) -> #REF! | M38: =COUNTIF(#REF!,Parameters!B43) -> #REF! | N38: =COUNTIF(#REF!,Parameters!B43) -> #REF! | O38: =COUNTIF(#REF!,Parameters!B43) -> #REF! | P38: =COUNTIF(#REF!,Parameters!B43) -> #REF! | Q38: =COUNTIF(#REF!,Parameters!B43) -> #REF! | S38: =SUM(T38:AE38) -> #REF! | T38: =COUNTIF(#REF!,Parameters!B33) -> #REF! | U38: =COUNTIF(#REF!,Parameters!B33) -> #REF! | V38: =COUNTIF(#REF!,Parameters!B33) -> #REF! | W38: =COUNTIF(#REF!,Parameters!B33) -> #REF! | X38: =COUNTIF(#REF!,Parameters!B33) -> #REF! | Y38: =COUNTIF(#REF!,Parameters!B33) -> #REF! | Z38: =COUNTIF(#REF!,Parameters!B33) -> #REF! | AA38: =COUNTIF(#REF!,Parameters!B33) -> #REF! | AB38: =COUNTIF(#REF!,Parameters!B33) -> #REF! | AC38: =COUNTIF(#REF!,Parameters!B33) -> #REF! | AD38: =COUNTIF(#REF!,Parameters!B33) -> #REF! | AE38: =COUNTIF(#REF!,Parameters!B33) -> #REF!
B39: 35 | C39: Arman Shah Abd Manaf | D39: Lab Technician | S39: =SUM(T39:AE39) -> #REF! | T39: =COUNTIF(#REF!,Parameters!B34) -> #REF! | U39: =COUNTIF(#REF!,Parameters!B34) -> #REF! | V39: =COUNTIF(#REF!,Parameters!B34) -> #REF! | W39: =COUNTIF(#REF!,Parameters!B34) -> #REF! | X39: =COUNTIF(#REF!,Parameters!B34) -> #REF! | Y39: =COUNTIF(#REF!,Parameters!B34) -> #REF! | Z39: =COUNTIF(#REF!,Parameters!B34) -> #REF! | AA39: =COUNTIF(#REF!,Parameters!B34) -> #REF! | AB39: =COUNTIF(#REF!,Parameters!B34) -> #REF! | AC39: =COUNTIF(#REF!,Parameters!B34) -> #REF! | AD39: =COUNTIF(#REF!,Parameters!B34) -> #REF! | AE39: =COUNTIF(#REF!,Parameters!B34) -> #REF!
B40: 36 | C40: Mohd Ibnul Hisham M.Shafie | D40: Sonde Technician | S40: =SUM(T40:AE40) -> #REF! | T40: =COUNTIF(#REF!,Parameters!B35) -> #REF! | U40: =COUNTIF(#REF!,Parameters!B35) -> #REF! | V40: =COUNTIF(#REF!,Parameters!B35) -> #REF! | W40: =COUNTIF(#REF!,Parameters!B35) -> #REF! | X40: =COUNTIF(#REF!,Parameters!B35) -> #REF! | Y40: =COUNTIF(#REF!,Parameters!B35) -> #REF! | Z40: =COUNTIF(#REF!,Parameters!B35) -> #REF! | AA40: =COUNTIF(#REF!,Parameters!B35) -> #REF! | AB40: =COUNTIF(#REF!,Parameters!B35) -> #REF! | AC40: =COUNTIF(#REF!,Parameters!B35) -> #REF! | AD40: =COUNTIF(#REF!,Parameters!B35) -> #REF! | AE40: =COUNTIF(#REF!,Parameters!B35) -> #REF!
B41: 37 | C41: Wan Muhklis Wan Harun | D41: Senior Mechanic (Hydraulic) | E41: =SUM(F41:Q41) -> #REF! | F41: =COUNTIF(#REF!,Parameters!B36) -> #REF! | G41: =COUNTIF(#REF!,Parameters!B36) -> #REF! | H41: =COUNTIF(#REF!,Parameters!B36) -> #REF! | I41: =COUNTIF(#REF!,Parameters!B50) -> #REF! | J41: =COUNTIF(#REF!,Parameters!B50) -> #REF! | K41: =COUNTIF(#REF!,Parameters!B50) -> #REF! | L41: =COUNTIF(#REF!,Parameters!B50) -> #REF! | M41: =COUNTIF(#REF!,Parameters!B50) -> #REF! | N41: =COUNTIF(#REF!,Parameters!B50) -> #REF! | O41: =COUNTIF(#REF!,Parameters!B50) -> #REF! | P41: =COUNTIF(#REF!,Parameters!B50) -> #REF! | Q41: =COUNTIF(#REF!,Parameters!B50) -> #REF! | S41: =SUM(T41:AE41) -> #REF! | T41: =COUNTIF(#REF!,Parameters!B36) -> #REF! | U41: =COUNTIF(#REF!,Parameters!B36) -> #REF! | V41: =COUNTIF(#REF!,Parameters!B36) -> #REF! | W41: =COUNTIF(#REF!,Parameters!B36) -> #REF! | X41: =COUNTIF(#REF!,Parameters!B36) -> #REF! | Y41: =COUNTIF(#REF!,Parameters!B36) -> #REF! | Z41: =COUNTIF(#REF!,Parameters!B36) -> #REF! | AA41: =COUNTIF(#REF!,Parameters!B36) -> #REF! | AB41: =COUNTIF(#REF!,Parameters!B36) -> #REF! | AC41: =COUNTIF(#REF!,Parameters!B36) -> #REF! | AD41: =COUNTIF(#REF!,Parameters!B36) -> #REF! | AE41: =COUNTIF(#REF!,Parameters!B36) -> #REF!
...

Sheet JAN
B2: HAZARD HUNT SUMMARY REPORT JANUARY 2024
N4: TOTAL : | Q4: =S8+S64+S80+S83+S97 -> 104 | S4: SUBMISSION
A6: No | B6: Description of Observation | C6: Client | D6: Platform | E6: Location | F6: Owner | G6: Dated | H6: Observation | I6: Observation | R6: Act | V6: Description of Act | W6: Status
I7: unsafe condition | J7: positive Observation | K7: safety suggestion | L7: security | M7: unsafe behaviour | N7: near miss | O7: issue concern | P7: others | R7: Corrective action | S7: Stop Job/Task | T7: Positive Intervention | U7: Review procedure/JSA | W7: Closed | X7: Open
A8: *Location : BARONIA-INDIA & ALPHA PCSB SKA-QEM | S8: =G63 -> 54 | U8: SUBMISSION
A9: 1 | B9: Observed all personnel using proper technique when using the swing rope.Perform tug test,place hands above the knots,swing when the waves are at the peak and only jump when confident. | C9: SKA-QEM | D9: BARONIA INDIA | E9: BARONIA INDIA | F9: Abdul Halim | G9: 45292 | H9: positive behaviour | J9: 1 | T9: 1 | V9: Swing when the waves are at the peak and only jump when confident.
A10: 2 | B10: Observed personnel service and store all hand tools properly after use.good housekeeping. | C10: SKA-QEM | D10: BARONIA INDIA | E10: BARONIA INDIA | F10: Abdul Halim | G10: 45293 | H10: positive behaviour | J10: 1 | T10: 1 | V10: Service and store all hand tools properly after use.good housekeeping.
A11: 3 | B11: Observed personnel holding the handrails while going down to platform boat landing. | C11: SKA-QEM | D11: BARONIA INDIA | E11: BARONIA INDIA | F11: Abdul Halim | G11: 45294 | H11: positive behaviour | J11: 1 | T11: 1 | V11: Holding the handrails while going down to platform boat landing.
A12: 4 | B12: Observed personnel conducting toolbox talk prior to starting work.All personnel understand the hazard and competent with their task. | C12: SKA-QEM | D12: BARONIA INDIA | E12: BARONIA INDIA | F12: Abdul Halim | G12: 45295 | H12: positive behaviour | J12: 1 | T12: 1 | V12: Personnel understand the hazard and competent with their task.
A13: 5 | B13: Observed proper taglines being installed on the equipment that are doing to be lifted. | C13: SKA-QEM | D13: BARONIA INDIA | E13: BARONIA INDIA | F13: Abdul Halim | G13: 45296 | H13: positive behaviour | J13: 1 | T13: 1 | V13: Proper taglines being installed on the equipment that are doing to be lifted.
A14: 6 | B14: Observed good communication between banksman and crane operator in a lifting operation. | C14: SKA-QEM | D14: BARONIA INDIA | E14: BARONIA INDIA | F14: Abdul Halim | G14: 45297 | H14: positive behaviour | J14: 1 | T14: 1 | V14: Conduct lifting planning and make sure good communication between banksman and crane operator.
A15: 7 | B15: Good teamwork from all crew to perform housekeeping at wireline deck. | C15: SKA-QEM | D15: BARONIA INDIA | E15: BARONIA INDIA | F15: Abdul Halim | G15: 45298 | H15: positive behaviour | J15: 1 | T15: 1 | V15: Perform housekeeping and make sure no more hazard.
A16: 8 | B16: observed personnel cleaning diesel fuel spill to avoid slippery condition. | C16: SKA-QEM | D16: BARONIA INDIA | E16: BARONIA INDIA | F16: Abdul Halim | G16: 45299 | H16: positive behaviour | J16: 1 | T16: 1 | V16: Cleaning diesel fuel spill to avoid slippery condition.
A17: 9 | B17: Observed personnel wearing ear muff before Slickline Delium bleeding off pressure from lubricator,that produce high noise,it can cause hearing damage. | C17: SKA-QEM | D17: BARONIA INDIA | E17: BARONIA INDIA | F17: Abdul Halim | G17: 45300 | H17: positive behaviour | J17: 1 | T17: 1 | V17: always use propper PPE.
A18: 10 | B18: Obseved remind personnel not to rush dessending or ascendingthe stairto avoid slip and fall. | C18: SKA-QEM | D18: BARONIA INDIA | E18: BARONIA INDIA | F18: Abdul Halim | G18: 45301 | H18: positive behaviour | J18: 1 | T18: 1 | V18: not to rush dessending or ascendingthe stair
A19: 11 | B19: Observed personel using full PPE before mobilizing to field | C19: SKA-QEM | D19: BARONIA INDIA | E19: BARONIA INDIA | F19: Razwan Roslan | G19: 45292 | H19: positive behaviour | J19: 1 | T19: 1 | V19: Positive Behaviour
A20: 12 | B20: Observed personnel using check the swing rope condition before proceeding boat transfer | C20: SKA-QEM | D20: BARONIA INDIA | E20: BARONIA INDIA | F20: Razwan Roslan | G20: 45293 | H20: positive behaviour | J20: 1 | T20: 1 | V20: Good safety practice
A21: 13 | B21: Observed water spill on the messroom | C21: SKA-QEM | D21: BARONIA INDIA | E21: BARONIA INDIA | F21: Razwan Roslan | G21: 45294 | H21: unsafe condition | I21: 1 | R21: 1 | V21: immidiately clean the floor
A22: 14 | B22: Found dirty oil absorbent pad on maindeck | C22: SKA-QEM | D22: BARONIA INDIA | E22: BARONIA INDIA | F22: Razwan Roslan | G22: 45295 | H22: unsafe condition | I22: 1 | R22: 1 | V22: collect the dirty pad and throw into the designated scheduled waste bin
A23: 15 | B23: Observed water pooling on the maindeck area | C23: SKA-QEM | D23: BARONIA INDIA | E23: BARONIA INDIA | F23: Razwan Roslan | G23: 45296 | H23: unsafe condition | I23: 1 | R23: 1 | V23: Mop and wipe the area
A24: 16 | B24: Handtools scattered and not placed correctly | C24: SKA-QEM | D24: BARONIA INDIA | E24: BARONIA INDIA | F24: Razwan Roslan | G24: 45297 | H24: unsafe condition | I24: 1 | R24: 1 | V24: housekeeping and keep the handtools in the toolbox properly
A25: 17 | B25: Observed oil on maindeck near BOP | C25: SKA-QEM | D25: BARONIA INDIA | E25: BARONIA INDIA | F25: Razwan Roslan | G25: 45298 | H25: unsafe condition | I25: 1 | R25: 1 | V25: immidiately clean and wipe out the area
A26: 18 | B26: Observed personnel do housekeeping before breaktime | C26: SKA-QEM | D26: BARONIA INDIA | E26: BARONIA INDIA | F26: Razwan Roslan | G26: 45299 | H26: positive behaviour | J26: 1 | T26: 1 | V26: Good safety practice
A27: 19 | B27: Observed personnel use buddy system when handling load | C27: SKA-QEM | D27: BARONIA INDIA | E27: BARONIA INDIA | F27: Razwan Roslan | G27: 45300 | H27: positive behaviour | J27: 1 | T27: 1 | V27: Good safety Practice
A28: 20 | B28: Personnel reminding crew to check their safety equipment condition before going out to work | C28: SKA-QEM | D28: BARONIA INDIA | E28: BARONIA INDIA | F28: Razwan Roslan | G28: 45301 | H28: positive behaviour | J28: 1 | T28: 1 | V28: Good reminder
A29: 21 | B29: Observed personnel attending morning meeting on time | C29: SKA-QEM | D29: BARONIA INDIA | E29: BARONIA INDIA | F29: Razwan Roslan | G29: 45302 | H29: positive behaviour | J29: 1 | T29: 1 | V29: this is a good practice which avoid wasting time
A30: 22 | B30: Observed personnel clean the table after use at messroom | C30: SKA-QEM | D30: BARONIA INDIA | E30: BARONIA INDIA | F30: Razwan Roslan | G30: 45303 | H30: positive behaviour | J30: 1 | T30: 1 | V30: Good practice
A31: 23 | B31: Observed personnel wash their hand after lunch at messroom | C31: SKA-QEM | D31: BARONIA INDIA | E31: BARONIA INDIA | F31: Razwan Roslan | G31: 45304 | H31: positive behaviour | J31: 1 | T31: 1 | V31: Good Hygene
A32: 24 | B32: Observed personnel use proper body posture when handling load | C32: SKA-QEM | D32: BARONIA INDIA | E32: BARONIA INDIA | F32: Razwan Roslan | G32: 45305 | H32: positive behaviour | J32: 1 | T32: 1 | V32: Good safety practice
A33: 25 | B33: Personnel reminding crew to monitor and check blood pressure | C33: SKA-QEM | D33: BARONIA INDIA | E33: BARONIA INDIA | F33: Razwan Roslan | G33: 45306 | H33: positive behaviour | J33: 1 | T33: 1 | V33: Good advice to follow
A34: 26 | B34: Personnel reminding all crew to wear chin strap during strong wind | C34: SKA-QEM | D34: BARONIA INDIA | E34: BARONIA INDIA | F34: Razwan Roslan | G34: 45307 | H34: positive behaviour | J34: 1 | T34: 1 | V34: Good reminder
A35: 27 | B35: Personnel reminding all crew to wear chemical resistant glove then handling chemical degreaser | C35: SKA-QEM | D35: BARONIA INDIA | E35: BARONIA INDIA | F35: Razwan Roslan | G35: 45308 | H35: positive behaviour | J35: 1 | T35: 1 | V35: Good reminder
A36: 28 | B36: Personnel reminding crew to always stay hydrated | C36: SKA-QEM | D36: BARONIA INDIA | E36: BARONIA INDIA | F36: Razwan Roslan | G36: 45309 | H36: positive behaviour | J36: 1 | T36: 1 | V36: Good reminder
A37: 29 | B37: Observed personnel checking their safety boot condition | C37: SKA-QEM | D37: BARONIA INDIA | E37: BARONIA INDIA | F37: Razwan Roslan | G37: 45310 | H37: positive behaviour | J37: 1 | T37: 1 | V37: Good safety practice
A38: 30 | B38: Observed personnel using handrail when accending and decending the stairs. | C38: SKA-QEM | D38: BARONIA INDIA | E38: BARONIA INDIA | F38: Razwan Roslan | G38: 45311 | H38: positive behaviour | J38: 1 | T38: 1 | V38: Good Practice
A39: 31 | B39: Observed water ponding and maindeck area | C39: SKA-QEM | D39: BARONIA INDIA | E39: BARONIA INDIA | F39: Razwan Roslan | G39: 45312 | H39: unsafe condition | I39: 1 | R39: 1 | V39: immidiately clean the floor
A40: 32 | B40: Personnel reminding crew to check their life jacket condition | C40: SKA-QEM | D40: BARONIA INDIA | E40: BARONIA INDIA | F40: Razwan Roslan | G40: 45313 | H40: positive behaviour | J40: 1 | T40: 1 | V40: Good safety reminder
A41: 33 | B41: Personnel reminding crew to aware on other activity during operation | C41: SKA-QEM | D41: BARONIA INDIA | E41: BARONIA INDIA | F41: Razwan Roslan | G41: 45314 | H41: positive behaviour | J41: 1 | T41: 1 | V41: Good safety reminder
A42: 34 | B42: Observed personnel checking their Hard hat expiry date | C42: SKA-QEM | D42: BARONIA INDIA | E42: BARONIA INDIA | F42: Razwan Roslan | G42: 45315 | H42: positive behaviour | J42: 1 | T42: 1 | V42: Good safety practice
A43: 35 | B43: Personnel reminding crew to wear ear muff and ear plug to double the noise reduction | C43: SKA-QEM | D43: BARONIA INDIA | E43: BARONIA INDIA | F43: Razwan Roslan | G43: 45316 | H43: positive behaviour | J43: 1 | T43: 1 | V43: Very good reminder
...

Sheet FEB
B2: HAZARD HUNT SUMMARY REPORT FEBRUARY 2024
N4: TOTAL : | Q4: =S8+S18+S21+S56+S60+S13+S65+S100 -> 69 | S4: SUBMISSION
A6: No | B6: Description of Observation | C6: Client | D6: Platform | E6: Location | F6: Owner | G6: Dated | H6: Observation | I6: Observation | R6: Act | V6: Description of Act | W6: Status
I7: unsafe condition | J7: positive Observation | K7: safety suggestion | L7: security | M7: unsafe behaviour | N7: near miss | O7: issue concern | P7: others | R7: Corrective action | S7: Stop Job/Task | T7: Positive Intervention | U7: Review procedure/JSA | W7: Closed | X7: Open
A8: *Location : PCSB -QEM TUKAU A | S8: =G11 -> 2 | U8: SUBMISSION
A9: 1 | B9: observed personnel use ear plug when arriving at Quaters Platform | C9: SKA-QEM | D9: TUKAU A | E9: TUKAU A | F9: Razwan Roslan | G9: 45341 | H9: positive behaviour | J9: 1 | T9: 1 | V9: good safety practice
A10: 2 | B10: observed personnel test the swing rope during boat transfer | C10: SKA-QEM | D10: TUKAU A | E10: TUKAU A | F10: Azham Hamalee | G10: 45341 | H10: positive behaviour | J10: 1 | T10: 1 | V10: good safety practice
G11: =SUM(I11:P11) -> 2 | I11: =SUM(I9:I10) -> 0 | J11: =SUM(J9:J10) -> 2 | K11: =SUM(K9:K10) -> 0 | L11: =SUM(L9:L10) -> 0 | M11: =SUM(M9:M10) -> 0 | N11: =SUM(N9:N10) -> 0 | O11: =SUM(O9:O10) -> 0 | P11: =SUM(P9:P10) -> 0
A13: *Location : PCSB -QEM WEST LUTONG | S13: =G16 -> 2 | U13: SUBMISSION
A14: 1 | B14: observed personnel wearing H2S meter and bring the SCBA before entering H2S area | C14: SKA-QEM | D14: WEST LUTONG | E14: WEST LUTONG | F14: Razwan Roslan | G14: 45342 | H14: positive behaviour | J14: 1 | T14: 1 | V14: good safety practice
A15: 2 | B15: Personnel reminding crew to check their safety boot condition | C15: SKA-QEM | D15: WEST LUTONG | E15: WEST LUTONG | F15: Azham Hamalee | G15: 45342 | H15: positive behaviour | J15: 1 | T15: 1 | V15: good reminder
G16: =SUM(I16:P16) -> 2 | I16: =SUM(I14:I15) -> 0 | J16: =SUM(J14:J15) -> 2 | K16: =SUM(K14:K15) -> 0 | L16: =SUM(L14:L15) -> 0 | M16: =SUM(M14:M15) -> 0 | N16: =SUM(N14:N15) -> 0 | O16: =SUM(O14:O15) -> 0 | P16: =SUM(P14:P15) -> 0
A18: *Location : PCSB -QEM BARONIA A | S18: =G20 -> 0 | U18: SUBMISSION
A19: 1 | B19: NA
G20: =SUM(I20:P20) -> 0 | I20: =SUM(I19:I19) -> 0 | J20: =SUM(J19:J19) -> 0 | K20: =SUM(K19:K19) -> 0 | L20: =SUM(L19:L19) -> 0 | M20: =SUM(M19:M19) -> 0 | N20: =SUM(N19:N19) -> 0 | O20: =SUM(O19:O19) -> 0 | P20: =SUM(P19:P19) -> 0
A21: *Location : PCSB -QEM BARONIA INDIA | S21: =G55 -> 33 | U21: SUBMISSION
A22: 1 | B22: Personnel reminding crew to use impact glove during manual handling | C22: SKA-QEM | D22: BARONIA INDIA | E22: BARONIA INDIA | F22: Jacob Jimbat | G22: 45340 | H22: positive behaviour | J22: 1 | T22: 1
A23: 2 | B23: Observe all crew having a great communication during Rig-Down 70ft telescopic hydraulic mast | C23: SKA-QEM | D23: BARONIA INDIA | E23: BARONIA INDIA | F23: Keith Ramba | G23: 45340 | H23: positive behaviour | J23: 1 | T23: 1
A24: 3 | B24: Observe all crew wear ear plug | C24: SKA-QEM | D24: BARONIA INDIA | E24: BARONIA INDIA | F24: Jacob Jimbat | G24: 45338 | H24: positive behaviour | J24: 1 | T24: 1
A25: 4 | B25: Personnel reminding all crew to wear suitable hand glove during work on the platform | C25: SKA-QEM | D25: BARONIA INDIA | E25: BARONIA INDIA | F25: Keith Ramba | G25: 45338 | H25: positive behaviour | J25: 1 | T25: 1
A26: 5 | B26: Personnel reminding all crew to hold swing rope tidely during boat transfer | C26: SKA-QEM | D26: BARONIA INDIA | E26: BARONIA INDIA | F26: Jacob Jimbat | G26: 45337 | H26: positive behaviour | J26: 1 | T26: 1
A27: 6 | B27: Observe personnel sweeping floor at the pantry to maintain a good hygene | C27: SKA-QEM | D27: BARONIA INDIA | E27: BARONIA INDIA | F27: Keith Ramba | G27: 45337 | H27: positive behaviour | J27: 1 | T27: 1
A28: 7 | B28: Personel reminded crew to check safety boot condition | C28: SKA-QEM | D28: BARONIA INDIA | E28: BARONIA INDIA | F28: Jacob Jimbat | G28: 45336 | H28: positive behaviour | J28: 1 | T28: 1
A29: 8 | B29: Personnel reminding crew to becareful of potential slip area during this rainy days | C29: SKA-QEM | D29: BARONIA INDIA | E29: BARONIA INDIA | F29: Keith Ramba | G29: 45336 | H29: positive behaviour | J29: 1 | T29: 1
A30: 9 | B30: Personnel reminding all crew to use stop work policy when observing unsafe condition/act during operation | C30: SKA-QEM | D30: BARONIA INDIA | E30: BARONIA INDIA | F30: Jacob Jimbat | G30: 45334 | H30: positive behaviour | J30: 1 | T30: 1
A31: 10 | B31: Personnel reminding all crew to check tagline condition before using it and replace if it is unsafe | C31: SKA-QEM | D31: BARONIA INDIA | E31: BARONIA INDIA | F31: Keith Ramba | G31: 45334 | H31: positive behaviour | J31: 1 | T31: 1
A32: 11 | B32: Personnel reminding all crew to always aware on lifting operation | C32: SKA-QEM | D32: BARONIA INDIA | E32: BARONIA INDIA | F32: Jacob Jimbat | G32: 45333 | H32: positive behaviour | J32: 1 | T32: 1
A33: 12 | B33: Personel reminding crew on pinch point area | C33: SKA-QEM | D33: BARONIA INDIA | E33: BARONIA INDIA | F33: Keith Ramba | G33: 45333 | H33: positive behaviour | J33: 1 | T33: 1
... A54: 33 | B54: personnel reminding all crew to aware on weather forecast on weather changing | C54: SKA-QEM | D54: BARONIA INDIA | E54: BARONIA INDIA | F54: Keith Ramba | G54: 45325 | H54: positive behaviour | J54: 1 | T54: 1
G55: =SUM(I55:P55) -> 33 | I55: =SUM(I21:I54) -> 0 | J55: =SUM(J22:J54) -> 33 | K55: =SUM(K22:K29) -> 0 | L55: =SUM(L22:L29) -> 0 | M55: =SUM(M22:M54) -> 0 | N55: =SUM(N22:N29) -> 0 | O55: =SUM(O22:O29) -> 0 | P55: =SUM(P22:P29) -> 0
A56: *Location : PCSB -QEM BARAM A | S56: =G59 -> 0 | U56: SUBMISSION
A57: 1 | B57: NA
A58: 2
