Workbook
Name \A: '[1]Run Sheet'!#REF!
Name \A: '[1]Run Sheet'!#REF!
Name \B: #REF!
Name \B: #REF!
Name \C: '[1]Run Sheet'!#REF!
Name \C: '[1]Run Sheet'!#REF!
Name \D: '[1]Run Sheet'!#REF!
Name \D: '[1]Run Sheet'!#REF!
Name \E: '[1]Run Sheet'!#REF!
Name \E: '[1]Run Sheet'!#REF!
Name \f: '[2]Run Sheet'!#REF!
Name \f: '[2]Run Sheet'!#REF!
Name \g: '[2]Run Sheet'!#REF!
Name \g: '[2]Run Sheet'!#REF!
Name \h: '[2]Run Sheet'!#REF!
Name \h: '[2]Run Sheet'!#REF!
Name \I: '[1]Run Sheet'!#REF!
Name \I: '[1]Run Sheet'!#REF!
Name \J: '[1]Run Sheet'!#REF!
Name \J: '[1]Run Sheet'!#REF!
Name \L: '[1]Run Sheet'!#REF!
Name \L: '[1]Run Sheet'!#REF!
Name \N: '[1]Run Sheet'!#REF!
Name \N: '[1]Run Sheet'!#REF!
Name \q: '[3]Run Sheet'!#REF!
Name \q: '[3]Run Sheet'!#REF!
Name \r: #REF!
Name \r: #REF!
Name \r: #REF!
Name \V: #REF!
Name \V: #REF!
Name \X: '[1]Run Sheet'!#REF!
Name \X: '[1]Run Sheet'!#REF!
Name \Z: '[1]Run Sheet'!#REF!
Name \Z: '[1]Run Sheet'!#REF!
Name _01_Oil: #REF!
Name _01_Oil: #REF!
Name _1338_cmt_calc: [5]CMT!$A$56:$L$110
Name _1858_cmt_calc: [5]CMT!$A$3:$L$55
Name _958_cmt_calc: [5]CMT!$A$111:$L$165
Name _pg1: [6]Schedule!#REF!
Name _pg1: [7]Schedule!#REF!
Name _pg1: [6]Schedule!#REF!
Name _pg2: [8]WSPLAN!#REF!
Name _pg2: [9]WSPLAN!#REF!
Name _pg2: [8]WSPLAN!#REF!
Name A: [8]WSPLAN!#REF!
Name ACID_STIM: [6]Schedule!#REF!
Name ACID_STIM: [7]Schedule!#REF!
Name ACID_STIM: [6]Schedule!#REF!
Name BDFile: #REF!
Name BDFile: #REF!
Name bhr: #REF!
Name bhr: #REF!
Name BHRR: #REF!
Name BHRR: #REF!
Name BlFl: #REF!
Name BlFl: #REF!
Name CC____CWS_OPN_SUPTs_MKM_Resv_Engs.: [8]WSPLAN!#REF!
Name CC____CWS_OPN_SUPTs_MKM_Resv_Engs.: [9]WSPLAN!#REF!

Sheet 0000

Sheet Input
B3: Survey Details | F3: Gas-Lift Depth | K3: Dir. Drilling Survey
B4: Client | C4: VPSB | F4: GLM | G4: Depth (m MDDF) | H4: Depth (m TVDBDF) | I4: Depth (ft TVDBDF) | K4: m MDBDF | L4: m TVDBDF | M4: m MDBDF
B5: Field | C5: Larut-A | F5: GLM #1 | G5: 655.7 | H5: {=((G5-MAX(IF(K:K<G5,K:K)))/(MAX(IF(K:K<G5,K:K))-MIN(IF(K:K>G5,K:K))))*(VLOOKUP(MAX(IF(K:K<G5,K:K)),K:L,2,FALSE)-VLOOKUP(MIN(IF(K:K>G5,K:K)),K:L,2,FALSE))+ VLOOKUP(MAX(IF(K:K<G5,K:K)),K:L,2,FALSE)} -> 629.67845 | I5: =H5*3.281 -> 2065.975 | K5: 0 | L5: 0 | M5: =Table1[[#This Row],[m MDBDF]] -> 0
B6: Well Name | C6: A-22U | F6: GLM #2 | G6: 1057.5 | H6: {=((G6-MAX(IF(K:K<G6,K:K)))/(MAX(IF(K:K<G6,K:K))-MIN(IF(K:K>G6,K:K))))*(VLOOKUP(MAX(IF(K:K<G6,K:K)),K:L,2,FALSE)-VLOOKUP(MIN(IF(K:K>G6,K:K)),K:L,2,FALSE))+ VLOOKUP(MAX(IF(K:K<G6,K:K)),K:L,2,FALSE)} -> 991.79485 | I6: =H6*3.281 -> 3254.0789 | K6: 2.29 | L6: 2.29 | M6: =Table1[[#This Row],[m MDBDF]] -> 2.29
B7: Survey Type | C7: SGS | F7: GLM #3 | G7: 1421.9 | H7: {=((G7-MAX(IF(K:K<G7,K:K)))/(MAX(IF(K:K<G7,K:K))-MIN(IF(K:K>G7,K:K))))*(VLOOKUP(MAX(IF(K:K<G7,K:K)),K:L,2,FALSE)-VLOOKUP(MIN(IF(K:K>G7,K:K)),K:L,2,FALSE))+ VLOOKUP(MAX(IF(K:K<G7,K:K)),K:L,2,FALSE)} -> 1321.7845 | I7: =H7*3.281 -> 4336.7749 | K7: 42.29 | L7: 42.29 | M7: =Table1[[#This Row],[m MDBDF]] -> 42.29
B8: Survey Date | C8: 43433 | F8: GLM #4 | G8: 1813.1 | H8: {=((G8-MAX(IF(K:K<G8,K:K)))/(MAX(IF(K:K<G8,K:K))-MIN(IF(K:K>G8,K:K))))*(VLOOKUP(MAX(IF(K:K<G8,K:K)),K:L,2,FALSE)-VLOOKUP(MIN(IF(K:K>G8,K:K)),K:L,2,FALSE))+ VLOOKUP(MAX(IF(K:K<G8,K:K)),K:L,2,FALSE)} -> 1628.5813 | I8: =H8*3.281 -> 5343.3751 | K8: 72.29 | L8: 72.29 | M8: =Table1[[#This Row],[m MDBDF]] -> 72.29
B9: Survey Depth | C9: 2295 | D9: m MDDF | F9: GLM #5 | G9: 2243.8 | H9: {=((G9-MAX(IF(K:K<G9,K:K)))/(MAX(IF(K:K<G9,K:K))-MIN(IF(K:K>G9,K:K))))*(VLOOKUP(MAX(IF(K:K<G9,K:K)),K:L,2,FALSE)-VLOOKUP(MIN(IF(K:K>G9,K:K)),K:L,2,FALSE))+ VLOOKUP(MAX(IF(K:K<G9,K:K)),K:L,2,FALSE)} -> 1869.713 | I9: =H9*3.281 -> 6134.5285 | K9: 102.29 | L9: 102.29 | M9: =Table1[[#This Row],[m MDBDF]] -> 102.29
B10: THP | C10: 450 | D10: psi | K10: 112.29 | L10: 112.29 | M10: =Table1[[#This Row],[m MDBDF]] -> 112.29
B11: PCP | C11: 232 | D11: psi | K11: 122.29 | L11: 122.29 | M11: =Table1[[#This Row],[m MDBDF]] -> 122.29
B12: Engineer | C12: Azrul | K12: 132.29 | L12: 132.28 | M12: =Table1[[#This Row],[m MDBDF]] -> 132.29
B13: Sampling rate | C13: 5 sec/sample | K13: 142.29 | L13: 142.28 | M13: =Table1[[#This Row],[m MDBDF]] -> 142.29
K14: 152.29 | L14: 152.26 | M14: =Table1[[#This Row],[m MDBDF]] -> 152.29
K15: 162.29 | L15: 162.23 | M15: =Table1[[#This Row],[m MDBDF]] -> 162.29
B16: Gauge Details | F16: Reservoir | K16: 167.29 | L16: 167.21 | M16: =Table1[[#This Row],[m MDBDF]] -> 167.29
B17: Top Gauge S/N | C17: 9246 | F17: Sand | G17: I-68M | K17: 218.4 | L17: 218.08 | M17: =Table1[[#This Row],[m MDBDF]] -> 218.4
B18: Max Pressure | C18: 2553.337 | D18: psi | F18: Datum TVDSS | G18: 1850 | H18: m | K18: 246.85 | L18: 246.29 | M18: =Table1[[#This Row],[m MDBDF]] -> 246.85
B19: Max Temp | C19: 233.418 | D19: degF | F19: Datum MDBDF | G19: {=(((VLOOKUP(MIN(IF(L:L>(C27+G18),L:L)),L:M,2,FALSE)-VLOOKUP(MAX(IF(L:L<(C27+G18),L:L)),L:M,2,FALSE))/((MIN(IF(L:L>(C27+G18),L:L)))-(MAX(IF(L:L<(C27+G18),L:L)))))*((G18+C27)-(MAX(IF(L:L<(C27+G18),L:L)))))+(VLOOKUP(MAX(IF(L:L<(C27+G18),L:L)),L:M,2,FALSE))} -> 2279.8229 | H19: m | K19: 275.89 | L19: 274.91 | M19: =Table1[[#This Row],[m MDBDF]] -> 275.89
K20: 304.67 | L20: 303.05 | M20: =Table1[[#This Row],[m MDBDF]] -> 304.67
B21: Bottom Gauge S/N | C21: 9084 | K21: 332.42 | L21: 329.96 | M21: =Table1[[#This Row],[m MDBDF]] -> 332.42
B22: Max Pressure | C22: 2553.506 | D22: psi | F22: Producing Zone | K22: 361.99 | L22: 358.39 | M22: =Table1[[#This Row],[m MDBDF]] -> 361.99
B23: Max Temp | C23: 233.418 | D23: degF | F23: Sand | G23: Top (m MDDF) | H23: Bottom (m MDDF) | I23: Mid (m MDDF) | K23: 390.76 | L23: 385.78 | M23: =Table1[[#This Row],[m MDBDF]] -> 390.76
F24: I-68M | G24: 2325 | H24: 2350 | I24: =(G24+H24)/2 -> 2337.5 | K24: 418.91 | L24: 412.35 | M24: =Table1[[#This Row],[m MDBDF]] -> 418.91
B25: Completion Details | K25: 448.07 | L25: 439.72 | M25: =Table1[[#This Row],[m MDBDF]] -> 448.07
B26: BDF to THF | C26: 17.28 | D26: m | K26: 476.7 | L26: 466.46 | M26: =Table1[[#This Row],[m MDBDF]] -> 476.7
B27: BDF to SS | C27: 37.2 | D27: m | K27: 505.3 | L27: 493.01 | M27: =Table1[[#This Row],[m MDBDF]] -> 505.3
B28: Max Deviation | C28: 61.5 | D28: deg | K28: 533.6 | L28: 519.11 | M28: =Table1[[#This Row],[m MDBDF]] -> 533.6
B29: No Go Depth | C29: 2294.6 | D29: m MDDF | K29: 562.85 | L29: 545.85 | M29: =Table1[[#This Row],[m MDBDF]] -> 562.85
B30: Tubing | C30: 2-7/8" | K30: 591.1 | L30: 571.41 | M30: =Table1[[#This Row],[m MDBDF]] -> 591.1
B31: Well Type | C31: Oil Producer | K31: 619.78 | L31: 597.26 | M31: =Table1[[#This Row],[m MDBDF]] -> 619.78
K32: 648.6 | L32: 623.25 | M32: =Table1[[#This Row],[m MDBDF]] -> 648.6
B33: RIH to set depth | C33: 65 | D33: min | K33: 677.04 | L33: 649 | M33: =Table1[[#This Row],[m MDBDF]] -> 677.04
K34: 705.62 | L34: 674.91 | M34: =Table1[[#This Row],[m MDBDF]] -> 705.62
K35: 734.38 | L35: 700.9 | M35: =Table1[[#This Row],[m MDBDF]] -> 734.38
B36: Gradient Stop & Gauge Data | F36: Top Gauge | H36: Bottom Gauge | K36: 762.86 | L36: 726.61 | M36: =Table1[[#This Row],[m MDBDF]] -> 762.86
C37: MD | F37: Pressure | G37: Temp | H37: Pressure | I37: Temp | K37: 791.91 | L37: 752.87 | M37: =Table1[[#This Row],[m MDBDF]] -> 791.91
B38: DESCRIPTION | C38: m-RKB | D38: start | E38: end | F38: psia | G38: degF | H38: psia. | I38: degF. | K38: 820.67 | L38: 778.87 | M38: =Table1[[#This Row],[m MDBDF]] -> 820.67 | O38: Fluid level (SGS)
B39: Set Depth | C39: 2295 | D39: 0.64305556 | E39: 0.65694444 | F39: 1989.889 | G39: 253.671 | H39: 1989.158 | I39: 253.479 | K39: 849.35 | L39: 804.79 | M39: =Table1[[#This Row],[m MDBDF]] -> 849.35 | P39: ft tvdbdf | Q39: pressure | R39: deltaP
B40: 2nd Grad Stop | C40: 2253 | D40: 0.65902778 | E40: 0.6625 | F40: 1962.277 | G40: 253.671 | H40: 1962.02 | I40: 253.367 | K40: 878.12 | L40: 830.88 | M40: =Table1[[#This Row],[m MDBDF]] -> 878.12 | O40: eqn gas | P40: =(96.307*Q40)-42351 -> 2281.909 | Q40: 463.44408 | R40: =Q40-Q41 -> -2.427214e-11
B41: 3rd Grad Stop | C41: 2233 | D41: 0.66319444 | E41: 0.66666667 | F41: 1949.13 | G41: 253.213 | H41: 1948.994 | I41: 253.069 | K41: 906.63 | L41: 856.58 | M41: =Table1[[#This Row],[m MDBDF]] -> 906.63 | O41: eqn oil | P41: =(3.0641*Q41)+861.87 -> 2281.909 | Q41: 463.44408
B42: 4th Grad Stop | C42: 2100 | D42: 0.67152778 | E42: 0.675 | F42: 1861.222 | G42: 251.746 | H42: 1861.239 | I42: 251.024 | K42: 935.35 | L42: 882.37 | M42: =Table1[[#This Row],[m MDBDF]] -> 935.35
...

Sheet Cover Page
A18: INTERPRETATION REPORT
A19: =IF(Input!C7 = "SGS", ""&Input!C7&"",""&Input!C7&" ("&Input!C14&")") -> SGS
B27: Client | D27: : | E27: =IF(Input!C4 = "","",Input!C4) -> VPSB
B28: Field | D28: : | E28: =IF(Input!C5 = "","",Input!C5) -> Larut-A
B29: Well Name | D29: : | E29: =IF(Input!C6 = "","",Input!C6) -> A-22U
B30: Survey Date | D30: : | E30: =IF(Input!C8 = "","",Input!C8) -> 43433
A35: Service Company : DIMENSION BID (MALAYSIA) SDN. BHD

Sheet Table of Content
C8: Table of Content | F8: Page
B9: 1 | C9: Completion Sketch
B11: 2 | C11: SOE
B13: 3 | C13: Log Quality Check
B15: 4 | C15: Gradient Stop
B17: 5 | C17: Gradient Survey
B19: 6 | C19: TVD
B21: 7 | C21: =""&Input!C7&" Interpretation Result" -> SGS Interpretation Result
B23: 8 | C23: Graph
B25: 9 | C25: Findings and Conclusion
B27: 10 | C27: Results Graph
C29: 10.1 | D29: ="Results Graph #"&Input!C17&"" -> Results Graph #9246
C31: 10.2 | D31: ="Results Graph #"&Input!C21&"" -> Results Graph #9084
B33: 11 | C33: Daily Report
C35: 11.1 | D35: =IF(Input!C8 = "","",Input!C8) -> 43433
B37: 12 | C37: Pressure Monitor

Sheet Schematic

Sheet SOE
B7: ="SEQUENCE OF EVENTS: "&D10&" "&D14 -> SEQUENCE OF EVENTS: A-22U STATIC GRADIENT SURVEY
B8: Company | D8: =Input!C4 -> VPSB
B9: Field | D9: =Input!C5 -> Larut-A | N9: =IF(Input!C7="SGS","SITHP","FTHP") -> SITHP | O9: =Input!C10 -> 450 | P9: psi
B10: Well No | D10: =Input!C6 -> A-22U | N10: PCP | O10: =Input!C11 -> 232 | P10: psi
B11: Tubing | D11: =Input!C30 -> 2-7/8" | N11: THF to RKB | O11: =Input!C26 -> 17.28 | P11: m
B12: Well Type | D12: =Input!C31 -> Oil Producer | N12: Max Deviation | O12: =Input!C28 -> 61.5 | P12: deg
B13: Survey Date | D13: =Input!C8 -> 43433
B14: Survey Objective | D14: =IF(Input!C7="SGS","STATIC GRADIENT SURVEY","FLOWING GRADIENT SURVEY WITH "&Input!C14&" CHOKE SIZE") -> STATIC GRADIENT SURVEY
B15: Survey Duration | D15: =(-(B19)+B54)*24 -> 0 | E15: Hours
B17: Time (Hrs) | C17: Events | O17: Remarks
A22: 0.38472222
R28: ``
B55: Note:
B56: - | D56: All data successfully downloaded and good data obtained
D58: EMR Gauge | G58: : | I58: ="S/N "&Input!C17&" (Top)" -> S/N 9246 (Top) | N58: ="S/N "&Input!C21&" (Top)" -> S/N 9084 (Top)
D59: Max. Pressure | G59: : | I59: =Input!C18 -> 2553.337 | L59: psia | N59: =Input!C22 -> 2553.506 | O59: psia | R59: 0
D60: Max Temp | G60: : | I60: =Input!C19 -> 233.418 | L60: degF | N60: =Input!C23 -> 233.418 | O60: degF
D62: Prepared by: | M62: Client Representative:

Sheet LQC
A1: DIMENSION BID (M) SDN BHD
A2: DATA ACQUISITION SERVICES
A3: LOG QUALITY CHECK
A4: (This form is to be filled-up by Field Engineer prior to send EMR Final Report)
B6: CLIENT | C6: : | E6: =Input!C4 -> VPSB
B7: LOCATION | C7: : | E7: =Input!C5 -> Larut-A
B8: WELL | C8: : | E8: =Input!C6 -> A-22U
B9: JOB | C9: : | E9: =Input!C7 -> SGS
B10: DATE | C10: : | E10: =Input!C8 -> 43433
B11: SURVEY DEPTH | C11: : | E11: =""&Input!C9&" m MDBDF " -> 2295 m MDBDF
B13: 1. DOWNLOAD DATA
B14: a) Check Pressure Different For Both Gauges | J14: UPPER GAUGE : | M14: =""&Input!C18&" psi" -> 2553.337 psi | O14: LOWER GAUGE : | R14: =""&Input!C22&" psi" -> 2553.506 psi
B15: Max allowable different/Drift : 5 psia, | J15: No big different in either pressure or temperature reading between both gauges.
B16: if exceed please remarks:
B18: b) Check Anomalies (i.e. Pressure/ Temperature Spike, Noisy or Unexpected Reading ) On Plot For Both Gauges.
B19: YES | F19: Remarks : | H19: There was no anomalies in pressure or temperature reading for both gauges.
B20: NO | C20: X
B22: c) Check Pressure / Temperature Reading (Stabilize or Not At Each Gradient Stop)
B23: Explain If Pressure Reading | H23: The pressure reading was stabilized for every gradient stop and for the entire survey period for both gauges.
B24: Are Not Stabilize :
B26: d) Check PCP / SITHP / FTHP / SITHT / FTHT ( Start & End Of Survey )
C27: START | G27: END
B28: PCP
B29: SITHP
B30: FTHP
B31: SITHT
B32: FTHT
B34: 2. INTERPRETATION RESULTS
B35: a) Comparison Of Datum Pressure From | I35: Current Datum | K35: ='Interpretation '!I52 -> 1979.4672 | L35: psi | N35: Previous Datum
B36: Previous Survey Result : | I36: Pressure: | N36: Pressure :
B38: Datum Pressure Increase Or
B39: Decrease. Remarks :
B42: b) Comparison Of Fluid Gradient | I42: Static Gradient At | K42: ='Interpretation '!I49 -> 0.41237206 | L42: psi/ft | N42: Previous Fluid
B43: From Pressure Survey Result : | I43: Survey Depth : | N43: Gradient :
B45: Remarks : | H45: ="Static gradient at set depth, "&ROUND('Interpretation '!L43,4)&" ft TVDBDF @ "&ROUND('Interpretation '!K43,4)&" ft MDBDF" -> Static gradient at set depth, 6216.1086 ft TVDBDF @ 7529.895 ft MDBDF
A56: DIMENSION BID (M) SDN BHD
A57: DATA ACQUISITION SERVICES
A58: LOG QUALITY CHECK
B61: c) Comparison Of Mid Perf Pressure | I61: Current Mid-Perf | K61: ='Interpretation '!I51 -> 2017.778 | L61: psi | N61: Previous Mid -
B62: From Previous Survey : | I62: Pressure : | N62: Perf Pressure :
...

Sheet Gradient Stop
B1: GRADIENT STOP PERFORM
C2: m | D2: ft | I2: FIELD : | J2: =Input!C5 -> Larut-A
B3: BDF to BTHF | C3: =Input!C26 -> 17.28 | D3: =C3*3.281 -> 56.69568 | F3: =IF(Input!C7="SGS","SITHP","FTHP") -> SITHP | G3: =""&Input!C10&" psi" -> 450 psi | I3: WELL : | J3: =Input!C6 -> A-22U
B4: BDF to SS | C4: =Input!C27 -> 37.2 | D4: =C4*3.281 -> 122.0532 | F4: PCP | G4: =""&Input!C11&" psi" -> 232 psi | I4: ZONE : | J4: =Input!G17 -> I-68M
B5: THF D No Go | C5: =Input!C29-C3 -> 2277.32 | D5: =C5*3.281 -> 7471.8869 | F5: TOP GAUGE | G5: =Input!C17 -> 9246 | I5: JOB : | J5: =Input!C7 -> SGS
B6: Wireline D No Go | C6: =C5 -> 2277.32 | D6: =C6*3.281 -> 7471.8869 | F6: BOTT GAUGE | G6: =Input!C21 -> 9084 | I6: DATE : | J6: =Input!C8 -> 43433
B7: Fluid Level m MDBDF | C7: =Input!P44 -> 728.39554 | D7: =C7*3.281 -> 2389.8658 | I7: ENG : | J7: =Input!C12 -> Azrul
B10: OPERATION | C10: MD | D10: MD | E10: MD | F10: TIME (min) | H10: STATION STOP | I10: ESTIMATION | J10: REMARK
B11: DESCRIPTION | C11: m-THF | D11: m-RKB | E11: m-Wireline | F11: start | G11: end | H11: Duration (min) | I11: POOH (min) | J11: Sampling Rate
B12: =Input!B39 -> Set Depth | C12: =D12-$C$3 -> 2277.72 | D12: =Input!C39 -> 2295 | E12: =C12 -> 2277.72 | F12: =Input!D39 -> 0.64305556 | G12: =Input!E39 -> 0.65694444 | H12: =MOD(G12-F12,1) -> 0.013888889 | I12: =IF(F13="","",MOD(F13-G12,1)) -> 0.0020833333 | J12: =Input!$C$13 -> 5 sec/sample
B13: =Input!B40 -> 2nd Grad Stop | C13: =D13-$C$3 -> 2235.72 | D13: =Input!C40 -> 2253 | E13: =C13 -> 2235.72 | F13: =Input!D40 -> 0.65902778 | G13: =Input!E40 -> 0.6625 | H13: =MOD(G13-F13,1) -> 0.0034722222 | I13: =IF(F14="","",MOD(F14-G13,1)) -> 0.00069444444 | J13: =Input!$C$13 -> 5 sec/sample
B14: =Input!B41 -> 3rd Grad Stop | C14: =D14-$C$3 -> 2215.72 | D14: =Input!C41 -> 2233 | E14: =C14 -> 2215.72 | F14: =Input!D41 -> 0.66319444 | G14: =Input!E41 -> 0.66666667 | H14: =MOD(G14-F14,1) -> 0.0034722222 | I14: =IF(F15="","",MOD(F15-G14,1)) -> 0.0048611111 | J14: =Input!$C$13 -> 5 sec/sample
B15: =Input!B42 -> 4th Grad Stop | C15: =D15-$C$3 -> 2082.72 | D15: =Input!C42 -> 2100 | E15: =C15 -> 2082.72 | F15: =Input!D42 -> 0.67152778 | G15: =Input!E42 -> 0.675 | H15: =MOD(G15-F15,1) -> 0.0034722222 | I15: =IF(F16="","",MOD(F16-G15,1)) -> 0.0041666667 | J15: =Input!$C$13 -> 5 sec/sample
B16: =Input!B43 -> 5th Grad Stop | C16: =D16-$C$3 -> 1982.72 | D16: =Input!C43 -> 2000 | E16: =C16 -> 1982.72 | F16: =Input!D43 -> 0.67916667 | G16: =Input!E43 -> 0.68263889 | H16: =MOD(G16-F16,1) -> 0.0034722222 | I16: =IF(F17="","",MOD(F17-G16,1)) -> 0.0041666667 | J16: =Input!$C$13 -> 5 sec/sample
B17: =Input!B44 -> 6th Grad Stop | C17: =D17-$C$3 -> 1882.72 | D17: =Input!C44 -> 1900 | E17: =C17 -> 1882.72 | F17: =Input!D44 -> 0.68680556 | G17: =Input!E44 -> 0.69027778 | H17: =MOD(G17-F17,1) -> 0.0034722222 | I17: =IF(F18="","",MOD(F18-G17,1)) -> 0.0041666667 | J17: =Input!$C$13 -> 5 sec/sample
B18: =Input!B45 -> 7th Grad Stop | C18: =D18-$C$3 -> 1805.72 | D18: =Input!C45 -> 1823 | E18: =C18 -> 1805.72 | F18: =Input!D45 -> 0.69444444 | G18: =Input!E45 -> 0.69791667 | H18: =MOD(G18-F18,1) -> 0.0034722222 | I18: =IF(F19="","",MOD(F19-G18,1)) -> 0.00069444444 | J18: =Input!$C$13 -> 5 sec/sample
B19: =Input!B46 -> 8th Grad Stop | C19: =D19-$C$3 -> 1792.72 | D19: =Input!C46 -> 1810 | E19: =C19 -> 1792.72 | F19: =Input!D46 -> 0.69861111 | G19: =Input!E46 -> 0.70208333 | H19: =MOD(G19-F19,1) -> 0.0034722222 | I19: =IF(F20="","",MOD(F20-G19,1)) -> 0.0055555556 | J19: =Input!$C$13 -> 5 sec/sample
B20: =Input!B47 -> 9th Grad Stop | C20: =D20-$C$3 -> 1682.72 | D20: =Input!C47 -> 1700 | E20: =C20 -> 1682.72 | F20: =Input!D47 -> 0.70763889 | G20: =Input!E47 -> 0.71111111 | H20: =MOD(G20-F20,1) -> 0.0034722222 | I20: =IF(F21="","",MOD(F21-G20,1)) -> 0.0041666667 | J20: =Input!$C$13 -> 5 sec/sample
B21: =Input!B48 -> 10th Grad Stop | C21: =D21-$C$3 -> 1582.72 | D21: =Input!C48 -> 1600 | E21: =C21 -> 1582.72 | F21: =Input!D48 -> 0.71527778 | G21: =Input!E48 -> 0.71875 | H21: =MOD(G21-F21,1) -> 0.0034722222 | I21: =IF(F22="","",MOD(F22-G21,1)) -> 0.0041666667 | J21: =Input!$C$13 -> 5 sec/sample
B22: =Input!B49 -> 11th Grad Stop | C22: =D22-$C$3 -> 1482.72 | D22: =Input!C49 -> 1500 | E22: =C22 -> 1482.72 | F22: =Input!D49 -> 0.72291667 | G22: =Input!E49 -> 0.72638889 | H22: =MOD(G22-F22,1) -> 0.0034722222 | I22: =IF(F23="","",MOD(F23-G22,1)) -> 0.0034722222 | J22: =Input!$C$13 -> 5 sec/sample
B23: =Input!B50 -> 12th Grad Stop | C23: =D23-$C$3 -> 1413.72 | D23: =Input!C50 -> 1431 | E23: =C23 -> 1413.72 | F23: =Input!D50 -> 0.72986111 | G23: =Input!E50 -> 0.73333333 | H23: =MOD(G23-F23,1) -> 0.0034722222 | I23: =IF(F24="","",MOD(F24-G23,1)) -> 0.00069444444 | J23: =Input!$C$13 -> 5 sec/sample
... B37: =Input!B64 -> Lub | C37: =D37-$C$3 -> 0 | D37: =Input!C64 -> 17.28 | E37: =C37 -> 0 | F37: =Input!D64 -> 0.83263889 | G37: =Input!E64 -> 0.83958333 | H37: =MOD(G37-F37,1) -> 0.0069444444 | I37: =IF(F38="","",MOD(F38-G37,1)) | J37: =Input!$C$13 -> 5 sec/sample
B40: MAX RUNNING SPEED 30m/min!!!!
B41: TIME ESTIMATION | C41: (min) | D41: (hrs) | F41: RESULT | G41: Max Press (psi) | I41: Max Temp (degF)
B42: Total POOH | C42: =SUM(I12:I37)*24*60 -> 128 | D42: =C42/60 -> 2.1333333 | F42: Top Gauge | G42: =Input!C18 -> 2553.337 | I42: =Input!C19 -> 233.418
B43: Total RIH | C43: =Input!C33 -> 65 | D43: =C43/60 -> 1.0833333 | F43: =Input!C17 -> 9246
B44: Station Stop | C44: =SUM(H12:H37)*24*60 -> 155 | D44: =C44/60 -> 2.5833333 | F44: Bott Gauge | G44: =Input!C22 -> 2553.506 | I44: =Input!C23 -> 233.418
B45: Total Survey Running | C45: =SUM(C42:C44) -> 348 | D45: =C45/60 -> 5.8 | F45: =Input!C21 -> 9084

Sheet Gradient Survey
B1: Dimension Bid (M) Sdn Bhd
B3: ELECTRONIC DATA ACQUISITION
B5: GRADIENT SURVEY REPORT
B8: CLIENT | C8: =Input!C4 -> VPSB | E8: FIELD | F8: =Input!C5 -> Larut-A | H8: BDF to THF : | I8: =Input!C26 -> 17.28
B9: ENGINEER | C9: =Input!C12 -> Azrul | E9: WELL | F9: =Input!C6 -> A-22U | H9: UPPER GAUGE: | I9: =Input!C17 -> 9246
B10: DATE | C10: =Input!C8 -> 43433 | E10: SAND | F10: =Input!G17 -> I-68M | H10: LOWER GAUGE: | I10: =Input!C21 -> 9084
B12: OPERATION | C12: DEPTH | E12: =Input!C17 -> 9246 | G12: =Input!C21 -> 9084 | I12: AVERAGE
C13: MD | D13: MD | E13: PRESSURE | F13: TEMPERATURE | G13: PRESSURE | H13: TEMPERATURE | I13: PRESSURE | J13: TEMPERATURE
B14: DESCRIPTION | C14: m-RKB | D14: m-THF | E14: psia | F14: degF | G14: psia | H14: degF | I14: (psia) | J14: (degF)
B15: =Input!B39 -> Set Depth | C15: ='Gradient Stop'!D12 -> 2295 | D15: ='Gradient Stop'!C12 -> 2277.72 | E15: =Input!F39 -> 1989.889 | F15: =Input!G39 -> 253.671 | G15: =Input!H39 -> 1989.158 | H15: =Input!I39 -> 253.479 | I15: =SUM(E15,G15)/2 -> 1989.5235 | J15: =SUM(F15,H15)/2 -> 253.575
B16: =Input!B40 -> 2nd Grad Stop | C16: ='Gradient Stop'!D13 -> 2253 | D16: ='Gradient Stop'!C13 -> 2235.72 | E16: =Input!F40 -> 1962.277 | F16: =Input!G40 -> 253.671 | G16: =Input!H40 -> 1962.02 | H16: =Input!I40 -> 253.367 | I16: =SUM(E16,G16)/2 -> 1962.1485 | J16: =SUM(F16,H16)/2 -> 253.519
B17: =Input!B41 -> 3rd Grad Stop | C17: ='Gradient Stop'!D14 -> 2233 | D17: ='Gradient Stop'!C14 -> 2215.72 | E17: =Input!F41 -> 1949.13 | F17: =Input!G41 -> 253.213 | G17: =Input!H41 -> 1948.994 | H17: =Input!I41 -> 253.069 | I17: =SUM(E17,G17)/2 -> 1949.062 | J17: =SUM(F17,H17)/2 -> 253.141
B18: =Input!B42 -> 4th Grad Stop | C18: ='Gradient Stop'!D15 -> 2100 | D18: ='Gradient Stop'!C15 -> 2082.72 | E18: =Input!F42 -> 1861.222 | F18: =Input!G42 -> 251.746 | G18: =Input!H42 -> 1861.239 | H18: =Input!I42 -> 251.024 | I18: =SUM(E18,G18)/2 -> 1861.2305 | J18: =SUM(F18,H18)/2 -> 251.385
B19: =Input!B43 -> 5th Grad Stop | C19: ='Gradient Stop'!D16 -> 2000 | D19: ='Gradient Stop'!C16 -> 1982.72 | E19: =Input!F43 -> 1786.476 | F19: =Input!G43 -> 249.61 | G19: =Input!H43 -> 1786.595 | H19: =Input!I43 -> 248.704 | I19: =SUM(E19,G19)/2 -> 1786.5355 | J19: =SUM(F19,H19)/2 -> 249.157
B20: =Input!B44 -> 6th Grad Stop | C20: ='Gradient Stop'!D17 -> 1900 | D20: ='Gradient Stop'!C17 -> 1882.72 | E20: =Input!F44 -> 1703.908 | F20: =Input!G44 -> 246.745 | G20: =Input!H44 -> 1704.067 | H20: =Input!I44 -> 246.076 | I20: =SUM(E20,G20)/2 -> 1703.9875 | J20: =SUM(F20,H20)/2 -> 246.4105
B21: =Input!B45 -> 7th Grad Stop | C21: ='Gradient Stop'!D18 -> 1823 | D21: ='Gradient Stop'!C18 -> 1805.72 | E21: =Input!F45 -> 1635.582 | F21: =Input!G45 -> 244.925 | G21: =Input!H45 -> 1635.865 | H21: =Input!I45 -> 244.255 | I21: =SUM(E21,G21)/2 -> 1635.7235 | J21: =SUM(F21,H21)/2 -> 244.59
B22: =Input!B46 -> 8th Grad Stop | C22: ='Gradient Stop'!D19 -> 1810 | D22: ='Gradient Stop'!C19 -> 1792.72 | E22: =Input!F46 -> 1623.524 | F22: =Input!G46 -> 243.883 | G22: =Input!H46 -> 1623.617 | H22: =Input!I46 -> 243.399 | I22: =SUM(E22,G22)/2 -> 1623.5705 | J22: =SUM(F22,H22)/2 -> 243.641
B23: =Input!B47 -> 9th Grad Stop | C23: ='Gradient Stop'!D20 -> 1700 | D23: ='Gradient Stop'!C20 -> 1682.72 | E23: =Input!F47 -> 1517.466 | F23: =Input!G47 -> 240.801 | G23: =Input!H47 -> 1517.901 | H23: =Input!I47 -> 240.245 | I23: =SUM(E23,G23)/2 -> 1517.6835 | J23: =SUM(F23,H23)/2 -> 240.523
B24: =Input!B48 -> 10th Grad Stop | C24: ='Gradient Stop'!D21 -> 1600 | D24: ='Gradient Stop'!C21 -> 1582.72 | E24: =Input!F48 -> 1412.62 | F24: =Input!G48 -> 237.905 | G24: =Input!H48 -> 1412.914 | H24: =Input!I48 -> 236.759 | I24: =SUM(E24,G24)/2 -> 1412.767 | J24: =SUM(F24,H24)/2 -> 237.332
B25: =Input!B49 -> 11th Grad Stop | C25: ='Gradient Stop'!D22 -> 1500 | D25: ='Gradient Stop'!C22 -> 1482.72 | E25: =Input!F49 -> 1298.394 | F25: =Input!G49 -> 234.103 | G25: =Input!H49 -> 1299.023 | H25: =Input!I49 -> 232.658 | I25: =SUM(E25,G25)/2 -> 1298.7085 | J25: =SUM(F25,H25)/2 -> 233.3805
B26: =Input!B50 -> 12th Grad Stop | C26: ='Gradient Stop'!D23 -> 1431 | D26: ='Gradient Stop'!C23 -> 1413.72 | E26: =Input!F50 -> 1217.053 | F26: =Input!G50 -> 228.145 | G26: =Input!H50 -> 1217.644 | H26: =Input!I50 -> 225.382 | I26: =SUM(E26,G26)/2 -> 1217.3485 | J26: =SUM(F26,H26)/2 -> 226.7635
... B40: =Input!B64 -> Lub | C40: ='Gradient Stop'!D37 -> 17.28 | D40: ='Gradient Stop'!C37 -> 0 | E40: =Input!F64 -> 439.948 | F40: =Input!G64 -> 114.893 | G40: =Input!H64 -> 440.277 | H40: =Input!I64 -> 105.878 | I40: =SUM(E40,G40)/2 -> 440.1125 | J40: =SUM(F40,H40)/2 -> 110.3855

Sheet TVD
C1: m MDBDF | D1: m MDBDF1 | E1: m MDBDF2 | F1: m TVDBDF1 | G1: m TVDBDF2 | H1: m TVDBDF | I1: DESCRIPTION
C2: ='Gradient Survey'!C15 -> 2295 | D2: {=MAX(IF(Input!$K:$K<C2,Input!$K:$K))} -> 2288.44 | E2: {=MIN(IF(Input!$K:$K>C2,Input!$K:$K))} -> 2317.85 | F2: {=VLOOKUP(D2,Input!$K:$L,2,FALSE)} -> 1891.39 | G2: {=VLOOKUP(E2,Input!$K:$L,2,FALSE)} -> 1905.68 | H2: =((C2-D2)/(D2-E2))*(F2-G2)+F2 -> 1894.5774 | I2: ='Gradient Survey'!B15 -> Set Depth
C3: ='Gradient Survey'!C16 -> 2253 | D3: {=MAX(IF(Input!$K:$K<C3,Input!$K:$K))} -> 2230.23 | E3: {=MIN(IF(Input!$K:$K>C3,Input!$K:$K))} -> 2259.36 | F3: {=VLOOKUP(D3,Input!$K:$L,2,FALSE)} -> 1863.14 | G3: {=VLOOKUP(E3,Input!$K:$L,2,FALSE)} -> 1877.25 | H3: =((C3-D3)/(D3-E3))*(F3-G3)+F3 -> 1874.1693 | I3: ='Gradient Survey'!B16 -> 2nd Grad Stop
C4: ='Gradient Survey'!C17 -> 2233 | D4: {=MAX(IF(Input!$K:$K<C4,Input!$K:$K))} -> 2230.23 | E4: {=MIN(IF(Input!$K:$K>C4,Input!$K:$K))} -> 2259.36 | F4: {=VLOOKUP(D4,Input!$K:$L,2,FALSE)} -> 1863.14 | G4: {=VLOOKUP(E4,Input!$K:$L,2,FALSE)} -> 1877.25 | H4: =((C4-D4)/(D4-E4))*(F4-G4)+F4 -> 1864.4817 | I4: ='Gradient Survey'!B17 -> 3rd Grad Stop
C5: ='Gradient Survey'!C18 -> 2100 | D5: {=MAX(IF(Input!$K:$K<C5,Input!$K:$K))} -> 2083.03 | E5: {=MIN(IF(Input!$K:$K>C5,Input!$K:$K))} -> 2112.96 | F5: {=VLOOKUP(D5,Input!$K:$L,2,FALSE)} -> 1790.8 | G5: {=VLOOKUP(E5,Input!$K:$L,2,FALSE)} -> 1806.33 | H5: =((C5-D5)/(D5-E5))*(F5-G5)+F5 -> 1799.6053 | I5: ='Gradient Survey'!B18 -> 4th Grad Stop
C6: ='Gradient Survey'!C19 -> 2000 | D6: {=MAX(IF(Input!$K:$K<C6,Input!$K:$K))} -> 1996.88 | E6: {=MIN(IF(Input!$K:$K>C6,Input!$K:$K))} -> 2025.36 | F6: {=VLOOKUP(D6,Input!$K:$L,2,FALSE)} -> 1743.2 | G6: {=VLOOKUP(E6,Input!$K:$L,2,FALSE)} -> 1759.3 | H6: =((C6-D6)/(D6-E6))*(F6-G6)+F6 -> 1744.9638 | I6: ='Gradient Survey'!B19 -> 5th Grad Stop
C7: ='Gradient Survey'!C20 -> 1900 | D7: {=MAX(IF(Input!$K:$K<C7,Input!$K:$K))} -> 1882.14 | E7: {=MIN(IF(Input!$K:$K>C7,Input!$K:$K))} -> 1910.65 | F7: {=VLOOKUP(D7,Input!$K:$L,2,FALSE)} -> 1673.73 | G7: {=VLOOKUP(E7,Input!$K:$L,2,FALSE)} -> 1691.46 | H7: =((C7-D7)/(D7-E7))*(F7-G7)+F7 -> 1684.8369 | I7: ='Gradient Survey'!B20 -> 6th Grad Stop
C8: ='Gradient Survey'!C21 -> 1823 | D8: {=MAX(IF(Input!$K:$K<C8,Input!$K:$K))} -> 1796.15 | E8: {=MIN(IF(Input!$K:$K>C8,Input!$K:$K))} -> 1824.99 | F8: {=VLOOKUP(D8,Input!$K:$L,2,FALSE)} -> 1617.15 | G8: {=VLOOKUP(E8,Input!$K:$L,2,FALSE)} -> 1636.6 | H8: =((C8-D8)/(D8-E8))*(F8-G8)+F8 -> 1635.2579 | I8: ='Gradient Survey'!B21 -> 7th Grad Stop
C9: ='Gradient Survey'!C22 -> 1810 | D9: {=MAX(IF(Input!$K:$K<C9,Input!$K:$K))} -> 1796.15 | E9: {=MIN(IF(Input!$K:$K>C9,Input!$K:$K))} -> 1824.99 | F9: {=VLOOKUP(D9,Input!$K:$L,2,FALSE)} -> 1617.15 | G9: {=VLOOKUP(E9,Input!$K:$L,2,FALSE)} -> 1636.6 | H9: =((C9-D9)/(D9-E9))*(F9-G9)+F9 -> 1626.4906 | I9: ='Gradient Survey'!B22 -> 8th Grad Stop
C10: ='Gradient Survey'!C23 -> 1700 | D10: {=MAX(IF(Input!$K:$K<C10,Input!$K:$K))} -> 1680.97 | E10: {=MIN(IF(Input!$K:$K>C10,Input!$K:$K))} -> 1709.84 | F10: {=VLOOKUP(D10,Input!$K:$L,2,FALSE)} -> 1535.2 | G10: {=VLOOKUP(E10,Input!$K:$L,2,FALSE)} -> 1556.48 | H10: =((C10-D10)/(D10-E10))*(F10-G10)+F10 -> 1549.227 | I10: ='Gradient Survey'!B23 -> 9th Grad Stop
C11: ='Gradient Survey'!C24 -> 1600 | D11: {=MAX(IF(Input!$K:$K<C11,Input!$K:$K))} -> 1595.13 | E11: {=MIN(IF(Input!$K:$K>C11,Input!$K:$K))} -> 1624.28 | F11: {=VLOOKUP(D11,Input!$K:$L,2,FALSE)} -> 1468.59 | G11: {=VLOOKUP(E11,Input!$K:$L,2,FALSE)} -> 1491.64 | H11: =((C11-D11)/(D11-E11))*(F11-G11)+F11 -> 1472.4409 | I11: ='Gradient Survey'!B24 -> 10th Grad Stop
C12: ='Gradient Survey'!C25 -> 1500 | D12: {=MAX(IF(Input!$K:$K<C12,Input!$K:$K))} -> 1480.68 | E12: {=MIN(IF(Input!$K:$K>C12,Input!$K:$K))} -> 1509.6 | F12: {=VLOOKUP(D12,Input!$K:$L,2,FALSE)} -> 1372.37 | G12: {=VLOOKUP(E12,Input!$K:$L,2,FALSE)} -> 1397.2 | H12: =((C12-D12)/(D12-E12))*(F12-G12)+F12 -> 1388.9577 | I12: ='Gradient Survey'!B25 -> 11th Grad Stop
C13: ='Gradient Survey'!C26 -> 1431 | D13: {=MAX(IF(Input!$K:$K<C13,Input!$K:$K))} -> 1423.28 | E13: {=MIN(IF(Input!$K:$K>C13,Input!$K:$K))} -> 1452.16 | F13: {=VLOOKUP(D13,Input!$K:$L,2,FALSE)} -> 1322.99 | G13: {=VLOOKUP(E13,Input!$K:$L,2,FALSE)} -> 1347.89 | H13: =((C13-D13)/(D13-E13))*(F13-G13)+F13 -> 1329.6461 | I13: ='Gradient Survey'!B26 -> 12th Grad Stop
... C27: ='Gradient Survey'!C40 -> 17.28 | D27: {=MAX(IF(Input!$K:$K<C27,Input!$K:$K))} -> 2.29 | E27: {=MIN(IF(Input!$K:$K>C27,Input!$K:$K))} -> 42.29 | F27: {=VLOOKUP(D27,Input!$K:$L,2,FALSE)} -> 2.29 | G27: {=VLOOKUP(E27,Input!$K:$L,2,FALSE)} -> 42.29 | H27: =((C27-D27)/(D27-E27))*(F27-G27)+F27 -> 17.28 | I27: ='Gradient Survey'!B40 -> Lub
C29: Midperf Depth
C30: Mid (m MDDF) | D30: m MDBDF1 | E30: m MDBDF2 | F30: m TVDBDF1 | G30: m TVDBDF2 | H30: m TVDBDF | I30: Sand
C31: =Table22[Mid (m MDDF)] -> 2337.5 | D31: {=MAX(IF(Input!$K:$K<C31,Input!$K:$K))} -> 2317.85 | E31: {=MIN(IF(Input!$K:$K>C31,Input!$K:$K))} -> 2347.19 | F31: {=VLOOKUP(D31,Input!$K:$L,2,FALSE)} -> 1905.68 | G31: =VLOOKUP(E31,Input!$K:$L,2,FALSE) -> 1919.88 | H31: =((C31-D31)/(D31-E31))*(F31-G31)+F31 -> 1915.1902 | I31: =Table22[Sand] -> I-68M
C33: Liquid Level
C34: m MDBDF | D34: m MDBDF1 | E34: m MDBDF2 | F34: m TVDBDF1 | G34: m TVDBDF2 | H34: m TVDBDF | I34: Liquid Level
C35: =((H35-F35)/(F35-G35))*(D35-E35)+D35 -> 728.39554 | D35: {=VLOOKUP(F35,Input!L:M, 2, FALSE)} -> 734.38 | E35: {=VLOOKUP(TVD!G35,Input!L:M, 2, FALSE)} -> 705.62 | F35: {=MIN(IF(Input!L:L>TVD!H35,Input!L:L))} -> 700.9 | G35: {=MAX(IF(Input!L:L<TVD!H35,Input!L:L))} -> 674.91 | H35: =Input!P43 -> 695.49192

Sheet Interpretation 
C2: =""&Input!C7&" INTERPRETATION RESULT" -> SGS INTERPRETATION RESULT
C3: Sand | D3: =Input!G17 -> I-68M | J3: FIELD | K3: =Input!C5 -> Larut-A | N3: ='Gradient Stop'!F4 -> PCP | O3: =""&Input!C11&" psi" -> 232 psi
D4: (m) | E4: (ft) | J4: WELL | K4: =Input!C6 -> A-22U | N4: ='Gradient Stop'!F3 -> SITHP | O4: =""&Input!C10&" psi" -> 450 psi
C5: BDF to BTHF | D5: =Input!C26 -> 17.28 | E5: =D5*3.281 -> 56.69568 | J5: ZONE | K5: =Input!G17 -> I-68M
C6: TVDBDF to TVDSS | D6: =Input!C27 -> 37.2 | E6: =D6*3.281 -> 122.0532 | J6: JOB | K6: =Input!C7 -> SGS
C7: DATUM (TVD SS) | D7: =Input!G18 -> 1850 | E7: =D7*3.281 -> 6069.85 | J7: DATE | K7: =Input!C8 -> 43433
C8: DATUM (TVD BDF) | D8: =D7+D6 -> 1887.2 | E8: =E7+E6 -> 6191.9032
S9: `
B10: OPERATION | C10: Depth | I10: ='Gradient Survey'!E12 -> 9246 | M10: ='Gradient Survey'!G12 -> 9084
I11: Pressure | J11: Temperature | K11: Press Grad | L11: Tem Grad. | M11: Pressure | N11: Temperature | O11: Press Grad | P11: Tem Grad.
B12: Description | C12: m TVDBDF | D12: ft TVDBDF | E12: ft TVDSS | F12: m MDBDF | G12: ft MDBDF | H12: m MDTHF | I12: psia | J12: degF | K12: (Psi/ft) | L12: (Deg F/ft) | M12: (Psia) | N12: (DegF) | O12: Psi/ft | P12: Deg F/ft
B13: =TVD!I2 -> Set Depth | C13: =TVD!H2 -> 1894.5774 | D13: =C13*3.281 -> 6216.1086 | E13: =D13-'Interpretation '!$E$6 -> 6094.0554 | F13: =TVD!C2 -> 2295 | G13: =F13*3.281 -> 7529.895 | H13: =F13-$D$5 -> 2277.72 | I13: ='Gradient Survey'!E15 -> 1989.889 | J13: ='Gradient Survey'!F15 -> 253.671 | K13: =IF(I14="","",(I14-I13)/(D14-D13)) -> 0.41237206 | L13: =IF(J14="","",(J14-J13)/(D14-D13)) -> 0 | M13: ='Gradient Survey'!G15 -> 1989.158 | N13: ='Gradient Survey'!H15 -> 253.479 | O13: =IF(M14="","",(M14-M13)/(D14-D13)) -> 0.4052931 | P13: =IF(N14="","",(N14-N13)/(D14-D13)) -> 0.0016726666
B14: =TVD!I3 -> 2nd Grad Stop | C14: =TVD!H3 -> 1874.1693 | D14: =C14*3.281 -> 6149.1496 | E14: =D14-'Interpretation '!$E$6 -> 6027.0964 | F14: =TVD!C3 -> 2253 | G14: =F14*3.281 -> 7392.093 | H14: =F14-$D$5 -> 2235.72 | I14: ='Gradient Survey'!E16 -> 1962.277 | J14: ='Gradient Survey'!F16 -> 253.671 | K14: =IF(I15="","",(I15-I14)/(D15-D14)) -> 0.41362226 | L14: =IF(J15="","",(J15-J14)/(D15-D14)) -> 0.014409295 | M14: ='Gradient Survey'!G16 -> 1962.02 | N14: ='Gradient Survey'!H16 -> 253.367 | O14: =IF(M15="","",(M15-M14)/(D15-D14)) -> 0.40981544 | P14: =IF(N15="","",(N15-N14)/(D15-D14)) -> 0.0093754799
B15: =TVD!I4 -> 3rd Grad Stop | C15: =TVD!H4 -> 1864.4817 | D15: =C15*3.281 -> 6117.3646 | E15: =D15-'Interpretation '!$E$6 -> 5995.3114 | F15: =TVD!C4 -> 2233 | G15: =F15*3.281 -> 7326.473 | H15: =F15-$D$5 -> 2215.72 | I15: ='Gradient Survey'!E17 -> 1949.13 | J15: ='Gradient Survey'!F17 -> 253.213 | K15: =IF(I16="","",(I16-I15)/(D16-D15)) -> 0.41298619 | L15: =IF(J16="","",(J16-J15)/(D16-D15)) -> 0.0068918727 | M15: ='Gradient Survey'!G17 -> 1948.994 | N15: ='Gradient Survey'!H17 -> 253.069 | O15: =IF(M16="","",(M16-M15)/(D16-D15)) -> 0.41226741 | P15: =IF(N16="","",(N16-N15)/(D16-D15)) -> 0.0096072799
B16: =TVD!I5 -> 4th Grad Stop | C16: =TVD!H5 -> 1799.6053 | D16: =C16*3.281 -> 5904.5052 | E16: =D16-'Interpretation '!$E$6 -> 5782.452 | F16: =TVD!C5 -> 2100 | G16: =F16*3.281 -> 6890.1 | H16: =F16-$D$5 -> 2082.72 | I16: ='Gradient Survey'!E18 -> 1861.222 | J16: ='Gradient Survey'!F18 -> 251.746 | K16: =IF(I17="","",(I17-I16)/(D17-D16)) -> 0.41692548 | L16: =IF(J17="","",(J17-J16)/(D17-D16)) -> 0.011914388 | M16: ='Gradient Survey'!G18 -> 1861.239 | N16: ='Gradient Survey'!H18 -> 251.024 | O16: =IF(M17="","",(M17-M16)/(D17-D16)) -> 0.41635653 | P16: =IF(N17="","",(N17-N16)/(D17-D16)) -> 0.012940721
B17: =TVD!I6 -> 5th Grad Stop | C17: =TVD!H6 -> 1744.9638 | D17: =C17*3.281 -> 5725.2261 | E17: =D17-'Interpretation '!$E$6 -> 5603.1729 | F17: =TVD!C6 -> 2000 | G17: =F17*3.281 -> 6562 | H17: =F17-$D$5 -> 1982.72 | I17: ='Gradient Survey'!E19 -> 1786.476 | J17: ='Gradient Survey'!F19 -> 249.61 | K17: =IF(I18="","",(I18-I17)/(D18-D17)) -> 0.41854003 | L17: =IF(J18="","",(J18-J17)/(D18-D17)) -> 0.014522783 | M17: ='Gradient Survey'!G19 -> 1786.595 | N17: ='Gradient Survey'!H19 -> 248.704 | O17: =IF(M18="","",(M18-M17)/(D18-D17)) -> 0.41833727 | P17: =IF(N18="","",(N18-N17)/(D18-D17)) -> 0.013321422
B18: =TVD!I7 -> 6th Grad Stop | C18: =TVD!H7 -> 1684.8369 | D18: =C18*3.281 -> 5527.9499 | E18: =D18-'Interpretation '!$E$6 -> 5405.8967 | F18: =TVD!C7 -> 1900 | G18: =F18*3.281 -> 6233.9 | H18: =F18-$D$5 -> 1882.72 | I18: ='Gradient Survey'!E20 -> 1703.908 | J18: ='Gradient Survey'!F20 -> 246.745 | K18: =IF(I19="","",(I19-I18)/(D19-D18)) -> 0.42003181 | L18: =IF(J19="","",(J19-J18)/(D19-D18)) -> 0.011188389 | M18: ='Gradient Survey'!G20 -> 1704.067 | N18: ='Gradient Survey'!H20 -> 246.076 | O18: =IF(M19="","",(M19-M18)/(D19-D18)) -> 0.41926952 | P18: =IF(N19="","",(N19-N18)/(D19-D18)) -> 0.011194537
B19: =TVD!I8 -> 7th Grad Stop | C19: =TVD!H8 -> 1635.2579 | D19: =C19*3.281 -> 5365.2812 | E19: =D19-'Interpretation '!$E$6 -> 5243.228 | F19: =TVD!C8 -> 1823 | G19: =F19*3.281 -> 5981.263 | H19: =F19-$D$5 -> 1805.72 | I19: ='Gradient Survey'!E21 -> 1635.582 | J19: ='Gradient Survey'!F21 -> 244.925 | K19: =IF(I20="","",(I20-I19)/(D20-D19)) -> 0.41918077 | L19: =IF(J20="","",(J20-J19)/(D20-D19)) -> 0.036223782 | M19: ='Gradient Survey'!G21 -> 1635.865 | N19: ='Gradient Survey'!H21 -> 244.255 | O19: =IF(M20="","",(M20-M19)/(D20-D19)) -> 0.42578587 | P19: =IF(N20="","",(N20-N19)/(D20-D19)) -> 0.029757732
B20: =TVD!I9 -> 8th Grad Stop | C20: =TVD!H9 -> 1626.4906 | D20: =C20*3.281 -> 5336.5156 | E20: =D20-'Interpretation '!$E$6 -> 5214.4624 | F20: =TVD!C9 -> 1810 | G20: =F20*3.281 -> 5938.61 | H20: =F20-$D$5 -> 1792.72 | I20: ='Gradient Survey'!E22 -> 1623.524 | J20: ='Gradient Survey'!F22 -> 243.883 | K20: =IF(I21="","",(I21-I20)/(D21-D20)) -> 0.41837154 | L20: =IF(J21="","",(J21-J20)/(D21-D20)) -> 0.012157697 | M20: ='Gradient Survey'!G22 -> 1623.617 | N20: ='Gradient Survey'!H22 -> 243.399 | O20: =IF(M21="","",(M21-M20)/(D21-D20)) -> 0.41702243 | P20: =IF(N21="","",(N21-N20)/(D21-D20)) -> 0.012441719
B21: =TVD!I10 -> 9th Grad Stop | C21: =TVD!H10 -> 1549.227 | D21: =C21*3.281 -> 5083.0137 | E21: =D21-'Interpretation '!$E$6 -> 4960.9605 | F21: =TVD!C10 -> 1700 | G21: =F21*3.281 -> 5577.7 | H21: =F21-$D$5 -> 1682.72 | I21: ='Gradient Survey'!E23 -> 1517.466 | J21: ='Gradient Survey'!F23 -> 240.801 | K21: =IF(I22="","",(I22-I21)/(D22-D21)) -> 0.41616274 | L21: =IF(J22="","",(J22-J21)/(D22-D21)) -> 0.011495024 | M21: ='Gradient Survey'!G23 -> 1517.901 | N21: ='Gradient Survey'!H23 -> 240.245 | O21: =IF(M22="","",(M22-M21)/(D22-D21)) -> 0.41672241 | P21: =IF(N22="","",(N22-N21)/(D22-D21)) -> 0.013836897
B22: =TVD!I11 -> 10th Grad Stop | C22: =TVD!H11 -> 1472.4409 | D22: =C22*3.281 -> 4831.0786 | E22: =D22-'Interpretation '!$E$6 -> 4709.0254 | F22: =TVD!C11 -> 1600 | G22: =F22*3.281 -> 5249.6 | H22: =F22-$D$5 -> 1582.72 | I22: ='Gradient Survey'!E24 -> 1412.62 | J22: ='Gradient Survey'!F24 -> 237.905 | K22: =IF(I23="","",(I23-I22)/(D23-D22)) -> 0.41702258 | L22: =IF(J23="","",(J23-J22)/(D23-D22)) -> 0.013880551 | M22: ='Gradient Survey'!G24 -> 1412.914 | N22: ='Gradient Survey'!H24 -> 236.759 | O22: =IF(M23="","",(M23-M22)/(D23-D22)) -> 0.41579954 | P22: =IF(N23="","",(N23-N22)/(D23-D22)) -> 0.014972157
B23: =TVD!I12 -> 11th Grad Stop | C23: =TVD!H12 -> 1388.9577 | D23: =C23*3.281 -> 4557.1701 | E23: =D23-'Interpretation '!$E$6 -> 4435.1169 | F23: =TVD!C12 -> 1500 | G23: =F23*3.281 -> 4921.5 | H23: =F23-$D$5 -> 1482.72 | I23: ='Gradient Survey'!E25 -> 1298.394 | J23: ='Gradient Survey'!F25 -> 234.103 | K23: =IF(I24="","",(I24-I23)/(D24-D23)) -> 0.41798796 | L23: =IF(J24="","",(J24-J23)/(D24-D23)) -> 0.030616445 | M23: ='Gradient Survey'!G25 -> 1299.023 | N23: ='Gradient Survey'!H25 -> 232.658 | O23: =IF(M24="","",(M24-M23)/(D24-D23)) -> 0.41818323 | P23: =IF(N24="","",(N24-N23)/(D24-D23)) -> 0.037389267
B24: =TVD!I13 -> 12th Grad Stop | C24: =TVD!H13 -> 1329.6461 | D24: =C24*3.281 -> 4362.5688 | E24: =D24-'Interpretation '!$E$6 -> 4240.5156 | F24: =TVD!C13 -> 1431 | G24: =F24*3.281 -> 4695.111 | H24: =F24-$D$5 -> 1413.72 | I24: ='Gradient Survey'!E26 -> 1217.053 | J24: ='Gradient Survey'!F26 -> 228.145 | K24: =IF(I25="","",(I25-I24)/(D25-D24)) -> 0.4237064 | L24: =IF(J25="","",(J25-J24)/(D25-D24)) -> 0.069326124 | M24: ='Gradient Survey'!G26 -> 1217.644 | N24: ='Gradient Survey'!H26 -> 225.382 | O24: =IF(M25="","",(M25-M24)/(D25-D24)) -> 0.4205329 | P24: =IF(N25="","",(N25-N24)/(D25-D24)) -> 0.037608633
... B38: =TVD!I27 -> Lub | C38: =TVD!H27 -> 17.28 | D38: =C38*3.281 -> 56.69568 | E38: =D38-'Interpretation '!$E$6 -> -65.35752 | F38: =TVD!C27 -> 17.28 | G38: =F38*3.281 -> 56.69568 | H38: =F38-$D$5 -> 0 | I38: ='Gradient Survey'!E40 -> 439.948 | J38: ='Gradient Survey'!F40 -> 114.893 | K38: =IF(I39="","",(I39-I38)/(D39-D38)) | L38: =IF(J39="","",(J39-J38)/(D39-D38)) | M38: ='Gradient Survey'!G40 -> 440.277 | N38: ='Gradient Survey'!H40 -> 105.878 | O38: =IF(M39="","",(M39-M38)/(D39-D38)) | P38: =IF(N39="","",(N39-N38)/(D39-D38))
B41: To calculate TVD (interpolation) | J41: m-MDBDF | K41: ft-MDBDF | L41: ft-TVD BDF | M41: ft-TVDss
C42: m | D42: ft | G42: ="Datum depth ("&Input!G17&")" -> Datum depth (I-68M) | J42: =Input!G19 -> 2279.8229 | K42: =J42*3.281 -> 7480.0991 | L42: =M42+E6 -> 6191.9032 | M42: =E7 -> 6069.85
B43: MDDF1 | C43: =TVD!D31 -> 2317.85 | D43: =C43*3.281 -> 7604.8659 | G43: Survey Depth | J43: =F13 -> 2295 | K43: =J43*3.281 -> 7529.895 | L43: =D13 -> 6216.1086 | M43: =E13 -> 6094.0554
B44: MDDF2 | C44: =TVD!E31 -> 2347.19 | D44: =C44*3.281 -> 7701.1304 | G44: ="Midperf Depth ("&Input!F24&")" -> Midperf Depth (I-68M) | J44: =Input!I24 -> 2337.5 | K44: =J44*3.281 -> 7669.3375 | L44: =TVD!H31*3.281 -> 6283.7391 | M44: =L44-E6 -> 6161.6859
B45: TVDDF1 | C45: =TVD!F31 -> 1905.68 | D45: =C45*3.281 -> 6252.5361
B46: TVDDF2 | C46: =TVD!G31 -> 1919.88 | D46: =C46*3.281 -> 6299.1263 | G46: Reservoir Gradient | J46: =AVERAGE(K13:K26) -> 0.41716491 | K46: psi/ft
B47: gradient | C47: =(C46-C45)/(C44-C43) -> 0.48398091 | D47: =(D46-D45)/(D44-D43) -> 0.48398091
I48: =Input!C17 -> 9246 | L48: =Input!C21 -> 9084
G49: Static grad at survey depth | I49: =K13 -> 0.41237206 | J49: Psi/ft | L49: =O13 -> 0.4052931 | M49: Psi/ft
B50: MDBDF REQ | C50: =TVD!C31 -> 2337.5 | D50: =C50*3.281 -> 7669.3375 | E50: INPUT | G50: P @ surv. depth | I50: =I13 -> 1989.889 | J50: Psia | L50: =M13 -> 1989.158 | M50: Psia
B51: TVDBDF REQ | C51: =TVD!H31 -> 1915.1902 | D51: =C51*3.281 -> 6283.7391 | E51: CAL | G51: ="P @ mid perf ("&Input!F24&")" -> P @ mid perf (I-68M) | I51: =IF(I49>0,(M44-M43)*I49+I50,"n/a") -> 2017.778 | J51: Psia | L51: =IF(L49>0,(M44-M43)*L49+L50,"n/a") -> 2016.5682 | M51: Psia
G52: ="P @ datum ("&Input!F24&")" -> P @ datum (I-68M) | I52: =I51+(M42-M44)*J46 -> 1979.4672 | J52: Psia | L52: =L51+(M42-M44)*J46 -> 1978.2575 | M52: Psia
F56: Notes:
F58: ="- Calculation of P @ datum utilizes reservoir gradient of "&ROUND(J46,4)&" psi/ft." -> - Calculation of P @ datum utilizes reservoir gradient of 0.4172 psi/ft.
F59: ="- Calculation of P @midperf utilizes fluid gradient at set depth; "&ROUND(I49,4)&" psi/ft and "&ROUND(L49,4)&" psi/ft." -> - Calculation of P @midperf utilizes fluid gradient at set depth; 0.4124 psi/ft and 0.4053 psi/ft.
C62: P (9247) | D62: T (9247) | E62: Po (9247)
...

Sheet Finding & Conclusion
A1: Dimension Bid (M) Sdn Bhd
A3: ELECTRONIC DATA ACQUISITION
B5: ="Finding & Conclusion For "&'Gradient Stop'!J3&" ("&'Interpretation '!K5&")" -> Finding & Conclusion For A-22U (I-68M)
A7: 1 | B7: The objective of this survey is for data acquisition purposes, subsurface surveillance and for gas lift optimization activities.
A8: 2 | B8: The pressure reading was stabilized for every gradient stop.
A9: 3 | B9: ="THP maintained from start until the end of the survey @ "&Input!C10&" psi." -> THP maintained from start until the end of the survey @ 450 psi.
A10: 4 | B10: ="PCP maintained from start until end of survey @ "&Input!C11&" psi." -> PCP maintained from start until end of survey @ 232 psi.
A11: 5 | B11: =IF(Input!C7="SGS", "Liquid level was estimated at "&ROUND(Input!P40,2)&" ft TVDBDF @ "&ROUND(Input!P45,2)&" ft MDBDF", "No liquid level was observed (flowing)") -> Liquid level was estimated at 2281.91 ft TVDBDF @ 2389.87 ft MDBDF

Sheet Result Graph Top Gauge
A1: ="Result Graph For "&Input!C7&" @ "&Input!C6&" Using PPS-28 Gauge #"&Input!C17&"" -> Result Graph For SGS @ A-22U Using PPS-28 Gauge #9246
B3: Max. Pressure : | D3: =Input!C18 -> 2553.337 | E3: psia | G3: Max. Temperature : | I3: =Input!C19 -> 233.418 | J3: degF

Sheet Result Graph Bottom Gauge
A1: ="Result Graph For "&Input!C21&" @ "&Input!C6&" Using PPS-28 Gauge #"&Input!C21&"" -> Result Graph For 9084 @ A-22U Using PPS-28 Gauge #9084
B3: Max. Pressure : | D3: =Input!C22 -> 2553.506 | E3: psia | G3: Max. Temperature : | I3: =Input!C23 -> 233.418 | J3: degF

Sheet DOR

Sheet Pressure Monitor
B2: Well No | D2: =Input!C6 -> A-22U
B3: Date | D3: =Input!C8 -> 43433
B4: Gas Lift Shut-In time
B5: WV Shut-In Time
B6: Initial PCP
B7: Initial FTHP
B9: Time (Hrs) | C9: PCP (psi) | D9: SITHP (psi) | E9: Flow Rate (km3/d) | F9: Remark
