Workbook

Sheet SGA data
B1: Value
A2: 1
A3: 2
A4: 3 | D4: Warm-up. No included for calculations
A5: 4
A6: 5
A7: 6
A8: 7
A9: 8
A10: 9
A11: 10
A12: 11
A13: 12
A14: 13 | D14: MIN
A15: 14 | D15: =MIN(B7:B31) -> 0
A16: 15
A17: 16 | D17: MOY
A18: 17 | D18: =IF(COUNTA(B2:B31)<30,0,AVERAGE(B7:B31)) -> 0
A19: 18
A20: 19 | D20: MAX
A21: 20 | D21: =MAX(B7:B31) -> 0
A22: 21
A23: 22
A24: 23
A25: 24
A26: 25
A27: 26
A28: 27
A29: 28
A30: 29
A31: 30

Sheet Gauss Curve
D1: GAUSS CURVE Courbe de Gauss
D4: REF. : | E4: ENQ0009A_aammjj_Designation
A5: Réalisé par : | D5: Date : | G5: Objet :
D6: jj/mm/aaaa
C11: Tolerance min. | D11: 24
C12: Tolerance max. | D12: 32 | N12: Calcul de l'histogramme
C13: IT | D13: =D12-D11 -> 8 | N13: Kt =(nb de classe) = | P13: =SQRT(C22) -> 0 | Q13: arrondi à | R13: =IF(ROUND(P13,0)<15,ROUND(P13,0),15) -> 0
N14: Wt =(étendue) = | P14: =C23-C24 -> 0
B15: Read values Valeurs relevées | N15: ht =(larg de classe) = | P15: =P14/R13 -> #DIV/0! | Q15: arrondi à | R15: =IF(ROUND(P15*(1/C21),0)*C21=0,C21,ROUND(P15*(1/C21),0)*C21) -> #DIV/0!
N16: Limite inférieure = | P16: =C24-(C21/2) -> -0.5
N17: Test du Khi 2
N18: Classes | O18: =P16-((6-ROUND(R13/2,0))*R15) -> #DIV/0! | P18: =O18+$R15 -> #DIV/0! | Q18: =P18+$R15 -> #DIV/0! | R18: =Q18+$R15 -> #DIV/0! | S18: =R18+$R15 -> #DIV/0! | T18: =S18+$R15 -> #DIV/0! | U18: =T18+$R15 -> #DIV/0! | V18: =U18+$R15 -> #DIV/0! | W18: =V18+$R15 -> #DIV/0! | ... AC18: =AB18+$R15 -> #DIV/0!
N19: Milieu | O19: =O18-$R$15/2 -> #DIV/0! | P19: =P18-$R$15/2 -> #DIV/0! | Q19: =Q18-$R$15/2 -> #DIV/0! | R19: =R18-$R$15/2 -> #DIV/0! | S19: =S18-$R$15/2 -> #DIV/0! | T19: =T18-$R$15/2 -> #DIV/0! | U19: =U18-$R$15/2 -> #DIV/0! | V19: =V18-$R$15/2 -> #DIV/0! | ... AC19: =AC18-$R$15/2 -> #DIV/0!
N20: Nb/classe | O20: =FREQUENCY('SGA data'!$B2:$B31,O18) -> 0 | P20: =FREQUENCY('SGA data'!$B2:$B31,P18)-FREQUENCY('SGA data'!$B2:$B31,O18) -> 0 | Q20: =FREQUENCY('SGA data'!$B2:$B31,Q18)-FREQUENCY('SGA data'!$B2:$B31,P18) -> 0 | R20: =FREQUENCY('SGA data'!$B2:$B31,R18)-FREQUENCY('SGA data'!$B2:$B31,Q18) -> 0 | S20: =FREQUENCY('SGA data'!$B2:$B31,S18)-FREQUENCY('SGA data'!$B2:$B31,R18) -> 0 | T20: =FREQUENCY('SGA data'!$B2:$B31,T18)-FREQUENCY('SGA data'!$B2:$B31,S18) -> 0 | U20: =FREQUENCY('SGA data'!$B2:$B31,U18)-FREQUENCY('SGA data'!$B2:$B31,T18) -> 0 | V20: =FREQUENCY('SGA data'!$B2:$B31,V18)-FREQUENCY('SGA data'!$B2:$B31,U18) -> 0 | W20: =FREQUENCY('SGA data'!$B2:$B31,W18)-FREQUENCY('SGA data'!$B2:$B31,V18) -> 0 | ... AC20: =FREQUENCY('SGA data'!$B2:$B31,AC18)-FREQUENCY('SGA data'!$B2:$B31,AB18) -> 0
B21: Résolution (α) | C21: 1 | E21: Ecart type (σ) | F21: =STDEV('SGA data'!B7:B31) -> #DIV/0! | H21: =C25-(F25*F21)/SQRT(C22) -> #DIV/0! | I21: < Xb < | J21: =C25+(F25*F21)/SQRT(C22) -> #DIV/0! | N21: Gauss | O21: =NORMDIST(O19,$C$25,$F$21,FALSE)*$C$22/$AD$22 -> #DIV/0! | P21: =NORMDIST(P19,$C$25,$F$21,FALSE)*$C$22/$AD$22 -> #DIV/0! | Q21: =NORMDIST(Q19,$C$25,$F$21,FALSE)*$C$22/$AD$22 -> #DIV/0! | R21: =NORMDIST(R19,$C$25,$F$21,FALSE)*$C$22/$AD$22 -> #DIV/0! | S21: =NORMDIST(S19,$C$25,$F$21,FALSE)*$C$22/$AD$22 -> #DIV/0! | T21: =NORMDIST(T19,$C$25,$F$21,FALSE)*$C$22/$AD$22 -> #DIV/0! | U21: =NORMDIST(U19,$C$25,$F$21,FALSE)*$C$22/$AD$22 -> #DIV/0! | V21: =NORMDIST(V19,$C$25,$F$21,FALSE)*$C$22/$AD$22 -> #DIV/0! | ... AC21: =NORMDIST(AC19,$C$25,$F$21,FALSE)*$C$22/$AD$22 -> #DIV/0!
B22: nb. D'échantillon (N) | C22: =COUNTA('SGA data'!B7:B31) -> 0 | E22: Xb-3σ | F22: =C25-(3*F21) -> #DIV/0! | H22: =SQRT(((C22-1)*F21*F21)/(CHIINV(C21/2,C22-1))) -> #DIV/0! | I22: < σ < | J22: =SQRT(((C22-1)*F21*F21)/(CHIINV(1-(C21/2),C22-1))) -> #DIV/0! | O22: =NORMDIST(O19,$C$25,$F$21,FALSE) -> #DIV/0! | P22: =NORMDIST(P19,$C$25,$F$21,FALSE) -> #DIV/0! | Q22: =NORMDIST(Q19,$C$25,$F$21,FALSE) -> #DIV/0! | R22: =NORMDIST(R19,$C$25,$F$21,FALSE) -> #DIV/0! | S22: =NORMDIST(S19,$C$25,$F$21,FALSE) -> #DIV/0! | T22: =NORMDIST(T19,$C$25,$F$21,FALSE) -> #DIV/0! | U22: =NORMDIST(U19,$C$25,$F$21,FALSE) -> #DIV/0! | V22: =NORMDIST(V19,$C$25,$F$21,FALSE) -> #DIV/0! | ... AC22: =NORMDIST(AC19,$C$25,$F$21,FALSE) -> #DIV/0! | AD22: =SUM(O22:AC22) -> #DIV/0!
B23: valeure maxi | C23: =MAX('SGA data'!B7:B31) -> 0 | E23: Xb+3σ | F23: =C25+(3*F21) -> #DIV/0!
B24: valeure mini | C24: =MIN('SGA data'!B7:B31) -> 0 | E24: 6σ | F24: =6*F21 -> #DIV/0!
B25: moyenne (Xb) | C25: =AVERAGE('SGA data'!B7:B31) -> #DIV/0! | E25: t | F25: =TINV(C21,C22-1) -> #NUM!
A53: I-CUBE RESEARCH - ZI Thibaud - 30, Boulevard de Thibaud - 31104 TOULOUSE Cedex 1 - TEL +33 (5) 34 61 16 60 - FAX +33 (5) 34 61 23 00 SAS AU CAPITAL DE 1 010 000 - RCS TOULOUSE : 513 104 811
A54: Ce document est la propriété de I-Cube Research ; il ne peut être ni communiqué à des tiers, ni reproduit sans l’autorisation préalable écrite de I-Cube Research. This document is the exclusive property of I-Cube Research ; it mustn’t be communicated to third parties or reproduced without written authorization from I-Cube Research.
A55: Date : 21/02/2014 | L55: Page 1 of 2
